{"text_format":"1","workbook":"xlsx","n_sheets":3,"sheets":["List1","List2","List3"],"not_rendered":{"charts":0,"images":0,"macros":1,"external_links":0,"defined_names":2,"comments":0,"pivot_tables":0},"unopened":[],"bounds":{"document_bytes":16777216,"sheet_cells":100000,"rows_first":2000,"rows_last":500,"rows_between":2000,"halvings":0,"cell_chars":16384,"cell_head_chars":4096},"cells_cut":0,"cells_raw":0,"read":"whole","date_system":"1900"}

{"sheet":"List1","index":0,"n_rows":101,"n_cols":42,"rows_kept":101,"cut":false,"hidden":false,"merged":[[0,6,0,7],[0,8,0,9],[0,10,0,11],[0,1,1,1],[0,2,1,2],[0,3,1,3],[0,32,0,33],[0,34,0,35],[0,36,0,37],[0,38,0,39],[0,0,1,0],[0,22,0,23],[0,24,0,25],[0,26,0,27],[0,28,0,29],[0,30,0,31],[0,12,0,13],[0,14,0,15],[0,16,0,17],[0,18,0,19],[0,20,0,21],[0,4,0,5]]}
["Pořadí","Jméno","Body\n8 nej","Body\ncelkem","1. \nNAMCC\n6.5.",null,"UNO 11.6",null,"Hrádek",null,"L.Boh.",null,"Na Vrších",null,"Osyčina",null,"Sv.Hamry",null,"Svratka",null,"9.",null,"10.",null,"11.",null,"12.",null,"13.",null,"14.",null,"15.",null,"16.",null,"17.",null,"18.",null,null,"Setřídit: Ctrl+Shift+S"]
[null,null,null,null,"Poř.","Body","Poř.","Body","Poř.","Body","Poř.","Body","Poř.","Body","Poř.","Body","Poř.","Body","Poř.","Body","Poř.","Body","Poř.","Body","Poř.","Body","Poř.","Body","Poř.","Body","Poř.","Body","Poř.","Body","Poř.","Body","Poř.","Body","Poř.","Body"]
[{"$f":"IF(ISBLANK(B3),\"\",1)","v":1},"Stránský Bohumil",{"$f":"IF(IFERROR(LARGE(F3:AN3,1),0)+IFERROR(LARGE(F3:AN3,2),0)+IFERROR(LARGE(F3:AN3,3),0)+IFERROR(LARGE(F3:AN3,4),0)+IFERROR(LARGE(F3:AN3,5),0)+IFERROR(LARGE(F3:AN3,6),0)+IFERROR(LARGE(F3:AN3,7),0)++IFERROR(LARGE(F3:AN3,8),0)=0,\"\",IFERROR(LARGE(F3:AN3,1),0)+IFERROR(LARGE(F3:AN3,2),0)+IFERROR(LARGE(F3:AN3,3),0)+IFERROR(LARGE(F3:AN3,4),0)+IFERROR(LARGE(F3:AN3,5),0)+IFERROR(LARGE(F3:AN3,6),0)+IFERROR(LARGE(F3:AN3,7),0)+IFERROR(LARGE(F3:AND3,8),0))","v":200},{"$f":"IF(SUM(F3,H3,J3,L3,N3,P3,R3,T3,V3,X3,Z3,AB3,AD3,AF3,AH3,AJ3,AL3,AN3)=0,\"\",SUM(F3,H3,J3,L3,N3,P3,R3,T3,V3,X3,Z3,AB3,AD3,AF3,AH3,AJ3,AL3,AN3))","v":200},"1",{"$f":"IF(ISBLANK(E3),\"\",IF(VALUE(E3)>89,1,VLOOKUP(VALUE(E3),List2!$A$1:'List2'!$B$90,2)))","v":200},null,{"$f":"IF(ISBLANK(G3),\"\",IF(VALUE(G3)>89,1,VLOOKUP(VALUE(G3),List2!$A$1:'List2'!$B$90,2)))","v":""},null,{"$f":"IF(ISBLANK(I3),\"\",IF(VALUE(I3)>89,1,VLOOKUP(VALUE(I3),List2!$A$1:'List2'!$B$90,2)))","v":""},null,{"$f":"IF(ISBLANK(K3),\"\",IF(VALUE(K3)>89,1,VLOOKUP(VALUE(K3),List2!$A$1:'List2'!$B$90,2)))","v":""},null,{"$f":"IF(ISBLANK(M3),\"\",IF(VALUE(M3)>89,1,VLOOKUP(VALUE(M3),List2!$A$1:'List2'!$B$90,2)))","v":""},null,{"$f":"IF(ISBLANK(O3),\"\",IF(VALUE(O3)>89,1,VLOOKUP(VALUE(O3),List2!$A$1:'List2'!$B$90,2)))","v":""},null,{"$f":"IF(ISBLANK(Q3),\"\",IF(VALUE(Q3)>89,1,VLOOKUP(VALUE(Q3),List2!$A$1:'List2'!$B$90,2)))","v":""},null,{"$f":"IF(ISBLANK(S3),\"\",IF(VALUE(S3)>89,1,VLOOKUP(VALUE(S3),List2!$A$1:'List2'!$B$90,2)))","v":""},null,{"$f":"IF(ISBLANK(U3),\"\",IF(VALUE(U3)>89,1,VLOOKUP(VALUE(U3),List2!$A$1:'List2'!$B$90,2)))","v":""},null,{"$f":"IF(ISBLANK(W3),\"\",IF(VALUE(W3)>89,1,VLOOKUP(VALUE(W3),List2!$A$1:'List2'!$B$90,2)))","v":""},null,{"$f":"IF(ISBLANK(Y3),\"\",IF(VALUE(Y3)>89,1,VLOOKUP(VALUE(Y3),List2!$A$1:'List2'!$B$90,2)))","v":""},null,{"$f":"IF(ISBLANK(AA3),\"\",IF(VALUE(AA3)>89,1,VLOOKUP(VALUE(AA3),List2!$A$1:'List2'!$B$90,2)))","v":""},null,{"$f":"IF(ISBLANK(AC3),\"\",IF(VALUE(AC3)>89,1,VLOOKUP(VALUE(AC3),List2!$A$1:'List2'!$B$90,2)))","v":""},null,{"$f":"IF(ISBLANK(AE3),\"\",IF(VALUE(AE3)>89,1,VLOOKUP(VALUE(AE3),List2!$A$1:'List2'!$B$90,2)))","v":""},null,{"$f":"IF(ISBLANK(AG3),\"\",IF(VALUE(AG3)>89,1,VLOOKUP(VALUE(AG3),List2!$A$1:'List2'!$B$90,2)))","v":""},null,{"$f":"IF(ISBLANK(AI3),\"\",IF(VALUE(AI3)>89,1,VLOOKUP(VALUE(AI3),List2!$A$1:'List2'!$B$90,2)))","v":""},null,{"$f":"IF(ISBLANK(AK3),\"\",IF(VALUE(AK3)>89,1,VLOOKUP(VALUE(AK3),List2!$A$1:'List2'!$B$90,2)))","v":""},null,{"$f":"IF(ISBLANK(AM3),\"\",IF(VALUE(AM3)>89,1,VLOOKUP(VALUE(AM3),List2!$A$1:'List2'!$B$90,2)))","v":""},null,{"$f":"IFERROR(LARGE(F3:AN3,1),0)+IFERROR(LARGE(F3:AN3,2),0)+IFERROR(LARGE(F3:AN3,3),0)+IFERROR(LARGE(F3:AN3,4),0)+IFERROR(LARGE(F3:AN3,5),0)+IFERROR(LARGE(F3:AN3,6),0)+IFERROR(LARGE(F3:AN3,7),0)+IFERROR(LARGE(F3:AN3,8),0)","v":200}]
[{"$f":"IF(OR(ISBLANK(B4),A3=\"\"),\"\",A3+1)","v":2},"Tomeš Jiří",350,350,"2",{"$f":"IF(ISBLANK(E4),\"\",IF(VALUE(E4)>89,1,VLOOKUP(VALUE(E4),List2!$A$1:'List2'!$B$90,2)))","v":180},"3",{"$f":"IF(ISBLANK(G4),\"\",IF(VALUE(G4)>89,1,VLOOKUP(VALUE(G4),List2!$A$1:'List2'!$B$90,2)))","v":170},null,{"$f":"IF(ISBLANK(I4),\"\",IF(VALUE(I4)>89,1,VLOOKUP(VALUE(I4),List2!$A$1:'List2'!$B$90,2)))","v":""},null,{"$f":"IF(ISBLANK(K4),\"\",IF(VALUE(K4)>89,1,VLOOKUP(VALUE(K4),List2!$A$1:'List2'!$B$90,2)))","v":""},null,{"$f":"IF(ISBLANK(M4),\"\",IF(VALUE(M4)>89,1,VLOOKUP(VALUE(M4),List2!$A$1:'List2'!$B$90,2)))","v":""},null,{"$f":"IF(ISBLANK(O4),\"\",IF(VALUE(O4)>89,1,VLOOKUP(VALUE(O4),List2!$A$1:'List2'!$B$90,2)))","v":""},null,{"$f":"IF(ISBLANK(Q4),\"\",IF(VALUE(Q4)>89,1,VLOOKUP(VALUE(Q4),List2!$A$1:'List2'!$B$90,2)))","v":""},null,{"$f":"IF(ISBLANK(S4),\"\",IF(VALUE(S4)>89,1,VLOOKUP(VALUE(S4),List2!$A$1:'List2'!$B$90,2)))","v":""},null,{"$f":"IF(ISBLANK(U4),\"\",IF(VALUE(U4)>89,1,VLOOKUP(VALUE(U4),List2!$A$1:'List2'!$B$90,2)))","v":""},null,{"$f":"IF(ISBLANK(W4),\"\",IF(VALUE(W4)>89,1,VLOOKUP(VALUE(W4),List2!$A$1:'List2'!$B$90,2)))","v":""},null,{"$f":"IF(ISBLANK(Y4),\"\",IF(VALUE(Y4)>89,1,VLOOKUP(VALUE(Y4),List2!$A$1:'List2'!$B$90,2)))","v":""},null,{"$f":"IF(ISBLANK(AA4),\"\",IF(VALUE(AA4)>89,1,VLOOKUP(VALUE(AA4),List2!$A$1:'List2'!$B$90,2)))","v":""},null,{"$f":"IF(ISBLANK(AC4),\"\",IF(VALUE(AC4)>89,1,VLOOKUP(VALUE(AC4),List2!$A$1:'List2'!$B$90,2)))","v":""},null,{"$f":"IF(ISBLANK(AE4),\"\",IF(VALUE(AE4)>89,1,VLOOKUP(VALUE(AE4),List2!$A$1:'List2'!$B$90,2)))","v":""},null,{"$f":"IF(ISBLANK(AG4),\"\",IF(VALUE(AG4)>89,1,VLOOKUP(VALUE(AG4),List2!$A$1:'List2'!$B$90,2)))","v":""},null,{"$f":"IF(ISBLANK(AI4),\"\",IF(VALUE(AI4)>89,1,VLOOKUP(VALUE(AI4),List2!$A$1:'List2'!$B$90,2)))","v":""},null,{"$f":"IF(ISBLANK(AK4),\"\",IF(VALUE(AK4)>89,1,VLOOKUP(VALUE(AK4),List2!$A$1:'List2'!$B$90,2)))","v":""},null,{"$f":"IF(ISBLANK(AM4),\"\",IF(VALUE(AM4)>89,1,VLOOKUP(VALUE(AM4),List2!$A$1:'List2'!$B$90,2)))","v":""},null,350]
[{"$f":"IF(OR(ISBLANK(B5),A4=\"\"),\"\",A4+1)","v":3},"Sládek František",952,952,"3",{"$f":"IF(ISBLANK(E5),\"\",IF(VALUE(E5)>89,1,VLOOKUP(VALUE(E5),List2!$A$1:'List2'!$B$90,2)))","v":170},"4",{"$f":"IF(ISBLANK(G5),\"\",IF(VALUE(G5)>89,1,VLOOKUP(VALUE(G5),List2!$A$1:'List2'!$B$90,2)))","v":162},"5",{"$f":"IF(ISBLANK(I5),\"\",IF(VALUE(I5)>89,1,VLOOKUP(VALUE(I5),List2!$A$1:'List2'!$B$90,2)))","v":156},"1",{"$f":"IF(ISBLANK(K5),\"\",IF(VALUE(K5)>89,1,VLOOKUP(VALUE(K5),List2!$A$1:'List2'!$B$90,2)))","v":200},null,{"$f":"IF(ISBLANK(M5),\"\",IF(VALUE(M5)>89,1,VLOOKUP(VALUE(M5),List2!$A$1:'List2'!$B$90,2)))","v":""},"9",{"$f":"IF(ISBLANK(O5),\"\",IF(VALUE(O5)>89,1,VLOOKUP(VALUE(O5),List2!$A$1:'List2'!$B$90,2)))","v":140},"14",{"$f":"IF(ISBLANK(Q5),\"\",IF(VALUE(Q5)>89,1,VLOOKUP(VALUE(Q5),List2!$A$1:'List2'!$B$90,2)))","v":124},null,{"$f":"IF(ISBLANK(S5),\"\",IF(VALUE(S5)>89,1,VLOOKUP(VALUE(S5),List2!$A$1:'List2'!$B$90,2)))","v":""},null,{"$f":"IF(ISBLANK(U5),\"\",IF(VALUE(U5)>89,1,VLOOKUP(VALUE(U5),List2!$A$1:'List2'!$B$90,2)))","v":""},null,{"$f":"IF(ISBLANK(W5),\"\",IF(VALUE(W5)>89,1,VLOOKUP(VALUE(W5),List2!$A$1:'List2'!$B$90,2)))","v":""},null,{"$f":"IF(ISBLANK(Y5),\"\",IF(VALUE(Y5)>89,1,VLOOKUP(VALUE(Y5),List2!$A$1:'List2'!$B$90,2)))","v":""},null,{"$f":"IF(ISBLANK(AA5),\"\",IF(VALUE(AA5)>89,1,VLOOKUP(VALUE(AA5),List2!$A$1:'List2'!$B$90,2)))","v":""},null,{"$f":"IF(ISBLANK(AC5),\"\",IF(VALUE(AC5)>89,1,VLOOKUP(VALUE(AC5),List2!$A$1:'List2'!$B$90,2)))","v":""},null,{"$f":"IF(ISBLANK(AE5),\"\",IF(VALUE(AE5)>89,1,VLOOKUP(VALUE(AE5),List2!$A$1:'List2'!$B$90,2)))","v":""},null,{"$f":"IF(ISBLANK(AG5),\"\",IF(VALUE(AG5)>89,1,VLOOKUP(VALUE(AG5),List2!$A$1:'List2'!$B$90,2)))","v":""},null,{"$f":"IF(ISBLANK(AI5),\"\",IF(VALUE(AI5)>89,1,VLOOKUP(VALUE(AI5),List2!$A$1:'List2'!$B$90,2)))","v":""},null,{"$f":"IF(ISBLANK(AK5),\"\",IF(VALUE(AK5)>89,1,VLOOKUP(VALUE(AK5),List2!$A$1:'List2'!$B$90,2)))","v":""},null,{"$f":"IF(ISBLANK(AM5),\"\",IF(VALUE(AM5)>89,1,VLOOKUP(VALUE(AM5),List2!$A$1:'List2'!$B$90,2)))","v":""},null,952]
[4,"Vávra Jan",1254,1251,"4",{"$f":"IF(ISBLANK(E6),\"\",IF(VALUE(E6)>89,1,VLOOKUP(VALUE(E6),List2!$A$1:'List2'!$B$90,2)))","v":162},"6",{"$f":"IF(ISBLANK(G6),\"\",IF(VALUE(G6)>89,1,VLOOKUP(VALUE(G6),List2!$A$1:'List2'!$B$90,2)))","v":152},"10",{"$f":"IF(ISBLANK(I6),\"\",IF(VALUE(I6)>89,1,VLOOKUP(VALUE(I6),List2!$A$1:'List2'!$B$90,2)))","v":136},"5",{"$f":"IF(ISBLANK(K6),\"\",IF(VALUE(K6)>89,1,VLOOKUP(VALUE(K6),List2!$A$1:'List2'!$B$90,2)))","v":156},"3",{"$f":"IF(ISBLANK(M6),\"\",IF(VALUE(M6)>89,1,VLOOKUP(VALUE(M6),List2!$A$1:'List2'!$B$90,2)))","v":170},"2",{"$f":"IF(ISBLANK(O6),\"\",IF(VALUE(O6)>89,1,VLOOKUP(VALUE(O6),List2!$A$1:'List2'!$B$90,2)))","v":180},"11",{"$f":"IF(ISBLANK(Q6),\"\",IF(VALUE(Q6)>89,1,VLOOKUP(VALUE(Q6),List2!$A$1:'List2'!$B$90,2)))","v":133},"4",{"$f":"IF(ISBLANK(S6),\"\",IF(VALUE(S6)>89,1,VLOOKUP(VALUE(S6),List2!$A$1:'List2'!$B$90,2)))","v":162},null,{"$f":"IF(ISBLANK(U6),\"\",IF(VALUE(U6)>89,1,VLOOKUP(VALUE(U6),List2!$A$1:'List2'!$B$90,2)))","v":""},null,{"$f":"IF(ISBLANK(W6),\"\",IF(VALUE(W6)>89,1,VLOOKUP(VALUE(W6),List2!$A$1:'List2'!$B$90,2)))","v":""},null,null,null,{"$f":"IF(ISBLANK(AA6),\"\",IF(VALUE(AA6)>89,1,VLOOKUP(VALUE(AA6),List2!$A$1:'List2'!$B$90,2)))","v":""},null,{"$f":"IF(ISBLANK(AC6),\"\",IF(VALUE(AC6)>89,1,VLOOKUP(VALUE(AC6),List2!$A$1:'List2'!$B$90,2)))","v":""},null,{"$f":"IF(ISBLANK(AE6),\"\",IF(VALUE(AE6)>89,1,VLOOKUP(VALUE(AE6),List2!$A$1:'List2'!$B$90,2)))","v":""},null,{"$f":"IF(ISBLANK(AG6),\"\",IF(VALUE(AG6)>89,1,VLOOKUP(VALUE(AG6),List2!$A$1:'List2'!$B$90,2)))","v":""},null,{"$f":"IF(ISBLANK(AI6),\"\",IF(VALUE(AI6)>89,1,VLOOKUP(VALUE(AI6),List2!$A$1:'List2'!$B$90,2)))","v":""},null,{"$f":"IF(ISBLANK(AK6),\"\",IF(VALUE(AK6)>89,1,VLOOKUP(VALUE(AK6),List2!$A$1:'List2'!$B$90,2)))","v":""},null,{"$f":"IF(ISBLANK(AM6),\"\",IF(VALUE(AM6)>89,1,VLOOKUP(VALUE(AM6),List2!$A$1:'List2'!$B$90,2)))","v":""},null,1251]
[5,"Klacl Pavel",292,292,"5",{"$f":"IF(ISBLANK(E7),\"\",IF(VALUE(E7)>89,1,VLOOKUP(VALUE(E7),List2!$A$1:'List2'!$B$90,2)))","v":156},"10",{"$f":"IF(ISBLANK(G7),\"\",IF(VALUE(G7)>89,1,VLOOKUP(VALUE(G7),List2!$A$1:'List2'!$B$90,2)))","v":136},null,{"$f":"IF(ISBLANK(I7),\"\",IF(VALUE(I7)>89,1,VLOOKUP(VALUE(I7),List2!$A$1:'List2'!$B$90,2)))","v":""},null,{"$f":"IF(ISBLANK(K7),\"\",IF(VALUE(K7)>89,1,VLOOKUP(VALUE(K7),List2!$A$1:'List2'!$B$90,2)))","v":""},null,{"$f":"IF(ISBLANK(M7),\"\",IF(VALUE(M7)>89,1,VLOOKUP(VALUE(M7),List2!$A$1:'List2'!$B$90,2)))","v":""},null,{"$f":"IF(ISBLANK(O7),\"\",IF(VALUE(O7)>89,1,VLOOKUP(VALUE(O7),List2!$A$1:'List2'!$B$90,2)))","v":""},null,{"$f":"IF(ISBLANK(Q7),\"\",IF(VALUE(Q7)>89,1,VLOOKUP(VALUE(Q7),List2!$A$1:'List2'!$B$90,2)))","v":""},null,{"$f":"IF(ISBLANK(S7),\"\",IF(VALUE(S7)>89,1,VLOOKUP(VALUE(S7),List2!$A$1:'List2'!$B$90,2)))","v":""},null,{"$f":"IF(ISBLANK(U7),\"\",IF(VALUE(U7)>89,1,VLOOKUP(VALUE(U7),List2!$A$1:'List2'!$B$90,2)))","v":""},null,{"$f":"IF(ISBLANK(W7),\"\",IF(VALUE(W7)>89,1,VLOOKUP(VALUE(W7),List2!$A$1:'List2'!$B$90,2)))","v":""},null,{"$f":"IF(ISBLANK(Y7),\"\",IF(VALUE(Y7)>89,1,VLOOKUP(VALUE(Y7),List2!$A$1:'List2'!$B$90,2)))","v":""},null,{"$f":"IF(ISBLANK(AA7),\"\",IF(VALUE(AA7)>89,1,VLOOKUP(VALUE(AA7),List2!$A$1:'List2'!$B$90,2)))","v":""},null,{"$f":"IF(ISBLANK(AC7),\"\",IF(VALUE(AC7)>89,1,VLOOKUP(VALUE(AC7),List2!$A$1:'List2'!$B$90,2)))","v":""},null,{"$f":"IF(ISBLANK(AE7),\"\",IF(VALUE(AE7)>89,1,VLOOKUP(VALUE(AE7),List2!$A$1:'List2'!$B$90,2)))","v":""},null,{"$f":"IF(ISBLANK(AG7),\"\",IF(VALUE(AG7)>89,1,VLOOKUP(VALUE(AG7),List2!$A$1:'List2'!$B$90,2)))","v":""},null,{"$f":"IF(ISBLANK(AI7),\"\",IF(VALUE(AI7)>89,1,VLOOKUP(VALUE(AI7),List2!$A$1:'List2'!$B$90,2)))","v":""},null,{"$f":"IF(ISBLANK(AK7),\"\",IF(VALUE(AK7)>89,1,VLOOKUP(VALUE(AK7),List2!$A$1:'List2'!$B$90,2)))","v":""},null,{"$f":"IF(ISBLANK(AM7),\"\",IF(VALUE(AM7)>89,1,VLOOKUP(VALUE(AM7),List2!$A$1:'List2'!$B$90,2)))","v":""},null,292]
[6,"Martinek Milan",960,960,null,{"$f":"IF(ISBLANK(E8),\"\",IF(VALUE(E8)>89,1,VLOOKUP(VALUE(E8),List2!$A$1:'List2'!$B$90,2)))","v":""},"1",{"$f":"IF(ISBLANK(G8),\"\",IF(VALUE(G8)>89,1,VLOOKUP(VALUE(G8),List2!$A$1:'List2'!$B$90,2)))","v":200},"2",{"$f":"IF(ISBLANK(I8),\"\",IF(VALUE(I8)>89,1,VLOOKUP(VALUE(I8),List2!$A$1:'List2'!$B$90,2)))","v":180},"2",{"$f":"IF(ISBLANK(K8),\"\",IF(VALUE(K8)>89,1,VLOOKUP(VALUE(K8),List2!$A$1:'List2'!$B$90,2)))","v":180},"1",{"$f":"IF(ISBLANK(M8),\"\",IF(VALUE(M8)>89,1,VLOOKUP(VALUE(M8),List2!$A$1:'List2'!$B$90,2)))","v":200},null,{"$f":"IF(ISBLANK(O8),\"\",IF(VALUE(O8)>89,1,VLOOKUP(VALUE(O8),List2!$A$1:'List2'!$B$90,2)))","v":""},"1",{"$f":"IF(ISBLANK(Q8),\"\",IF(VALUE(Q8)>89,1,VLOOKUP(VALUE(Q8),List2!$A$1:'List2'!$B$90,2)))","v":200},null,{"$f":"IF(ISBLANK(S8),\"\",IF(VALUE(S8)>89,1,VLOOKUP(VALUE(S8),List2!$A$1:'List2'!$B$90,2)))","v":""},null,{"$f":"IF(ISBLANK(U8),\"\",IF(VALUE(U8)>89,1,VLOOKUP(VALUE(U8),List2!$A$1:'List2'!$B$90,2)))","v":""},null,{"$f":"IF(ISBLANK(W8),\"\",IF(VALUE(W8)>89,1,VLOOKUP(VALUE(W8),List2!$A$1:'List2'!$B$90,2)))","v":""},null,{"$f":"IF(ISBLANK(Y8),\"\",IF(VALUE(Y8)>89,1,VLOOKUP(VALUE(Y8),List2!$A$1:'List2'!$B$90,2)))","v":""},null,{"$f":"IF(ISBLANK(AA8),\"\",IF(VALUE(AA8)>89,1,VLOOKUP(VALUE(AA8),List2!$A$1:'List2'!$B$90,2)))","v":""},null,{"$f":"IF(ISBLANK(AC8),\"\",IF(VALUE(AC8)>89,1,VLOOKUP(VALUE(AC8),List2!$A$1:'List2'!$B$90,2)))","v":""},null,{"$f":"IF(ISBLANK(AE8),\"\",IF(VALUE(AE8)>89,1,VLOOKUP(VALUE(AE8),List2!$A$1:'List2'!$B$90,2)))","v":""},null,{"$f":"IF(ISBLANK(AG8),\"\",IF(VALUE(AG8)>89,1,VLOOKUP(VALUE(AG8),List2!$A$1:'List2'!$B$90,2)))","v":""},null,{"$f":"IF(ISBLANK(AI8),\"\",IF(VALUE(AI8)>89,1,VLOOKUP(VALUE(AI8),List2!$A$1:'List2'!$B$90,2)))","v":""},null,{"$f":"IF(ISBLANK(AK8),\"\",IF(VALUE(AK8)>89,1,VLOOKUP(VALUE(AK8),List2!$A$1:'List2'!$B$90,2)))","v":""},null,{"$f":"IF(ISBLANK(AM8),\"\",IF(VALUE(AM8)>89,1,VLOOKUP(VALUE(AM8),List2!$A$1:'List2'!$B$90,2)))","v":""},null,960]
[7,"Mader Ivo",872,872,null,{"$f":"IF(ISBLANK(E9),\"\",IF(VALUE(E9)>89,1,VLOOKUP(VALUE(E9),List2!$A$1:'List2'!$B$90,2)))","v":""},"2",{"$f":"IF(ISBLANK(G9),\"\",IF(VALUE(G9)>89,1,VLOOKUP(VALUE(G9),List2!$A$1:'List2'!$B$90,2)))","v":180},"1",{"$f":"IF(ISBLANK(I9),\"\",IF(VALUE(I9)>89,1,VLOOKUP(VALUE(I9),List2!$A$1:'List2'!$B$90,2)))","v":200},null,{"$f":"IF(ISBLANK(K9),\"\",IF(VALUE(K9)>89,1,VLOOKUP(VALUE(K9),List2!$A$1:'List2'!$B$90,2)))","v":""},"4",{"$f":"IF(ISBLANK(M9),\"\",IF(VALUE(M9)>89,1,VLOOKUP(VALUE(M9),List2!$A$1:'List2'!$B$90,2)))","v":162},"12",{"$f":"IF(ISBLANK(O9),\"\",IF(VALUE(O9)>89,1,VLOOKUP(VALUE(O9),List2!$A$1:'List2'!$B$90,2)))","v":130},null,{"$f":"IF(ISBLANK(Q9),\"\",IF(VALUE(Q9)>89,1,VLOOKUP(VALUE(Q9),List2!$A$1:'List2'!$B$90,2)))","v":""},"1",{"$f":"IF(ISBLANK(S9),\"\",IF(VALUE(S9)>89,1,VLOOKUP(VALUE(S9),List2!$A$1:'List2'!$B$90,2)))","v":200},null,{"$f":"IF(ISBLANK(U9),\"\",IF(VALUE(U9)>89,1,VLOOKUP(VALUE(U9),List2!$A$1:'List2'!$B$90,2)))","v":""},null,{"$f":"IF(ISBLANK(W9),\"\",IF(VALUE(W9)>89,1,VLOOKUP(VALUE(W9),List2!$A$1:'List2'!$B$90,2)))","v":""},null,{"$f":"IF(ISBLANK(Y9),\"\",IF(VALUE(Y9)>89,1,VLOOKUP(VALUE(Y9),List2!$A$1:'List2'!$B$90,2)))","v":""},null,{"$f":"IF(ISBLANK(AA9),\"\",IF(VALUE(AA9)>89,1,VLOOKUP(VALUE(AA9),List2!$A$1:'List2'!$B$90,2)))","v":""},null,{"$f":"IF(ISBLANK(AC9),\"\",IF(VALUE(AC9)>89,1,VLOOKUP(VALUE(AC9),List2!$A$1:'List2'!$B$90,2)))","v":""},null,{"$f":"IF(ISBLANK(AE9),\"\",IF(VALUE(AE9)>89,1,VLOOKUP(VALUE(AE9),List2!$A$1:'List2'!$B$90,2)))","v":""},null,{"$f":"IF(ISBLANK(AG9),\"\",IF(VALUE(AG9)>89,1,VLOOKUP(VALUE(AG9),List2!$A$1:'List2'!$B$90,2)))","v":""},null,{"$f":"IF(ISBLANK(AI9),\"\",IF(VALUE(AI9)>89,1,VLOOKUP(VALUE(AI9),List2!$A$1:'List2'!$B$90,2)))","v":""},null,{"$f":"IF(ISBLANK(AK9),\"\",IF(VALUE(AK9)>89,1,VLOOKUP(VALUE(AK9),List2!$A$1:'List2'!$B$90,2)))","v":""},null,{"$f":"IF(ISBLANK(AM9),\"\",IF(VALUE(AM9)>89,1,VLOOKUP(VALUE(AM9),List2!$A$1:'List2'!$B$90,2)))","v":""},null,872]
[8,"Fergl Jaroslav",798,798,null,{"$f":"IF(ISBLANK(E10),\"\",IF(VALUE(E10)>89,1,VLOOKUP(VALUE(E10),List2!$A$1:'List2'!$B$90,2)))","v":""},"5",{"$f":"IF(ISBLANK(G10),\"\",IF(VALUE(G10)>89,1,VLOOKUP(VALUE(G10),List2!$A$1:'List2'!$B$90,2)))","v":156},"8",{"$f":"IF(ISBLANK(I10),\"\",IF(VALUE(I10)>89,1,VLOOKUP(VALUE(I10),List2!$A$1:'List2'!$B$90,2)))","v":144},"4",{"$f":"IF(ISBLANK(K10),\"\",IF(VALUE(K10)>89,1,VLOOKUP(VALUE(K10),List2!$A$1:'List2'!$B$90,2)))","v":162},"2",{"$f":"IF(ISBLANK(M10),\"\",IF(VALUE(M10)>89,1,VLOOKUP(VALUE(M10),List2!$A$1:'List2'!$B$90,2)))","v":180},null,{"$f":"IF(ISBLANK(O10),\"\",IF(VALUE(O10)>89,1,VLOOKUP(VALUE(O10),List2!$A$1:'List2'!$B$90,2)))","v":""},"5",{"$f":"IF(ISBLANK(Q10),\"\",IF(VALUE(Q10)>89,1,VLOOKUP(VALUE(Q10),List2!$A$1:'List2'!$B$90,2)))","v":156},null,{"$f":"IF(ISBLANK(S10),\"\",IF(VALUE(S10)>89,1,VLOOKUP(VALUE(S10),List2!$A$1:'List2'!$B$90,2)))","v":""},null,{"$f":"IF(ISBLANK(U10),\"\",IF(VALUE(U10)>89,1,VLOOKUP(VALUE(U10),List2!$A$1:'List2'!$B$90,2)))","v":""},null,{"$f":"IF(ISBLANK(W10),\"\",IF(VALUE(W10)>89,1,VLOOKUP(VALUE(W10),List2!$A$1:'List2'!$B$90,2)))","v":""},null,{"$f":"IF(ISBLANK(Y10),\"\",IF(VALUE(Y10)>89,1,VLOOKUP(VALUE(Y10),List2!$A$1:'List2'!$B$90,2)))","v":""},null,{"$f":"IF(ISBLANK(AA10),\"\",IF(VALUE(AA10)>89,1,VLOOKUP(VALUE(AA10),List2!$A$1:'List2'!$B$90,2)))","v":""},null,{"$f":"IF(ISBLANK(AC10),\"\",IF(VALUE(AC10)>89,1,VLOOKUP(VALUE(AC10),List2!$A$1:'List2'!$B$90,2)))","v":""},null,{"$f":"IF(ISBLANK(AE10),\"\",IF(VALUE(AE10)>89,1,VLOOKUP(VALUE(AE10),List2!$A$1:'List2'!$B$90,2)))","v":""},null,{"$f":"IF(ISBLANK(AG10),\"\",IF(VALUE(AG10)>89,1,VLOOKUP(VALUE(AG10),List2!$A$1:'List2'!$B$90,2)))","v":""},null,{"$f":"IF(ISBLANK(AI10),\"\",IF(VALUE(AI10)>89,1,VLOOKUP(VALUE(AI10),List2!$A$1:'List2'!$B$90,2)))","v":""},null,{"$f":"IF(ISBLANK(AK10),\"\",IF(VALUE(AK10)>89,1,VLOOKUP(VALUE(AK10),List2!$A$1:'List2'!$B$90,2)))","v":""},null,{"$f":"IF(ISBLANK(AM10),\"\",IF(VALUE(AM10)>89,1,VLOOKUP(VALUE(AM10),List2!$A$1:'List2'!$B$90,2)))","v":""},null,798]
[9,"Kolář Petr",310,310,null,{"$f":"IF(ISBLANK(E11),\"\",IF(VALUE(E11)>89,1,VLOOKUP(VALUE(E11),List2!$A$1:'List2'!$B$90,2)))","v":""},"7",{"$f":"IF(ISBLANK(G11),\"\",IF(VALUE(G11)>89,1,VLOOKUP(VALUE(G11),List2!$A$1:'List2'!$B$90,2)))","v":148},null,{"$f":"IF(ISBLANK(I11),\"\",IF(VALUE(I11)>89,1,VLOOKUP(VALUE(I11),List2!$A$1:'List2'!$B$90,2)))","v":""},null,{"$f":"IF(ISBLANK(K11),\"\",IF(VALUE(K11)>89,1,VLOOKUP(VALUE(K11),List2!$A$1:'List2'!$B$90,2)))","v":""},null,{"$f":"IF(ISBLANK(M11),\"\",IF(VALUE(M11)>89,1,VLOOKUP(VALUE(M11),List2!$A$1:'List2'!$B$90,2)))","v":""},"4",{"$f":"IF(ISBLANK(O11),\"\",IF(VALUE(O11)>89,1,VLOOKUP(VALUE(O11),List2!$A$1:'List2'!$B$90,2)))","v":162},null,{"$f":"IF(ISBLANK(Q11),\"\",IF(VALUE(Q11)>89,1,VLOOKUP(VALUE(Q11),List2!$A$1:'List2'!$B$90,2)))","v":""},null,{"$f":"IF(ISBLANK(S11),\"\",IF(VALUE(S11)>89,1,VLOOKUP(VALUE(S11),List2!$A$1:'List2'!$B$90,2)))","v":""},null,{"$f":"IF(ISBLANK(U11),\"\",IF(VALUE(U11)>89,1,VLOOKUP(VALUE(U11),List2!$A$1:'List2'!$B$90,2)))","v":""},null,{"$f":"IF(ISBLANK(W11),\"\",IF(VALUE(W11)>89,1,VLOOKUP(VALUE(W11),List2!$A$1:'List2'!$B$90,2)))","v":""},null,{"$f":"IF(ISBLANK(Y11),\"\",IF(VALUE(Y11)>89,1,VLOOKUP(VALUE(Y11),List2!$A$1:'List2'!$B$90,2)))","v":""},null,{"$f":"IF(ISBLANK(AA11),\"\",IF(VALUE(AA11)>89,1,VLOOKUP(VALUE(AA11),List2!$A$1:'List2'!$B$90,2)))","v":""},null,{"$f":"IF(ISBLANK(AC11),\"\",IF(VALUE(AC11)>89,1,VLOOKUP(VALUE(AC11),List2!$A$1:'List2'!$B$90,2)))","v":""},null,{"$f":"IF(ISBLANK(AE11),\"\",IF(VALUE(AE11)>89,1,VLOOKUP(VALUE(AE11),List2!$A$1:'List2'!$B$90,2)))","v":""},null,{"$f":"IF(ISBLANK(AG11),\"\",IF(VALUE(AG11)>89,1,VLOOKUP(VALUE(AG11),List2!$A$1:'List2'!$B$90,2)))","v":""},null,{"$f":"IF(ISBLANK(AI11),\"\",IF(VALUE(AI11)>89,1,VLOOKUP(VALUE(AI11),List2!$A$1:'List2'!$B$90,2)))","v":""},null,{"$f":"IF(ISBLANK(AK11),\"\",IF(VALUE(AK11)>89,1,VLOOKUP(VALUE(AK11),List2!$A$1:'List2'!$B$90,2)))","v":""},null,{"$f":"IF(ISBLANK(AM11),\"\",IF(VALUE(AM11)>89,1,VLOOKUP(VALUE(AM11),List2!$A$1:'List2'!$B$90,2)))","v":""},null,310]
[10,"Baculák Zbyňěk",288,288,null,{"$f":"IF(ISBLANK(E12),\"\",IF(VALUE(E12)>89,1,VLOOKUP(VALUE(E12),List2!$A$1:'List2'!$B$90,2)))","v":""},"8",{"$f":"IF(ISBLANK(G12),\"\",IF(VALUE(G12)>89,1,VLOOKUP(VALUE(G12),List2!$A$1:'List2'!$B$90,2)))","v":144},null,{"$f":"IF(ISBLANK(I12),\"\",IF(VALUE(I12)>89,1,VLOOKUP(VALUE(I12),List2!$A$1:'List2'!$B$90,2)))","v":""},null,{"$f":"IF(ISBLANK(K12),\"\",IF(VALUE(K12)>89,1,VLOOKUP(VALUE(K12),List2!$A$1:'List2'!$B$90,2)))","v":""},null,{"$f":"IF(ISBLANK(M12),\"\",IF(VALUE(M12)>89,1,VLOOKUP(VALUE(M12),List2!$A$1:'List2'!$B$90,2)))","v":""},"8",{"$f":"IF(ISBLANK(O12),\"\",IF(VALUE(O12)>89,1,VLOOKUP(VALUE(O12),List2!$A$1:'List2'!$B$90,2)))","v":144},null,{"$f":"IF(ISBLANK(Q12),\"\",IF(VALUE(Q12)>89,1,VLOOKUP(VALUE(Q12),List2!$A$1:'List2'!$B$90,2)))","v":""},null,{"$f":"IF(ISBLANK(S12),\"\",IF(VALUE(S12)>89,1,VLOOKUP(VALUE(S12),List2!$A$1:'List2'!$B$90,2)))","v":""},null,{"$f":"IF(ISBLANK(U12),\"\",IF(VALUE(U12)>89,1,VLOOKUP(VALUE(U12),List2!$A$1:'List2'!$B$90,2)))","v":""},null,{"$f":"IF(ISBLANK(W12),\"\",IF(VALUE(W12)>89,1,VLOOKUP(VALUE(W12),List2!$A$1:'List2'!$B$90,2)))","v":""},null,{"$f":"IF(ISBLANK(Y12),\"\",IF(VALUE(Y12)>89,1,VLOOKUP(VALUE(Y12),List2!$A$1:'List2'!$B$90,2)))","v":""},null,{"$f":"IF(ISBLANK(AA12),\"\",IF(VALUE(AA12)>89,1,VLOOKUP(VALUE(AA12),List2!$A$1:'List2'!$B$90,2)))","v":""},null,{"$f":"IF(ISBLANK(AC12),\"\",IF(VALUE(AC12)>89,1,VLOOKUP(VALUE(AC12),List2!$A$1:'List2'!$B$90,2)))","v":""},null,{"$f":"IF(ISBLANK(AE12),\"\",IF(VALUE(AE12)>89,1,VLOOKUP(VALUE(AE12),List2!$A$1:'List2'!$B$90,2)))","v":""},null,{"$f":"IF(ISBLANK(AG12),\"\",IF(VALUE(AG12)>89,1,VLOOKUP(VALUE(AG12),List2!$A$1:'List2'!$B$90,2)))","v":""},null,{"$f":"IF(ISBLANK(AI12),\"\",IF(VALUE(AI12)>89,1,VLOOKUP(VALUE(AI12),List2!$A$1:'List2'!$B$90,2)))","v":""},null,{"$f":"IF(ISBLANK(AK12),\"\",IF(VALUE(AK12)>89,1,VLOOKUP(VALUE(AK12),List2!$A$1:'List2'!$B$90,2)))","v":""},null,{"$f":"IF(ISBLANK(AM12),\"\",IF(VALUE(AM12)>89,1,VLOOKUP(VALUE(AM12),List2!$A$1:'List2'!$B$90,2)))","v":""},null,288]
[11,"Formánek Martin",140,140,null,{"$f":"IF(ISBLANK(E13),\"\",IF(VALUE(E13)>89,1,VLOOKUP(VALUE(E13),List2!$A$1:'List2'!$B$90,2)))","v":""},"9",{"$f":"IF(ISBLANK(G13),\"\",IF(VALUE(G13)>89,1,VLOOKUP(VALUE(G13),List2!$A$1:'List2'!$B$90,2)))","v":140},null,{"$f":"IF(ISBLANK(I13),\"\",IF(VALUE(I13)>89,1,VLOOKUP(VALUE(I13),List2!$A$1:'List2'!$B$90,2)))","v":""},null,{"$f":"IF(ISBLANK(K13),\"\",IF(VALUE(K13)>89,1,VLOOKUP(VALUE(K13),List2!$A$1:'List2'!$B$90,2)))","v":""},null,{"$f":"IF(ISBLANK(M13),\"\",IF(VALUE(M13)>89,1,VLOOKUP(VALUE(M13),List2!$A$1:'List2'!$B$90,2)))","v":""},null,{"$f":"IF(ISBLANK(O13),\"\",IF(VALUE(O13)>89,1,VLOOKUP(VALUE(O13),List2!$A$1:'List2'!$B$90,2)))","v":""},null,{"$f":"IF(ISBLANK(Q13),\"\",IF(VALUE(Q13)>89,1,VLOOKUP(VALUE(Q13),List2!$A$1:'List2'!$B$90,2)))","v":""},null,{"$f":"IF(ISBLANK(S13),\"\",IF(VALUE(S13)>89,1,VLOOKUP(VALUE(S13),List2!$A$1:'List2'!$B$90,2)))","v":""},null,{"$f":"IF(ISBLANK(U13),\"\",IF(VALUE(U13)>89,1,VLOOKUP(VALUE(U13),List2!$A$1:'List2'!$B$90,2)))","v":""},null,{"$f":"IF(ISBLANK(W13),\"\",IF(VALUE(W13)>89,1,VLOOKUP(VALUE(W13),List2!$A$1:'List2'!$B$90,2)))","v":""},null,{"$f":"IF(ISBLANK(Y13),\"\",IF(VALUE(Y13)>89,1,VLOOKUP(VALUE(Y13),List2!$A$1:'List2'!$B$90,2)))","v":""},null,{"$f":"IF(ISBLANK(AA13),\"\",IF(VALUE(AA13)>89,1,VLOOKUP(VALUE(AA13),List2!$A$1:'List2'!$B$90,2)))","v":""},null,{"$f":"IF(ISBLANK(AC13),\"\",IF(VALUE(AC13)>89,1,VLOOKUP(VALUE(AC13),List2!$A$1:'List2'!$B$90,2)))","v":""},null,{"$f":"IF(ISBLANK(AE13),\"\",IF(VALUE(AE13)>89,1,VLOOKUP(VALUE(AE13),List2!$A$1:'List2'!$B$90,2)))","v":""},null,{"$f":"IF(ISBLANK(AG13),\"\",IF(VALUE(AG13)>89,1,VLOOKUP(VALUE(AG13),List2!$A$1:'List2'!$B$90,2)))","v":""},null,{"$f":"IF(ISBLANK(AI13),\"\",IF(VALUE(AI13)>89,1,VLOOKUP(VALUE(AI13),List2!$A$1:'List2'!$B$90,2)))","v":""},null,{"$f":"IF(ISBLANK(AK13),\"\",IF(VALUE(AK13)>89,1,VLOOKUP(VALUE(AK13),List2!$A$1:'List2'!$B$90,2)))","v":""},null,{"$f":"IF(ISBLANK(AM13),\"\",IF(VALUE(AM13)>89,1,VLOOKUP(VALUE(AM13),List2!$A$1:'List2'!$B$90,2)))","v":""},null,140]
[12,"Chládek Miloš",133,133,null,{"$f":"IF(ISBLANK(E14),\"\",IF(VALUE(E14)>89,1,VLOOKUP(VALUE(E14),List2!$A$1:'List2'!$B$90,2)))","v":""},"11",{"$f":"IF(ISBLANK(G14),\"\",IF(VALUE(G14)>89,1,VLOOKUP(VALUE(G14),List2!$A$1:'List2'!$B$90,2)))","v":133},null,{"$f":"IF(ISBLANK(I14),\"\",IF(VALUE(I14)>89,1,VLOOKUP(VALUE(I14),List2!$A$1:'List2'!$B$90,2)))","v":""},null,{"$f":"IF(ISBLANK(K14),\"\",IF(VALUE(K14)>89,1,VLOOKUP(VALUE(K14),List2!$A$1:'List2'!$B$90,2)))","v":""},null,{"$f":"IF(ISBLANK(M14),\"\",IF(VALUE(M14)>89,1,VLOOKUP(VALUE(M14),List2!$A$1:'List2'!$B$90,2)))","v":""},null,{"$f":"IF(ISBLANK(O14),\"\",IF(VALUE(O14)>89,1,VLOOKUP(VALUE(O14),List2!$A$1:'List2'!$B$90,2)))","v":""},null,{"$f":"IF(ISBLANK(Q14),\"\",IF(VALUE(Q14)>89,1,VLOOKUP(VALUE(Q14),List2!$A$1:'List2'!$B$90,2)))","v":""},null,{"$f":"IF(ISBLANK(S14),\"\",IF(VALUE(S14)>89,1,VLOOKUP(VALUE(S14),List2!$A$1:'List2'!$B$90,2)))","v":""},null,{"$f":"IF(ISBLANK(U14),\"\",IF(VALUE(U14)>89,1,VLOOKUP(VALUE(U14),List2!$A$1:'List2'!$B$90,2)))","v":""},null,{"$f":"IF(ISBLANK(W14),\"\",IF(VALUE(W14)>89,1,VLOOKUP(VALUE(W14),List2!$A$1:'List2'!$B$90,2)))","v":""},null,{"$f":"IF(ISBLANK(Y14),\"\",IF(VALUE(Y14)>89,1,VLOOKUP(VALUE(Y14),List2!$A$1:'List2'!$B$90,2)))","v":""},null,{"$f":"IF(ISBLANK(AA14),\"\",IF(VALUE(AA14)>89,1,VLOOKUP(VALUE(AA14),List2!$A$1:'List2'!$B$90,2)))","v":""},null,{"$f":"IF(ISBLANK(AC14),\"\",IF(VALUE(AC14)>89,1,VLOOKUP(VALUE(AC14),List2!$A$1:'List2'!$B$90,2)))","v":""},null,{"$f":"IF(ISBLANK(AE14),\"\",IF(VALUE(AE14)>89,1,VLOOKUP(VALUE(AE14),List2!$A$1:'List2'!$B$90,2)))","v":""},null,{"$f":"IF(ISBLANK(AG14),\"\",IF(VALUE(AG14)>89,1,VLOOKUP(VALUE(AG14),List2!$A$1:'List2'!$B$90,2)))","v":""},null,{"$f":"IF(ISBLANK(AI14),\"\",IF(VALUE(AI14)>89,1,VLOOKUP(VALUE(AI14),List2!$A$1:'List2'!$B$90,2)))","v":""},null,{"$f":"IF(ISBLANK(AK14),\"\",IF(VALUE(AK14)>89,1,VLOOKUP(VALUE(AK14),List2!$A$1:'List2'!$B$90,2)))","v":""},null,{"$f":"IF(ISBLANK(AM14),\"\",IF(VALUE(AM14)>89,1,VLOOKUP(VALUE(AM14),List2!$A$1:'List2'!$B$90,2)))","v":""},null,133]
[13,"Holý Martin",170,170,null,{"$f":"IF(ISBLANK(E15),\"\",IF(VALUE(E15)>89,1,VLOOKUP(VALUE(E15),List2!$A$1:'List2'!$B$90,2)))","v":""},null,{"$f":"IF(ISBLANK(G15),\"\",IF(VALUE(G15)>89,1,VLOOKUP(VALUE(G15),List2!$A$1:'List2'!$B$90,2)))","v":""},"3",{"$f":"IF(ISBLANK(I15),\"\",IF(VALUE(I15)>89,1,VLOOKUP(VALUE(I15),List2!$A$1:'List2'!$B$90,2)))","v":170},null,{"$f":"IF(ISBLANK(K15),\"\",IF(VALUE(K15)>89,1,VLOOKUP(VALUE(K15),List2!$A$1:'List2'!$B$90,2)))","v":""},null,{"$f":"IF(ISBLANK(M15),\"\",IF(VALUE(M15)>89,1,VLOOKUP(VALUE(M15),List2!$A$1:'List2'!$B$90,2)))","v":""},null,{"$f":"IF(ISBLANK(O15),\"\",IF(VALUE(O15)>89,1,VLOOKUP(VALUE(O15),List2!$A$1:'List2'!$B$90,2)))","v":""},null,{"$f":"IF(ISBLANK(Q15),\"\",IF(VALUE(Q15)>89,1,VLOOKUP(VALUE(Q15),List2!$A$1:'List2'!$B$90,2)))","v":""},null,{"$f":"IF(ISBLANK(S15),\"\",IF(VALUE(S15)>89,1,VLOOKUP(VALUE(S15),List2!$A$1:'List2'!$B$90,2)))","v":""},null,{"$f":"IF(ISBLANK(U15),\"\",IF(VALUE(U15)>89,1,VLOOKUP(VALUE(U15),List2!$A$1:'List2'!$B$90,2)))","v":""},null,{"$f":"IF(ISBLANK(W15),\"\",IF(VALUE(W15)>89,1,VLOOKUP(VALUE(W15),List2!$A$1:'List2'!$B$90,2)))","v":""},null,{"$f":"IF(ISBLANK(Y15),\"\",IF(VALUE(Y15)>89,1,VLOOKUP(VALUE(Y15),List2!$A$1:'List2'!$B$90,2)))","v":""},null,{"$f":"IF(ISBLANK(AA15),\"\",IF(VALUE(AA15)>89,1,VLOOKUP(VALUE(AA15),List2!$A$1:'List2'!$B$90,2)))","v":""},null,{"$f":"IF(ISBLANK(AC15),\"\",IF(VALUE(AC15)>89,1,VLOOKUP(VALUE(AC15),List2!$A$1:'List2'!$B$90,2)))","v":""},null,{"$f":"IF(ISBLANK(AE15),\"\",IF(VALUE(AE15)>89,1,VLOOKUP(VALUE(AE15),List2!$A$1:'List2'!$B$90,2)))","v":""},null,{"$f":"IF(ISBLANK(AG15),\"\",IF(VALUE(AG15)>89,1,VLOOKUP(VALUE(AG15),List2!$A$1:'List2'!$B$90,2)))","v":""},null,{"$f":"IF(ISBLANK(AI15),\"\",IF(VALUE(AI15)>89,1,VLOOKUP(VALUE(AI15),List2!$A$1:'List2'!$B$90,2)))","v":""},null,{"$f":"IF(ISBLANK(AK15),\"\",IF(VALUE(AK15)>89,1,VLOOKUP(VALUE(AK15),List2!$A$1:'List2'!$B$90,2)))","v":""},null,{"$f":"IF(ISBLANK(AM15),\"\",IF(VALUE(AM15)>89,1,VLOOKUP(VALUE(AM15),List2!$A$1:'List2'!$B$90,2)))","v":""},null,170]
[14,"Prosek Pavel",162,162,null,{"$f":"IF(ISBLANK(E16),\"\",IF(VALUE(E16)>89,1,VLOOKUP(VALUE(E16),List2!$A$1:'List2'!$B$90,2)))","v":""},null,{"$f":"IF(ISBLANK(G16),\"\",IF(VALUE(G16)>89,1,VLOOKUP(VALUE(G16),List2!$A$1:'List2'!$B$90,2)))","v":""},"4",{"$f":"IF(ISBLANK(I16),\"\",IF(VALUE(I16)>89,1,VLOOKUP(VALUE(I16),List2!$A$1:'List2'!$B$90,2)))","v":162},null,{"$f":"IF(ISBLANK(K16),\"\",IF(VALUE(K16)>89,1,VLOOKUP(VALUE(K16),List2!$A$1:'List2'!$B$90,2)))","v":""},null,{"$f":"IF(ISBLANK(M16),\"\",IF(VALUE(M16)>89,1,VLOOKUP(VALUE(M16),List2!$A$1:'List2'!$B$90,2)))","v":""},null,{"$f":"IF(ISBLANK(O16),\"\",IF(VALUE(O16)>89,1,VLOOKUP(VALUE(O16),List2!$A$1:'List2'!$B$90,2)))","v":""},null,{"$f":"IF(ISBLANK(Q16),\"\",IF(VALUE(Q16)>89,1,VLOOKUP(VALUE(Q16),List2!$A$1:'List2'!$B$90,2)))","v":""},null,{"$f":"IF(ISBLANK(S16),\"\",IF(VALUE(S16)>89,1,VLOOKUP(VALUE(S16),List2!$A$1:'List2'!$B$90,2)))","v":""},null,{"$f":"IF(ISBLANK(U16),\"\",IF(VALUE(U16)>89,1,VLOOKUP(VALUE(U16),List2!$A$1:'List2'!$B$90,2)))","v":""},null,{"$f":"IF(ISBLANK(W16),\"\",IF(VALUE(W16)>89,1,VLOOKUP(VALUE(W16),List2!$A$1:'List2'!$B$90,2)))","v":""},null,{"$f":"IF(ISBLANK(Y16),\"\",IF(VALUE(Y16)>89,1,VLOOKUP(VALUE(Y16),List2!$A$1:'List2'!$B$90,2)))","v":""},null,{"$f":"IF(ISBLANK(AA16),\"\",IF(VALUE(AA16)>89,1,VLOOKUP(VALUE(AA16),List2!$A$1:'List2'!$B$90,2)))","v":""},null,{"$f":"IF(ISBLANK(AC16),\"\",IF(VALUE(AC16)>89,1,VLOOKUP(VALUE(AC16),List2!$A$1:'List2'!$B$90,2)))","v":""},null,{"$f":"IF(ISBLANK(AE16),\"\",IF(VALUE(AE16)>89,1,VLOOKUP(VALUE(AE16),List2!$A$1:'List2'!$B$90,2)))","v":""},null,{"$f":"IF(ISBLANK(AG16),\"\",IF(VALUE(AG16)>89,1,VLOOKUP(VALUE(AG16),List2!$A$1:'List2'!$B$90,2)))","v":""},null,{"$f":"IF(ISBLANK(AI16),\"\",IF(VALUE(AI16)>89,1,VLOOKUP(VALUE(AI16),List2!$A$1:'List2'!$B$90,2)))","v":""},null,{"$f":"IF(ISBLANK(AK16),\"\",IF(VALUE(AK16)>89,1,VLOOKUP(VALUE(AK16),List2!$A$1:'List2'!$B$90,2)))","v":""},null,{"$f":"IF(ISBLANK(AM16),\"\",IF(VALUE(AM16)>89,1,VLOOKUP(VALUE(AM16),List2!$A$1:'List2'!$B$90,2)))","v":""},null,162]
[15,"Vlček Jan",152,152,null,{"$f":"IF(ISBLANK(E17),\"\",IF(VALUE(E17)>89,1,VLOOKUP(VALUE(E17),List2!$A$1:'List2'!$B$90,2)))","v":""},null,{"$f":"IF(ISBLANK(G17),\"\",IF(VALUE(G17)>89,1,VLOOKUP(VALUE(G17),List2!$A$1:'List2'!$B$90,2)))","v":""},"6",{"$f":"IF(ISBLANK(I17),\"\",IF(VALUE(I17)>89,1,VLOOKUP(VALUE(I17),List2!$A$1:'List2'!$B$90,2)))","v":152},null,{"$f":"IF(ISBLANK(K17),\"\",IF(VALUE(K17)>89,1,VLOOKUP(VALUE(K17),List2!$A$1:'List2'!$B$90,2)))","v":""},null,{"$f":"IF(ISBLANK(M17),\"\",IF(VALUE(M17)>89,1,VLOOKUP(VALUE(M17),List2!$A$1:'List2'!$B$90,2)))","v":""},null,{"$f":"IF(ISBLANK(O17),\"\",IF(VALUE(O17)>89,1,VLOOKUP(VALUE(O17),List2!$A$1:'List2'!$B$90,2)))","v":""},null,{"$f":"IF(ISBLANK(Q17),\"\",IF(VALUE(Q17)>89,1,VLOOKUP(VALUE(Q17),List2!$A$1:'List2'!$B$90,2)))","v":""},null,{"$f":"IF(ISBLANK(S17),\"\",IF(VALUE(S17)>89,1,VLOOKUP(VALUE(S17),List2!$A$1:'List2'!$B$90,2)))","v":""},null,{"$f":"IF(ISBLANK(U17),\"\",IF(VALUE(U17)>89,1,VLOOKUP(VALUE(U17),List2!$A$1:'List2'!$B$90,2)))","v":""},null,{"$f":"IF(ISBLANK(W17),\"\",IF(VALUE(W17)>89,1,VLOOKUP(VALUE(W17),List2!$A$1:'List2'!$B$90,2)))","v":""},null,{"$f":"IF(ISBLANK(Y17),\"\",IF(VALUE(Y17)>89,1,VLOOKUP(VALUE(Y17),List2!$A$1:'List2'!$B$90,2)))","v":""},null,{"$f":"IF(ISBLANK(AA17),\"\",IF(VALUE(AA17)>89,1,VLOOKUP(VALUE(AA17),List2!$A$1:'List2'!$B$90,2)))","v":""},null,{"$f":"IF(ISBLANK(AC17),\"\",IF(VALUE(AC17)>89,1,VLOOKUP(VALUE(AC17),List2!$A$1:'List2'!$B$90,2)))","v":""},null,{"$f":"IF(ISBLANK(AE17),\"\",IF(VALUE(AE17)>89,1,VLOOKUP(VALUE(AE17),List2!$A$1:'List2'!$B$90,2)))","v":""},null,{"$f":"IF(ISBLANK(AG17),\"\",IF(VALUE(AG17)>89,1,VLOOKUP(VALUE(AG17),List2!$A$1:'List2'!$B$90,2)))","v":""},null,{"$f":"IF(ISBLANK(AI17),\"\",IF(VALUE(AI17)>89,1,VLOOKUP(VALUE(AI17),List2!$A$1:'List2'!$B$90,2)))","v":""},null,{"$f":"IF(ISBLANK(AK17),\"\",IF(VALUE(AK17)>89,1,VLOOKUP(VALUE(AK17),List2!$A$1:'List2'!$B$90,2)))","v":""},null,{"$f":"IF(ISBLANK(AM17),\"\",IF(VALUE(AM17)>89,1,VLOOKUP(VALUE(AM17),List2!$A$1:'List2'!$B$90,2)))","v":""},null,152]
[16,"Horák Rudolf",148,148,null,{"$f":"IF(ISBLANK(E18),\"\",IF(VALUE(E18)>89,1,VLOOKUP(VALUE(E18),List2!$A$1:'List2'!$B$90,2)))","v":""},null,{"$f":"IF(ISBLANK(G18),\"\",IF(VALUE(G18)>89,1,VLOOKUP(VALUE(G18),List2!$A$1:'List2'!$B$90,2)))","v":""},"7",{"$f":"IF(ISBLANK(I18),\"\",IF(VALUE(I18)>89,1,VLOOKUP(VALUE(I18),List2!$A$1:'List2'!$B$90,2)))","v":148},null,{"$f":"IF(ISBLANK(K18),\"\",IF(VALUE(K18)>89,1,VLOOKUP(VALUE(K18),List2!$A$1:'List2'!$B$90,2)))","v":""},null,{"$f":"IF(ISBLANK(M18),\"\",IF(VALUE(M18)>89,1,VLOOKUP(VALUE(M18),List2!$A$1:'List2'!$B$90,2)))","v":""},null,{"$f":"IF(ISBLANK(O18),\"\",IF(VALUE(O18)>89,1,VLOOKUP(VALUE(O18),List2!$A$1:'List2'!$B$90,2)))","v":""},null,{"$f":"IF(ISBLANK(Q18),\"\",IF(VALUE(Q18)>89,1,VLOOKUP(VALUE(Q18),List2!$A$1:'List2'!$B$90,2)))","v":""},null,{"$f":"IF(ISBLANK(S18),\"\",IF(VALUE(S18)>89,1,VLOOKUP(VALUE(S18),List2!$A$1:'List2'!$B$90,2)))","v":""},null,{"$f":"IF(ISBLANK(U18),\"\",IF(VALUE(U18)>89,1,VLOOKUP(VALUE(U18),List2!$A$1:'List2'!$B$90,2)))","v":""},null,{"$f":"IF(ISBLANK(W18),\"\",IF(VALUE(W18)>89,1,VLOOKUP(VALUE(W18),List2!$A$1:'List2'!$B$90,2)))","v":""},null,{"$f":"IF(ISBLANK(Y18),\"\",IF(VALUE(Y18)>89,1,VLOOKUP(VALUE(Y18),List2!$A$1:'List2'!$B$90,2)))","v":""},null,{"$f":"IF(ISBLANK(AA18),\"\",IF(VALUE(AA18)>89,1,VLOOKUP(VALUE(AA18),List2!$A$1:'List2'!$B$90,2)))","v":""},null,{"$f":"IF(ISBLANK(AC18),\"\",IF(VALUE(AC18)>89,1,VLOOKUP(VALUE(AC18),List2!$A$1:'List2'!$B$90,2)))","v":""},null,{"$f":"IF(ISBLANK(AE18),\"\",IF(VALUE(AE18)>89,1,VLOOKUP(VALUE(AE18),List2!$A$1:'List2'!$B$90,2)))","v":""},null,{"$f":"IF(ISBLANK(AG18),\"\",IF(VALUE(AG18)>89,1,VLOOKUP(VALUE(AG18),List2!$A$1:'List2'!$B$90,2)))","v":""},null,{"$f":"IF(ISBLANK(AI18),\"\",IF(VALUE(AI18)>89,1,VLOOKUP(VALUE(AI18),List2!$A$1:'List2'!$B$90,2)))","v":""},null,{"$f":"IF(ISBLANK(AK18),\"\",IF(VALUE(AK18)>89,1,VLOOKUP(VALUE(AK18),List2!$A$1:'List2'!$B$90,2)))","v":""},null,{"$f":"IF(ISBLANK(AM18),\"\",IF(VALUE(AM18)>89,1,VLOOKUP(VALUE(AM18),List2!$A$1:'List2'!$B$90,2)))","v":""},null,148]
[17,"Krýda Jiří",140,140,null,{"$f":"IF(ISBLANK(E19),\"\",IF(VALUE(E19)>89,1,VLOOKUP(VALUE(E19),List2!$A$1:'List2'!$B$90,2)))","v":""},null,{"$f":"IF(ISBLANK(G19),\"\",IF(VALUE(G19)>89,1,VLOOKUP(VALUE(G19),List2!$A$1:'List2'!$B$90,2)))","v":""},"9",{"$f":"IF(ISBLANK(I19),\"\",IF(VALUE(I19)>89,1,VLOOKUP(VALUE(I19),List2!$A$1:'List2'!$B$90,2)))","v":140},null,{"$f":"IF(ISBLANK(K19),\"\",IF(VALUE(K19)>89,1,VLOOKUP(VALUE(K19),List2!$A$1:'List2'!$B$90,2)))","v":""},null,{"$f":"IF(ISBLANK(M19),\"\",IF(VALUE(M19)>89,1,VLOOKUP(VALUE(M19),List2!$A$1:'List2'!$B$90,2)))","v":""},null,{"$f":"IF(ISBLANK(O19),\"\",IF(VALUE(O19)>89,1,VLOOKUP(VALUE(O19),List2!$A$1:'List2'!$B$90,2)))","v":""},null,{"$f":"IF(ISBLANK(Q19),\"\",IF(VALUE(Q19)>89,1,VLOOKUP(VALUE(Q19),List2!$A$1:'List2'!$B$90,2)))","v":""},null,{"$f":"IF(ISBLANK(S19),\"\",IF(VALUE(S19)>89,1,VLOOKUP(VALUE(S19),List2!$A$1:'List2'!$B$90,2)))","v":""},null,{"$f":"IF(ISBLANK(U19),\"\",IF(VALUE(U19)>89,1,VLOOKUP(VALUE(U19),List2!$A$1:'List2'!$B$90,2)))","v":""},null,{"$f":"IF(ISBLANK(W19),\"\",IF(VALUE(W19)>89,1,VLOOKUP(VALUE(W19),List2!$A$1:'List2'!$B$90,2)))","v":""},null,{"$f":"IF(ISBLANK(Y19),\"\",IF(VALUE(Y19)>89,1,VLOOKUP(VALUE(Y19),List2!$A$1:'List2'!$B$90,2)))","v":""},null,{"$f":"IF(ISBLANK(AA19),\"\",IF(VALUE(AA19)>89,1,VLOOKUP(VALUE(AA19),List2!$A$1:'List2'!$B$90,2)))","v":""},null,{"$f":"IF(ISBLANK(AC19),\"\",IF(VALUE(AC19)>89,1,VLOOKUP(VALUE(AC19),List2!$A$1:'List2'!$B$90,2)))","v":""},null,{"$f":"IF(ISBLANK(AE19),\"\",IF(VALUE(AE19)>89,1,VLOOKUP(VALUE(AE19),List2!$A$1:'List2'!$B$90,2)))","v":""},null,{"$f":"IF(ISBLANK(AG19),\"\",IF(VALUE(AG19)>89,1,VLOOKUP(VALUE(AG19),List2!$A$1:'List2'!$B$90,2)))","v":""},null,{"$f":"IF(ISBLANK(AI19),\"\",IF(VALUE(AI19)>89,1,VLOOKUP(VALUE(AI19),List2!$A$1:'List2'!$B$90,2)))","v":""},null,{"$f":"IF(ISBLANK(AK19),\"\",IF(VALUE(AK19)>89,1,VLOOKUP(VALUE(AK19),List2!$A$1:'List2'!$B$90,2)))","v":""},null,{"$f":"IF(ISBLANK(AM19),\"\",IF(VALUE(AM19)>89,1,VLOOKUP(VALUE(AM19),List2!$A$1:'List2'!$B$90,2)))","v":""},null,140]
[18,"Rybář Vladimír",133,133,null,{"$f":"IF(ISBLANK(E20),\"\",IF(VALUE(E20)>89,1,VLOOKUP(VALUE(E20),List2!$A$1:'List2'!$B$90,2)))","v":""},null,{"$f":"IF(ISBLANK(G20),\"\",IF(VALUE(G20)>89,1,VLOOKUP(VALUE(G20),List2!$A$1:'List2'!$B$90,2)))","v":""},"11",{"$f":"IF(ISBLANK(I20),\"\",IF(VALUE(I20)>89,1,VLOOKUP(VALUE(I20),List2!$A$1:'List2'!$B$90,2)))","v":133},null,{"$f":"IF(ISBLANK(K20),\"\",IF(VALUE(K20)>89,1,VLOOKUP(VALUE(K20),List2!$A$1:'List2'!$B$90,2)))","v":""},null,{"$f":"IF(ISBLANK(M20),\"\",IF(VALUE(M20)>89,1,VLOOKUP(VALUE(M20),List2!$A$1:'List2'!$B$90,2)))","v":""},null,{"$f":"IF(ISBLANK(O20),\"\",IF(VALUE(O20)>89,1,VLOOKUP(VALUE(O20),List2!$A$1:'List2'!$B$90,2)))","v":""},null,{"$f":"IF(ISBLANK(Q20),\"\",IF(VALUE(Q20)>89,1,VLOOKUP(VALUE(Q20),List2!$A$1:'List2'!$B$90,2)))","v":""},null,{"$f":"IF(ISBLANK(S20),\"\",IF(VALUE(S20)>89,1,VLOOKUP(VALUE(S20),List2!$A$1:'List2'!$B$90,2)))","v":""},null,{"$f":"IF(ISBLANK(U20),\"\",IF(VALUE(U20)>89,1,VLOOKUP(VALUE(U20),List2!$A$1:'List2'!$B$90,2)))","v":""},null,{"$f":"IF(ISBLANK(W20),\"\",IF(VALUE(W20)>89,1,VLOOKUP(VALUE(W20),List2!$A$1:'List2'!$B$90,2)))","v":""},null,{"$f":"IF(ISBLANK(Y20),\"\",IF(VALUE(Y20)>89,1,VLOOKUP(VALUE(Y20),List2!$A$1:'List2'!$B$90,2)))","v":""},null,{"$f":"IF(ISBLANK(AA20),\"\",IF(VALUE(AA20)>89,1,VLOOKUP(VALUE(AA20),List2!$A$1:'List2'!$B$90,2)))","v":""},null,{"$f":"IF(ISBLANK(AC20),\"\",IF(VALUE(AC20)>89,1,VLOOKUP(VALUE(AC20),List2!$A$1:'List2'!$B$90,2)))","v":""},null,{"$f":"IF(ISBLANK(AE20),\"\",IF(VALUE(AE20)>89,1,VLOOKUP(VALUE(AE20),List2!$A$1:'List2'!$B$90,2)))","v":""},null,{"$f":"IF(ISBLANK(AG20),\"\",IF(VALUE(AG20)>89,1,VLOOKUP(VALUE(AG20),List2!$A$1:'List2'!$B$90,2)))","v":""},null,{"$f":"IF(ISBLANK(AI20),\"\",IF(VALUE(AI20)>89,1,VLOOKUP(VALUE(AI20),List2!$A$1:'List2'!$B$90,2)))","v":""},null,{"$f":"IF(ISBLANK(AK20),\"\",IF(VALUE(AK20)>89,1,VLOOKUP(VALUE(AK20),List2!$A$1:'List2'!$B$90,2)))","v":""},null,{"$f":"IF(ISBLANK(AM20),\"\",IF(VALUE(AM20)>89,1,VLOOKUP(VALUE(AM20),List2!$A$1:'List2'!$B$90,2)))","v":""},null,133]
[19,"Drbal Petr",650,650,null,{"$f":"IF(ISBLANK(E21),\"\",IF(VALUE(E21)>89,1,VLOOKUP(VALUE(E21),List2!$A$1:'List2'!$B$90,2)))","v":""},null,{"$f":"IF(ISBLANK(G21),\"\",IF(VALUE(G21)>89,1,VLOOKUP(VALUE(G21),List2!$A$1:'List2'!$B$90,2)))","v":""},null,{"$f":"IF(ISBLANK(I21),\"\",IF(VALUE(I21)>89,1,VLOOKUP(VALUE(I21),List2!$A$1:'List2'!$B$90,2)))","v":""},"3",{"$f":"IF(ISBLANK(K21),\"\",IF(VALUE(K21)>89,1,VLOOKUP(VALUE(K21),List2!$A$1:'List2'!$B$90,2)))","v":170},null,{"$f":"IF(ISBLANK(M21),\"\",IF(VALUE(M21)>89,1,VLOOKUP(VALUE(M21),List2!$A$1:'List2'!$B$90,2)))","v":""},"7",{"$f":"IF(ISBLANK(O21),\"\",IF(VALUE(O21)>89,1,VLOOKUP(VALUE(O21),List2!$A$1:'List2'!$B$90,2)))","v":148},"4",{"$f":"IF(ISBLANK(Q21),\"\",IF(VALUE(Q21)>89,1,VLOOKUP(VALUE(Q21),List2!$A$1:'List2'!$B$90,2)))","v":162},"3",{"$f":"IF(ISBLANK(S21),\"\",IF(VALUE(S21)>89,1,VLOOKUP(VALUE(S21),List2!$A$1:'List2'!$B$90,2)))","v":170},null,{"$f":"IF(ISBLANK(U21),\"\",IF(VALUE(U21)>89,1,VLOOKUP(VALUE(U21),List2!$A$1:'List2'!$B$90,2)))","v":""},null,{"$f":"IF(ISBLANK(W21),\"\",IF(VALUE(W21)>89,1,VLOOKUP(VALUE(W21),List2!$A$1:'List2'!$B$90,2)))","v":""},null,{"$f":"IF(ISBLANK(Y21),\"\",IF(VALUE(Y21)>89,1,VLOOKUP(VALUE(Y21),List2!$A$1:'List2'!$B$90,2)))","v":""},null,{"$f":"IF(ISBLANK(AA21),\"\",IF(VALUE(AA21)>89,1,VLOOKUP(VALUE(AA21),List2!$A$1:'List2'!$B$90,2)))","v":""},null,{"$f":"IF(ISBLANK(AC21),\"\",IF(VALUE(AC21)>89,1,VLOOKUP(VALUE(AC21),List2!$A$1:'List2'!$B$90,2)))","v":""},null,{"$f":"IF(ISBLANK(AE21),\"\",IF(VALUE(AE21)>89,1,VLOOKUP(VALUE(AE21),List2!$A$1:'List2'!$B$90,2)))","v":""},null,{"$f":"IF(ISBLANK(AG21),\"\",IF(VALUE(AG21)>89,1,VLOOKUP(VALUE(AG21),List2!$A$1:'List2'!$B$90,2)))","v":""},null,{"$f":"IF(ISBLANK(AI21),\"\",IF(VALUE(AI21)>89,1,VLOOKUP(VALUE(AI21),List2!$A$1:'List2'!$B$90,2)))","v":""},null,{"$f":"IF(ISBLANK(AK21),\"\",IF(VALUE(AK21)>89,1,VLOOKUP(VALUE(AK21),List2!$A$1:'List2'!$B$90,2)))","v":""},null,{"$f":"IF(ISBLANK(AM21),\"\",IF(VALUE(AM21)>89,1,VLOOKUP(VALUE(AM21),List2!$A$1:'List2'!$B$90,2)))","v":""},null,650]
[20,"Vítek Zdeněk",156,156,null,{"$f":"IF(ISBLANK(E22),\"\",IF(VALUE(E22)>89,1,VLOOKUP(VALUE(E22),List2!$A$1:'List2'!$B$90,2)))","v":""},null,{"$f":"IF(ISBLANK(G22),\"\",IF(VALUE(G22)>89,1,VLOOKUP(VALUE(G22),List2!$A$1:'List2'!$B$90,2)))","v":""},null,{"$f":"IF(ISBLANK(I22),\"\",IF(VALUE(I22)>89,1,VLOOKUP(VALUE(I22),List2!$A$1:'List2'!$B$90,2)))","v":""},null,{"$f":"IF(ISBLANK(K22),\"\",IF(VALUE(K22)>89,1,VLOOKUP(VALUE(K22),List2!$A$1:'List2'!$B$90,2)))","v":""},"5",{"$f":"IF(ISBLANK(M22),\"\",IF(VALUE(M22)>89,1,VLOOKUP(VALUE(M22),List2!$A$1:'List2'!$B$90,2)))","v":156},null,{"$f":"IF(ISBLANK(O22),\"\",IF(VALUE(O22)>89,1,VLOOKUP(VALUE(O22),List2!$A$1:'List2'!$B$90,2)))","v":""},null,{"$f":"IF(ISBLANK(Q22),\"\",IF(VALUE(Q22)>89,1,VLOOKUP(VALUE(Q22),List2!$A$1:'List2'!$B$90,2)))","v":""},null,{"$f":"IF(ISBLANK(S22),\"\",IF(VALUE(S22)>89,1,VLOOKUP(VALUE(S22),List2!$A$1:'List2'!$B$90,2)))","v":""},null,{"$f":"IF(ISBLANK(U22),\"\",IF(VALUE(U22)>89,1,VLOOKUP(VALUE(U22),List2!$A$1:'List2'!$B$90,2)))","v":""},null,{"$f":"IF(ISBLANK(W22),\"\",IF(VALUE(W22)>89,1,VLOOKUP(VALUE(W22),List2!$A$1:'List2'!$B$90,2)))","v":""},null,{"$f":"IF(ISBLANK(Y22),\"\",IF(VALUE(Y22)>89,1,VLOOKUP(VALUE(Y22),List2!$A$1:'List2'!$B$90,2)))","v":""},null,{"$f":"IF(ISBLANK(AA22),\"\",IF(VALUE(AA22)>89,1,VLOOKUP(VALUE(AA22),List2!$A$1:'List2'!$B$90,2)))","v":""},null,{"$f":"IF(ISBLANK(AC22),\"\",IF(VALUE(AC22)>89,1,VLOOKUP(VALUE(AC22),List2!$A$1:'List2'!$B$90,2)))","v":""},null,{"$f":"IF(ISBLANK(AE22),\"\",IF(VALUE(AE22)>89,1,VLOOKUP(VALUE(AE22),List2!$A$1:'List2'!$B$90,2)))","v":""},null,{"$f":"IF(ISBLANK(AG22),\"\",IF(VALUE(AG22)>89,1,VLOOKUP(VALUE(AG22),List2!$A$1:'List2'!$B$90,2)))","v":""},null,{"$f":"IF(ISBLANK(AI22),\"\",IF(VALUE(AI22)>89,1,VLOOKUP(VALUE(AI22),List2!$A$1:'List2'!$B$90,2)))","v":""},null,{"$f":"IF(ISBLANK(AK22),\"\",IF(VALUE(AK22)>89,1,VLOOKUP(VALUE(AK22),List2!$A$1:'List2'!$B$90,2)))","v":""},null,{"$f":"IF(ISBLANK(AM22),\"\",IF(VALUE(AM22)>89,1,VLOOKUP(VALUE(AM22),List2!$A$1:'List2'!$B$90,2)))","v":""},null,156]
[21,"Koleš Ladislav",200,200,null,{"$f":"IF(ISBLANK(E23),\"\",IF(VALUE(E23)>89,1,VLOOKUP(VALUE(E23),List2!$A$1:'List2'!$B$90,2)))","v":""},null,{"$f":"IF(ISBLANK(G23),\"\",IF(VALUE(G23)>89,1,VLOOKUP(VALUE(G23),List2!$A$1:'List2'!$B$90,2)))","v":""},null,{"$f":"IF(ISBLANK(I23),\"\",IF(VALUE(I23)>89,1,VLOOKUP(VALUE(I23),List2!$A$1:'List2'!$B$90,2)))","v":""},null,{"$f":"IF(ISBLANK(K23),\"\",IF(VALUE(K23)>89,1,VLOOKUP(VALUE(K23),List2!$A$1:'List2'!$B$90,2)))","v":""},null,{"$f":"IF(ISBLANK(M23),\"\",IF(VALUE(M23)>89,1,VLOOKUP(VALUE(M23),List2!$A$1:'List2'!$B$90,2)))","v":""},"1",{"$f":"IF(ISBLANK(O23),\"\",IF(VALUE(O23)>89,1,VLOOKUP(VALUE(O23),List2!$A$1:'List2'!$B$90,2)))","v":200},null,{"$f":"IF(ISBLANK(Q23),\"\",IF(VALUE(Q23)>89,1,VLOOKUP(VALUE(Q23),List2!$A$1:'List2'!$B$90,2)))","v":""},null,{"$f":"IF(ISBLANK(S23),\"\",IF(VALUE(S23)>89,1,VLOOKUP(VALUE(S23),List2!$A$1:'List2'!$B$90,2)))","v":""},null,{"$f":"IF(ISBLANK(U23),\"\",IF(VALUE(U23)>89,1,VLOOKUP(VALUE(U23),List2!$A$1:'List2'!$B$90,2)))","v":""},null,{"$f":"IF(ISBLANK(W23),\"\",IF(VALUE(W23)>89,1,VLOOKUP(VALUE(W23),List2!$A$1:'List2'!$B$90,2)))","v":""},null,{"$f":"IF(ISBLANK(Y23),\"\",IF(VALUE(Y23)>89,1,VLOOKUP(VALUE(Y23),List2!$A$1:'List2'!$B$90,2)))","v":""},null,{"$f":"IF(ISBLANK(AA23),\"\",IF(VALUE(AA23)>89,1,VLOOKUP(VALUE(AA23),List2!$A$1:'List2'!$B$90,2)))","v":""},null,{"$f":"IF(ISBLANK(AC23),\"\",IF(VALUE(AC23)>89,1,VLOOKUP(VALUE(AC23),List2!$A$1:'List2'!$B$90,2)))","v":""},null,{"$f":"IF(ISBLANK(AE23),\"\",IF(VALUE(AE23)>89,1,VLOOKUP(VALUE(AE23),List2!$A$1:'List2'!$B$90,2)))","v":""},null,{"$f":"IF(ISBLANK(AG23),\"\",IF(VALUE(AG23)>89,1,VLOOKUP(VALUE(AG23),List2!$A$1:'List2'!$B$90,2)))","v":""},null,{"$f":"IF(ISBLANK(AI23),\"\",IF(VALUE(AI23)>89,1,VLOOKUP(VALUE(AI23),List2!$A$1:'List2'!$B$90,2)))","v":""},null,{"$f":"IF(ISBLANK(AK23),\"\",IF(VALUE(AK23)>89,1,VLOOKUP(VALUE(AK23),List2!$A$1:'List2'!$B$90,2)))","v":""},null,{"$f":"IF(ISBLANK(AM23),\"\",IF(VALUE(AM23)>89,1,VLOOKUP(VALUE(AM23),List2!$A$1:'List2'!$B$90,2)))","v":""},null,200]
[22,"Dušek Jiří",310,310,null,{"$f":"IF(ISBLANK(E24),\"\",IF(VALUE(E24)>89,1,VLOOKUP(VALUE(E24),List2!$A$1:'List2'!$B$90,2)))","v":""},null,{"$f":"IF(ISBLANK(G24),\"\",IF(VALUE(G24)>89,1,VLOOKUP(VALUE(G24),List2!$A$1:'List2'!$B$90,2)))","v":""},null,{"$f":"IF(ISBLANK(I24),\"\",IF(VALUE(I24)>89,1,VLOOKUP(VALUE(I24),List2!$A$1:'List2'!$B$90,2)))","v":""},null,{"$f":"IF(ISBLANK(K24),\"\",IF(VALUE(K24)>89,1,VLOOKUP(VALUE(K24),List2!$A$1:'List2'!$B$90,2)))","v":""},null,{"$f":"IF(ISBLANK(M24),\"\",IF(VALUE(M24)>89,1,VLOOKUP(VALUE(M24),List2!$A$1:'List2'!$B$90,2)))","v":""},"3",{"$f":"IF(ISBLANK(O24),\"\",IF(VALUE(O24)>89,1,VLOOKUP(VALUE(O24),List2!$A$1:'List2'!$B$90,2)))","v":170},"9",{"$f":"IF(ISBLANK(Q24),\"\",IF(VALUE(Q24)>89,1,VLOOKUP(VALUE(Q24),List2!$A$1:'List2'!$B$90,2)))","v":140},null,{"$f":"IF(ISBLANK(S24),\"\",IF(VALUE(S24)>89,1,VLOOKUP(VALUE(S24),List2!$A$1:'List2'!$B$90,2)))","v":""},null,{"$f":"IF(ISBLANK(U24),\"\",IF(VALUE(U24)>89,1,VLOOKUP(VALUE(U24),List2!$A$1:'List2'!$B$90,2)))","v":""},null,{"$f":"IF(ISBLANK(W24),\"\",IF(VALUE(W24)>89,1,VLOOKUP(VALUE(W24),List2!$A$1:'List2'!$B$90,2)))","v":""},null,{"$f":"IF(ISBLANK(Y24),\"\",IF(VALUE(Y24)>89,1,VLOOKUP(VALUE(Y24),List2!$A$1:'List2'!$B$90,2)))","v":""},null,{"$f":"IF(ISBLANK(AA24),\"\",IF(VALUE(AA24)>89,1,VLOOKUP(VALUE(AA24),List2!$A$1:'List2'!$B$90,2)))","v":""},null,{"$f":"IF(ISBLANK(AC24),\"\",IF(VALUE(AC24)>89,1,VLOOKUP(VALUE(AC24),List2!$A$1:'List2'!$B$90,2)))","v":""},null,{"$f":"IF(ISBLANK(AE24),\"\",IF(VALUE(AE24)>89,1,VLOOKUP(VALUE(AE24),List2!$A$1:'List2'!$B$90,2)))","v":""},null,{"$f":"IF(ISBLANK(AG24),\"\",IF(VALUE(AG24)>89,1,VLOOKUP(VALUE(AG24),List2!$A$1:'List2'!$B$90,2)))","v":""},null,{"$f":"IF(ISBLANK(AI24),\"\",IF(VALUE(AI24)>89,1,VLOOKUP(VALUE(AI24),List2!$A$1:'List2'!$B$90,2)))","v":""},null,{"$f":"IF(ISBLANK(AK24),\"\",IF(VALUE(AK24)>89,1,VLOOKUP(VALUE(AK24),List2!$A$1:'List2'!$B$90,2)))","v":""},null,{"$f":"IF(ISBLANK(AM24),\"\",IF(VALUE(AM24)>89,1,VLOOKUP(VALUE(AM24),List2!$A$1:'List2'!$B$90,2)))","v":""},null,310]
[23,"Vaníček Miroslav",308,308,null,{"$f":"IF(ISBLANK(E25),\"\",IF(VALUE(E25)>89,1,VLOOKUP(VALUE(E25),List2!$A$1:'List2'!$B$90,2)))","v":""},null,{"$f":"IF(ISBLANK(G25),\"\",IF(VALUE(G25)>89,1,VLOOKUP(VALUE(G25),List2!$A$1:'List2'!$B$90,2)))","v":""},null,{"$f":"IF(ISBLANK(I25),\"\",IF(VALUE(I25)>89,1,VLOOKUP(VALUE(I25),List2!$A$1:'List2'!$B$90,2)))","v":""},null,{"$f":"IF(ISBLANK(K25),\"\",IF(VALUE(K25)>89,1,VLOOKUP(VALUE(K25),List2!$A$1:'List2'!$B$90,2)))","v":""},null,{"$f":"IF(ISBLANK(M25),\"\",IF(VALUE(M25)>89,1,VLOOKUP(VALUE(M25),List2!$A$1:'List2'!$B$90,2)))","v":""},"5",{"$f":"IF(ISBLANK(O25),\"\",IF(VALUE(O25)>89,1,VLOOKUP(VALUE(O25),List2!$A$1:'List2'!$B$90,2)))","v":156},"6",{"$f":"IF(ISBLANK(Q25),\"\",IF(VALUE(Q25)>89,1,VLOOKUP(VALUE(Q25),List2!$A$1:'List2'!$B$90,2)))","v":152},null,{"$f":"IF(ISBLANK(S25),\"\",IF(VALUE(S25)>89,1,VLOOKUP(VALUE(S25),List2!$A$1:'List2'!$B$90,2)))","v":""},null,{"$f":"IF(ISBLANK(U25),\"\",IF(VALUE(U25)>89,1,VLOOKUP(VALUE(U25),List2!$A$1:'List2'!$B$90,2)))","v":""},null,{"$f":"IF(ISBLANK(W25),\"\",IF(VALUE(W25)>89,1,VLOOKUP(VALUE(W25),List2!$A$1:'List2'!$B$90,2)))","v":""},null,{"$f":"IF(ISBLANK(Y25),\"\",IF(VALUE(Y25)>89,1,VLOOKUP(VALUE(Y25),List2!$A$1:'List2'!$B$90,2)))","v":""},null,{"$f":"IF(ISBLANK(AA25),\"\",IF(VALUE(AA25)>89,1,VLOOKUP(VALUE(AA25),List2!$A$1:'List2'!$B$90,2)))","v":""},null,{"$f":"IF(ISBLANK(AC25),\"\",IF(VALUE(AC25)>89,1,VLOOKUP(VALUE(AC25),List2!$A$1:'List2'!$B$90,2)))","v":""},null,{"$f":"IF(ISBLANK(AE25),\"\",IF(VALUE(AE25)>89,1,VLOOKUP(VALUE(AE25),List2!$A$1:'List2'!$B$90,2)))","v":""},null,{"$f":"IF(ISBLANK(AG25),\"\",IF(VALUE(AG25)>89,1,VLOOKUP(VALUE(AG25),List2!$A$1:'List2'!$B$90,2)))","v":""},null,{"$f":"IF(ISBLANK(AI25),\"\",IF(VALUE(AI25)>89,1,VLOOKUP(VALUE(AI25),List2!$A$1:'List2'!$B$90,2)))","v":""},null,{"$f":"IF(ISBLANK(AK25),\"\",IF(VALUE(AK25)>89,1,VLOOKUP(VALUE(AK25),List2!$A$1:'List2'!$B$90,2)))","v":""},null,{"$f":"IF(ISBLANK(AM25),\"\",IF(VALUE(AM25)>89,1,VLOOKUP(VALUE(AM25),List2!$A$1:'List2'!$B$90,2)))","v":""},null,308]
[24,"Vlkovský Vladimír",152,152,null,{"$f":"IF(ISBLANK(E26),\"\",IF(VALUE(E26)>89,1,VLOOKUP(VALUE(E26),List2!$A$1:'List2'!$B$90,2)))","v":""},null,{"$f":"IF(ISBLANK(G26),\"\",IF(VALUE(G26)>89,1,VLOOKUP(VALUE(G26),List2!$A$1:'List2'!$B$90,2)))","v":""},null,{"$f":"IF(ISBLANK(I26),\"\",IF(VALUE(I26)>89,1,VLOOKUP(VALUE(I26),List2!$A$1:'List2'!$B$90,2)))","v":""},null,{"$f":"IF(ISBLANK(K26),\"\",IF(VALUE(K26)>89,1,VLOOKUP(VALUE(K26),List2!$A$1:'List2'!$B$90,2)))","v":""},null,{"$f":"IF(ISBLANK(M26),\"\",IF(VALUE(M26)>89,1,VLOOKUP(VALUE(M26),List2!$A$1:'List2'!$B$90,2)))","v":""},"6",{"$f":"IF(ISBLANK(O26),\"\",IF(VALUE(O26)>89,1,VLOOKUP(VALUE(O26),List2!$A$1:'List2'!$B$90,2)))","v":152},null,{"$f":"IF(ISBLANK(Q26),\"\",IF(VALUE(Q26)>89,1,VLOOKUP(VALUE(Q26),List2!$A$1:'List2'!$B$90,2)))","v":""},null,{"$f":"IF(ISBLANK(S26),\"\",IF(VALUE(S26)>89,1,VLOOKUP(VALUE(S26),List2!$A$1:'List2'!$B$90,2)))","v":""},null,{"$f":"IF(ISBLANK(U26),\"\",IF(VALUE(U26)>89,1,VLOOKUP(VALUE(U26),List2!$A$1:'List2'!$B$90,2)))","v":""},null,{"$f":"IF(ISBLANK(W26),\"\",IF(VALUE(W26)>89,1,VLOOKUP(VALUE(W26),List2!$A$1:'List2'!$B$90,2)))","v":""},null,{"$f":"IF(ISBLANK(Y26),\"\",IF(VALUE(Y26)>89,1,VLOOKUP(VALUE(Y26),List2!$A$1:'List2'!$B$90,2)))","v":""},null,{"$f":"IF(ISBLANK(AA26),\"\",IF(VALUE(AA26)>89,1,VLOOKUP(VALUE(AA26),List2!$A$1:'List2'!$B$90,2)))","v":""},null,{"$f":"IF(ISBLANK(AC26),\"\",IF(VALUE(AC26)>89,1,VLOOKUP(VALUE(AC26),List2!$A$1:'List2'!$B$90,2)))","v":""},null,{"$f":"IF(ISBLANK(AE26),\"\",IF(VALUE(AE26)>89,1,VLOOKUP(VALUE(AE26),List2!$A$1:'List2'!$B$90,2)))","v":""},null,{"$f":"IF(ISBLANK(AG26),\"\",IF(VALUE(AG26)>89,1,VLOOKUP(VALUE(AG26),List2!$A$1:'List2'!$B$90,2)))","v":""},null,{"$f":"IF(ISBLANK(AI26),\"\",IF(VALUE(AI26)>89,1,VLOOKUP(VALUE(AI26),List2!$A$1:'List2'!$B$90,2)))","v":""},null,{"$f":"IF(ISBLANK(AK26),\"\",IF(VALUE(AK26)>89,1,VLOOKUP(VALUE(AK26),List2!$A$1:'List2'!$B$90,2)))","v":""},null,{"$f":"IF(ISBLANK(AM26),\"\",IF(VALUE(AM26)>89,1,VLOOKUP(VALUE(AM26),List2!$A$1:'List2'!$B$90,2)))","v":""},null,152]
[25,"Samek Vlast.",136,136,null,{"$f":"IF(ISBLANK(E27),\"\",IF(VALUE(E27)>89,1,VLOOKUP(VALUE(E27),List2!$A$1:'List2'!$B$90,2)))","v":""},null,{"$f":"IF(ISBLANK(G27),\"\",IF(VALUE(G27)>89,1,VLOOKUP(VALUE(G27),List2!$A$1:'List2'!$B$90,2)))","v":""},null,{"$f":"IF(ISBLANK(I27),\"\",IF(VALUE(I27)>89,1,VLOOKUP(VALUE(I27),List2!$A$1:'List2'!$B$90,2)))","v":""},null,{"$f":"IF(ISBLANK(K27),\"\",IF(VALUE(K27)>89,1,VLOOKUP(VALUE(K27),List2!$A$1:'List2'!$B$90,2)))","v":""},null,{"$f":"IF(ISBLANK(M27),\"\",IF(VALUE(M27)>89,1,VLOOKUP(VALUE(M27),List2!$A$1:'List2'!$B$90,2)))","v":""},"10",{"$f":"IF(ISBLANK(O27),\"\",IF(VALUE(O27)>89,1,VLOOKUP(VALUE(O27),List2!$A$1:'List2'!$B$90,2)))","v":136},null,{"$f":"IF(ISBLANK(Q27),\"\",IF(VALUE(Q27)>89,1,VLOOKUP(VALUE(Q27),List2!$A$1:'List2'!$B$90,2)))","v":""},null,{"$f":"IF(ISBLANK(S27),\"\",IF(VALUE(S27)>89,1,VLOOKUP(VALUE(S27),List2!$A$1:'List2'!$B$90,2)))","v":""},null,{"$f":"IF(ISBLANK(U27),\"\",IF(VALUE(U27)>89,1,VLOOKUP(VALUE(U27),List2!$A$1:'List2'!$B$90,2)))","v":""},null,{"$f":"IF(ISBLANK(W27),\"\",IF(VALUE(W27)>89,1,VLOOKUP(VALUE(W27),List2!$A$1:'List2'!$B$90,2)))","v":""},null,{"$f":"IF(ISBLANK(Y27),\"\",IF(VALUE(Y27)>89,1,VLOOKUP(VALUE(Y27),List2!$A$1:'List2'!$B$90,2)))","v":""},null,{"$f":"IF(ISBLANK(AA27),\"\",IF(VALUE(AA27)>89,1,VLOOKUP(VALUE(AA27),List2!$A$1:'List2'!$B$90,2)))","v":""},null,{"$f":"IF(ISBLANK(AC27),\"\",IF(VALUE(AC27)>89,1,VLOOKUP(VALUE(AC27),List2!$A$1:'List2'!$B$90,2)))","v":""},null,{"$f":"IF(ISBLANK(AE27),\"\",IF(VALUE(AE27)>89,1,VLOOKUP(VALUE(AE27),List2!$A$1:'List2'!$B$90,2)))","v":""},null,{"$f":"IF(ISBLANK(AG27),\"\",IF(VALUE(AG27)>89,1,VLOOKUP(VALUE(AG27),List2!$A$1:'List2'!$B$90,2)))","v":""},null,{"$f":"IF(ISBLANK(AI27),\"\",IF(VALUE(AI27)>89,1,VLOOKUP(VALUE(AI27),List2!$A$1:'List2'!$B$90,2)))","v":""},null,{"$f":"IF(ISBLANK(AK27),\"\",IF(VALUE(AK27)>89,1,VLOOKUP(VALUE(AK27),List2!$A$1:'List2'!$B$90,2)))","v":""},null,{"$f":"IF(ISBLANK(AM27),\"\",IF(VALUE(AM27)>89,1,VLOOKUP(VALUE(AM27),List2!$A$1:'List2'!$B$90,2)))","v":""},null,136]
[26,"Starý Milan",269,269,null,{"$f":"IF(ISBLANK(E28),\"\",IF(VALUE(E28)>89,1,VLOOKUP(VALUE(E28),List2!$A$1:'List2'!$B$90,2)))","v":""},null,{"$f":"IF(ISBLANK(G28),\"\",IF(VALUE(G28)>89,1,VLOOKUP(VALUE(G28),List2!$A$1:'List2'!$B$90,2)))","v":""},null,{"$f":"IF(ISBLANK(I28),\"\",IF(VALUE(I28)>89,1,VLOOKUP(VALUE(I28),List2!$A$1:'List2'!$B$90,2)))","v":""},null,{"$f":"IF(ISBLANK(K28),\"\",IF(VALUE(K28)>89,1,VLOOKUP(VALUE(K28),List2!$A$1:'List2'!$B$90,2)))","v":""},null,{"$f":"IF(ISBLANK(M28),\"\",IF(VALUE(M28)>89,1,VLOOKUP(VALUE(M28),List2!$A$1:'List2'!$B$90,2)))","v":""},"11",{"$f":"IF(ISBLANK(O28),\"\",IF(VALUE(O28)>89,1,VLOOKUP(VALUE(O28),List2!$A$1:'List2'!$B$90,2)))","v":133},"10",{"$f":"IF(ISBLANK(Q28),\"\",IF(VALUE(Q28)>89,1,VLOOKUP(VALUE(Q28),List2!$A$1:'List2'!$B$90,2)))","v":136},null,{"$f":"IF(ISBLANK(S28),\"\",IF(VALUE(S28)>89,1,VLOOKUP(VALUE(S28),List2!$A$1:'List2'!$B$90,2)))","v":""},null,{"$f":"IF(ISBLANK(U28),\"\",IF(VALUE(U28)>89,1,VLOOKUP(VALUE(U28),List2!$A$1:'List2'!$B$90,2)))","v":""},null,{"$f":"IF(ISBLANK(W28),\"\",IF(VALUE(W28)>89,1,VLOOKUP(VALUE(W28),List2!$A$1:'List2'!$B$90,2)))","v":""},null,{"$f":"IF(ISBLANK(Y28),\"\",IF(VALUE(Y28)>89,1,VLOOKUP(VALUE(Y28),List2!$A$1:'List2'!$B$90,2)))","v":""},null,{"$f":"IF(ISBLANK(AA28),\"\",IF(VALUE(AA28)>89,1,VLOOKUP(VALUE(AA28),List2!$A$1:'List2'!$B$90,2)))","v":""},null,{"$f":"IF(ISBLANK(AC28),\"\",IF(VALUE(AC28)>89,1,VLOOKUP(VALUE(AC28),List2!$A$1:'List2'!$B$90,2)))","v":""},null,{"$f":"IF(ISBLANK(AE28),\"\",IF(VALUE(AE28)>89,1,VLOOKUP(VALUE(AE28),List2!$A$1:'List2'!$B$90,2)))","v":""},null,{"$f":"IF(ISBLANK(AG28),\"\",IF(VALUE(AG28)>89,1,VLOOKUP(VALUE(AG28),List2!$A$1:'List2'!$B$90,2)))","v":""},null,{"$f":"IF(ISBLANK(AI28),\"\",IF(VALUE(AI28)>89,1,VLOOKUP(VALUE(AI28),List2!$A$1:'List2'!$B$90,2)))","v":""},null,{"$f":"IF(ISBLANK(AK28),\"\",IF(VALUE(AK28)>89,1,VLOOKUP(VALUE(AK28),List2!$A$1:'List2'!$B$90,2)))","v":""},null,{"$f":"IF(ISBLANK(AM28),\"\",IF(VALUE(AM28)>89,1,VLOOKUP(VALUE(AM28),List2!$A$1:'List2'!$B$90,2)))","v":""},null,269]
[27,"Vych Jan",180,180,null,{"$f":"IF(ISBLANK(E29),\"\",IF(VALUE(E29)>89,1,VLOOKUP(VALUE(E29),List2!$A$1:'List2'!$B$90,2)))","v":""},null,{"$f":"IF(ISBLANK(G29),\"\",IF(VALUE(G29)>89,1,VLOOKUP(VALUE(G29),List2!$A$1:'List2'!$B$90,2)))","v":""},null,{"$f":"IF(ISBLANK(I29),\"\",IF(VALUE(I29)>89,1,VLOOKUP(VALUE(I29),List2!$A$1:'List2'!$B$90,2)))","v":""},null,{"$f":"IF(ISBLANK(K29),\"\",IF(VALUE(K29)>89,1,VLOOKUP(VALUE(K29),List2!$A$1:'List2'!$B$90,2)))","v":""},null,{"$f":"IF(ISBLANK(M29),\"\",IF(VALUE(M29)>89,1,VLOOKUP(VALUE(M29),List2!$A$1:'List2'!$B$90,2)))","v":""},"2",{"$f":"IF(ISBLANK(O29),\"\",IF(VALUE(O29)>89,1,VLOOKUP(VALUE(O29),List2!$A$1:'List2'!$B$90,2)))","v":180},null,{"$f":"IF(ISBLANK(Q29),\"\",IF(VALUE(Q29)>89,1,VLOOKUP(VALUE(Q29),List2!$A$1:'List2'!$B$90,2)))","v":""},null,{"$f":"IF(ISBLANK(S29),\"\",IF(VALUE(S29)>89,1,VLOOKUP(VALUE(S29),List2!$A$1:'List2'!$B$90,2)))","v":""},null,{"$f":"IF(ISBLANK(U29),\"\",IF(VALUE(U29)>89,1,VLOOKUP(VALUE(U29),List2!$A$1:'List2'!$B$90,2)))","v":""},null,{"$f":"IF(ISBLANK(W29),\"\",IF(VALUE(W29)>89,1,VLOOKUP(VALUE(W29),List2!$A$1:'List2'!$B$90,2)))","v":""},null,{"$f":"IF(ISBLANK(Y29),\"\",IF(VALUE(Y29)>89,1,VLOOKUP(VALUE(Y29),List2!$A$1:'List2'!$B$90,2)))","v":""},null,{"$f":"IF(ISBLANK(AA29),\"\",IF(VALUE(AA29)>89,1,VLOOKUP(VALUE(AA29),List2!$A$1:'List2'!$B$90,2)))","v":""},null,{"$f":"IF(ISBLANK(AC29),\"\",IF(VALUE(AC29)>89,1,VLOOKUP(VALUE(AC29),List2!$A$1:'List2'!$B$90,2)))","v":""},null,{"$f":"IF(ISBLANK(AE29),\"\",IF(VALUE(AE29)>89,1,VLOOKUP(VALUE(AE29),List2!$A$1:'List2'!$B$90,2)))","v":""},null,{"$f":"IF(ISBLANK(AG29),\"\",IF(VALUE(AG29)>89,1,VLOOKUP(VALUE(AG29),List2!$A$1:'List2'!$B$90,2)))","v":""},null,{"$f":"IF(ISBLANK(AI29),\"\",IF(VALUE(AI29)>89,1,VLOOKUP(VALUE(AI29),List2!$A$1:'List2'!$B$90,2)))","v":""},null,{"$f":"IF(ISBLANK(AK29),\"\",IF(VALUE(AK29)>89,1,VLOOKUP(VALUE(AK29),List2!$A$1:'List2'!$B$90,2)))","v":""},null,{"$f":"IF(ISBLANK(AM29),\"\",IF(VALUE(AM29)>89,1,VLOOKUP(VALUE(AM29),List2!$A$1:'List2'!$B$90,2)))","v":""},null,180]
[28,"Kuzl Jan",180,180,null,{"$f":"IF(ISBLANK(E30),\"\",IF(VALUE(E30)>89,1,VLOOKUP(VALUE(E30),List2!$A$1:'List2'!$B$90,2)))","v":""},null,{"$f":"IF(ISBLANK(G30),\"\",IF(VALUE(G30)>89,1,VLOOKUP(VALUE(G30),List2!$A$1:'List2'!$B$90,2)))","v":""},null,{"$f":"IF(ISBLANK(I30),\"\",IF(VALUE(I30)>89,1,VLOOKUP(VALUE(I30),List2!$A$1:'List2'!$B$90,2)))","v":""},null,{"$f":"IF(ISBLANK(K30),\"\",IF(VALUE(K30)>89,1,VLOOKUP(VALUE(K30),List2!$A$1:'List2'!$B$90,2)))","v":""},null,{"$f":"IF(ISBLANK(M30),\"\",IF(VALUE(M30)>89,1,VLOOKUP(VALUE(M30),List2!$A$1:'List2'!$B$90,2)))","v":""},null,{"$f":"IF(ISBLANK(O30),\"\",IF(VALUE(O30)>89,1,VLOOKUP(VALUE(O30),List2!$A$1:'List2'!$B$90,2)))","v":""},"2",{"$f":"IF(ISBLANK(Q30),\"\",IF(VALUE(Q30)>89,1,VLOOKUP(VALUE(Q30),List2!$A$1:'List2'!$B$90,2)))","v":180},null,{"$f":"IF(ISBLANK(S30),\"\",IF(VALUE(S30)>89,1,VLOOKUP(VALUE(S30),List2!$A$1:'List2'!$B$90,2)))","v":""},null,{"$f":"IF(ISBLANK(U30),\"\",IF(VALUE(U30)>89,1,VLOOKUP(VALUE(U30),List2!$A$1:'List2'!$B$90,2)))","v":""},null,{"$f":"IF(ISBLANK(W30),\"\",IF(VALUE(W30)>89,1,VLOOKUP(VALUE(W30),List2!$A$1:'List2'!$B$90,2)))","v":""},null,{"$f":"IF(ISBLANK(Y30),\"\",IF(VALUE(Y30)>89,1,VLOOKUP(VALUE(Y30),List2!$A$1:'List2'!$B$90,2)))","v":""},null,{"$f":"IF(ISBLANK(AA30),\"\",IF(VALUE(AA30)>89,1,VLOOKUP(VALUE(AA30),List2!$A$1:'List2'!$B$90,2)))","v":""},null,{"$f":"IF(ISBLANK(AC30),\"\",IF(VALUE(AC30)>89,1,VLOOKUP(VALUE(AC30),List2!$A$1:'List2'!$B$90,2)))","v":""},null,{"$f":"IF(ISBLANK(AE30),\"\",IF(VALUE(AE30)>89,1,VLOOKUP(VALUE(AE30),List2!$A$1:'List2'!$B$90,2)))","v":""},null,{"$f":"IF(ISBLANK(AG30),\"\",IF(VALUE(AG30)>89,1,VLOOKUP(VALUE(AG30),List2!$A$1:'List2'!$B$90,2)))","v":""},null,{"$f":"IF(ISBLANK(AI30),\"\",IF(VALUE(AI30)>89,1,VLOOKUP(VALUE(AI30),List2!$A$1:'List2'!$B$90,2)))","v":""},null,{"$f":"IF(ISBLANK(AK30),\"\",IF(VALUE(AK30)>89,1,VLOOKUP(VALUE(AK30),List2!$A$1:'List2'!$B$90,2)))","v":""},null,{"$f":"IF(ISBLANK(AM30),\"\",IF(VALUE(AM30)>89,1,VLOOKUP(VALUE(AM30),List2!$A$1:'List2'!$B$90,2)))","v":""},null,180]
[29,"Filip Miroslav",170,170,null,{"$f":"IF(ISBLANK(E31),\"\",IF(VALUE(E31)>89,1,VLOOKUP(VALUE(E31),List2!$A$1:'List2'!$B$90,2)))","v":""},null,{"$f":"IF(ISBLANK(G31),\"\",IF(VALUE(G31)>89,1,VLOOKUP(VALUE(G31),List2!$A$1:'List2'!$B$90,2)))","v":""},null,{"$f":"IF(ISBLANK(I31),\"\",IF(VALUE(I31)>89,1,VLOOKUP(VALUE(I31),List2!$A$1:'List2'!$B$90,2)))","v":""},null,{"$f":"IF(ISBLANK(K31),\"\",IF(VALUE(K31)>89,1,VLOOKUP(VALUE(K31),List2!$A$1:'List2'!$B$90,2)))","v":""},null,{"$f":"IF(ISBLANK(M31),\"\",IF(VALUE(M31)>89,1,VLOOKUP(VALUE(M31),List2!$A$1:'List2'!$B$90,2)))","v":""},null,{"$f":"IF(ISBLANK(O31),\"\",IF(VALUE(O31)>89,1,VLOOKUP(VALUE(O31),List2!$A$1:'List2'!$B$90,2)))","v":""},"3",{"$f":"IF(ISBLANK(Q31),\"\",IF(VALUE(Q31)>89,1,VLOOKUP(VALUE(Q31),List2!$A$1:'List2'!$B$90,2)))","v":170},null,{"$f":"IF(ISBLANK(S31),\"\",IF(VALUE(S31)>89,1,VLOOKUP(VALUE(S31),List2!$A$1:'List2'!$B$90,2)))","v":""},null,{"$f":"IF(ISBLANK(U31),\"\",IF(VALUE(U31)>89,1,VLOOKUP(VALUE(U31),List2!$A$1:'List2'!$B$90,2)))","v":""},null,{"$f":"IF(ISBLANK(W31),\"\",IF(VALUE(W31)>89,1,VLOOKUP(VALUE(W31),List2!$A$1:'List2'!$B$90,2)))","v":""},null,{"$f":"IF(ISBLANK(Y31),\"\",IF(VALUE(Y31)>89,1,VLOOKUP(VALUE(Y31),List2!$A$1:'List2'!$B$90,2)))","v":""},null,{"$f":"IF(ISBLANK(AA31),\"\",IF(VALUE(AA31)>89,1,VLOOKUP(VALUE(AA31),List2!$A$1:'List2'!$B$90,2)))","v":""},null,{"$f":"IF(ISBLANK(AC31),\"\",IF(VALUE(AC31)>89,1,VLOOKUP(VALUE(AC31),List2!$A$1:'List2'!$B$90,2)))","v":""},null,{"$f":"IF(ISBLANK(AE31),\"\",IF(VALUE(AE31)>89,1,VLOOKUP(VALUE(AE31),List2!$A$1:'List2'!$B$90,2)))","v":""},null,{"$f":"IF(ISBLANK(AG31),\"\",IF(VALUE(AG31)>89,1,VLOOKUP(VALUE(AG31),List2!$A$1:'List2'!$B$90,2)))","v":""},null,{"$f":"IF(ISBLANK(AI31),\"\",IF(VALUE(AI31)>89,1,VLOOKUP(VALUE(AI31),List2!$A$1:'List2'!$B$90,2)))","v":""},null,{"$f":"IF(ISBLANK(AK31),\"\",IF(VALUE(AK31)>89,1,VLOOKUP(VALUE(AK31),List2!$A$1:'List2'!$B$90,2)))","v":""},null,{"$f":"IF(ISBLANK(AM31),\"\",IF(VALUE(AM31)>89,1,VLOOKUP(VALUE(AM31),List2!$A$1:'List2'!$B$90,2)))","v":""},null,170]
[30,"Cejnar Petr",148,148,null,{"$f":"IF(ISBLANK(E32),\"\",IF(VALUE(E32)>89,1,VLOOKUP(VALUE(E32),List2!$A$1:'List2'!$B$90,2)))","v":""},null,{"$f":"IF(ISBLANK(G32),\"\",IF(VALUE(G32)>89,1,VLOOKUP(VALUE(G32),List2!$A$1:'List2'!$B$90,2)))","v":""},null,{"$f":"IF(ISBLANK(I32),\"\",IF(VALUE(I32)>89,1,VLOOKUP(VALUE(I32),List2!$A$1:'List2'!$B$90,2)))","v":""},null,{"$f":"IF(ISBLANK(K32),\"\",IF(VALUE(K32)>89,1,VLOOKUP(VALUE(K32),List2!$A$1:'List2'!$B$90,2)))","v":""},null,{"$f":"IF(ISBLANK(M32),\"\",IF(VALUE(M32)>89,1,VLOOKUP(VALUE(M32),List2!$A$1:'List2'!$B$90,2)))","v":""},null,{"$f":"IF(ISBLANK(O32),\"\",IF(VALUE(O32)>89,1,VLOOKUP(VALUE(O32),List2!$A$1:'List2'!$B$90,2)))","v":""},"7",{"$f":"IF(ISBLANK(Q32),\"\",IF(VALUE(Q32)>89,1,VLOOKUP(VALUE(Q32),List2!$A$1:'List2'!$B$90,2)))","v":148},null,{"$f":"IF(ISBLANK(S32),\"\",IF(VALUE(S32)>89,1,VLOOKUP(VALUE(S32),List2!$A$1:'List2'!$B$90,2)))","v":""},null,{"$f":"IF(ISBLANK(U32),\"\",IF(VALUE(U32)>89,1,VLOOKUP(VALUE(U32),List2!$A$1:'List2'!$B$90,2)))","v":""},null,{"$f":"IF(ISBLANK(W32),\"\",IF(VALUE(W32)>89,1,VLOOKUP(VALUE(W32),List2!$A$1:'List2'!$B$90,2)))","v":""},null,{"$f":"IF(ISBLANK(Y32),\"\",IF(VALUE(Y32)>89,1,VLOOKUP(VALUE(Y32),List2!$A$1:'List2'!$B$90,2)))","v":""},null,{"$f":"IF(ISBLANK(AA32),\"\",IF(VALUE(AA32)>89,1,VLOOKUP(VALUE(AA32),List2!$A$1:'List2'!$B$90,2)))","v":""},null,{"$f":"IF(ISBLANK(AC32),\"\",IF(VALUE(AC32)>89,1,VLOOKUP(VALUE(AC32),List2!$A$1:'List2'!$B$90,2)))","v":""},null,{"$f":"IF(ISBLANK(AE32),\"\",IF(VALUE(AE32)>89,1,VLOOKUP(VALUE(AE32),List2!$A$1:'List2'!$B$90,2)))","v":""},null,{"$f":"IF(ISBLANK(AG32),\"\",IF(VALUE(AG32)>89,1,VLOOKUP(VALUE(AG32),List2!$A$1:'List2'!$B$90,2)))","v":""},null,{"$f":"IF(ISBLANK(AI32),\"\",IF(VALUE(AI32)>89,1,VLOOKUP(VALUE(AI32),List2!$A$1:'List2'!$B$90,2)))","v":""},null,{"$f":"IF(ISBLANK(AK32),\"\",IF(VALUE(AK32)>89,1,VLOOKUP(VALUE(AK32),List2!$A$1:'List2'!$B$90,2)))","v":""},null,{"$f":"IF(ISBLANK(AM32),\"\",IF(VALUE(AM32)>89,1,VLOOKUP(VALUE(AM32),List2!$A$1:'List2'!$B$90,2)))","v":""},null,148]
[31,"BenkoMartin",144,144,null,{"$f":"IF(ISBLANK(E33),\"\",IF(VALUE(E33)>89,1,VLOOKUP(VALUE(E33),List2!$A$1:'List2'!$B$90,2)))","v":""},null,{"$f":"IF(ISBLANK(G33),\"\",IF(VALUE(G33)>89,1,VLOOKUP(VALUE(G33),List2!$A$1:'List2'!$B$90,2)))","v":""},null,{"$f":"IF(ISBLANK(I33),\"\",IF(VALUE(I33)>89,1,VLOOKUP(VALUE(I33),List2!$A$1:'List2'!$B$90,2)))","v":""},null,{"$f":"IF(ISBLANK(K33),\"\",IF(VALUE(K33)>89,1,VLOOKUP(VALUE(K33),List2!$A$1:'List2'!$B$90,2)))","v":""},null,{"$f":"IF(ISBLANK(M33),\"\",IF(VALUE(M33)>89,1,VLOOKUP(VALUE(M33),List2!$A$1:'List2'!$B$90,2)))","v":""},null,{"$f":"IF(ISBLANK(O33),\"\",IF(VALUE(O33)>89,1,VLOOKUP(VALUE(O33),List2!$A$1:'List2'!$B$90,2)))","v":""},"8",{"$f":"IF(ISBLANK(Q33),\"\",IF(VALUE(Q33)>89,1,VLOOKUP(VALUE(Q33),List2!$A$1:'List2'!$B$90,2)))","v":144},null,{"$f":"IF(ISBLANK(S33),\"\",IF(VALUE(S33)>89,1,VLOOKUP(VALUE(S33),List2!$A$1:'List2'!$B$90,2)))","v":""},null,{"$f":"IF(ISBLANK(U33),\"\",IF(VALUE(U33)>89,1,VLOOKUP(VALUE(U33),List2!$A$1:'List2'!$B$90,2)))","v":""},null,{"$f":"IF(ISBLANK(W33),\"\",IF(VALUE(W33)>89,1,VLOOKUP(VALUE(W33),List2!$A$1:'List2'!$B$90,2)))","v":""},null,{"$f":"IF(ISBLANK(Y33),\"\",IF(VALUE(Y33)>89,1,VLOOKUP(VALUE(Y33),List2!$A$1:'List2'!$B$90,2)))","v":""},null,{"$f":"IF(ISBLANK(AA33),\"\",IF(VALUE(AA33)>89,1,VLOOKUP(VALUE(AA33),List2!$A$1:'List2'!$B$90,2)))","v":""},null,{"$f":"IF(ISBLANK(AC33),\"\",IF(VALUE(AC33)>89,1,VLOOKUP(VALUE(AC33),List2!$A$1:'List2'!$B$90,2)))","v":""},null,{"$f":"IF(ISBLANK(AE33),\"\",IF(VALUE(AE33)>89,1,VLOOKUP(VALUE(AE33),List2!$A$1:'List2'!$B$90,2)))","v":""},null,{"$f":"IF(ISBLANK(AG33),\"\",IF(VALUE(AG33)>89,1,VLOOKUP(VALUE(AG33),List2!$A$1:'List2'!$B$90,2)))","v":""},null,{"$f":"IF(ISBLANK(AI33),\"\",IF(VALUE(AI33)>89,1,VLOOKUP(VALUE(AI33),List2!$A$1:'List2'!$B$90,2)))","v":""},null,{"$f":"IF(ISBLANK(AK33),\"\",IF(VALUE(AK33)>89,1,VLOOKUP(VALUE(AK33),List2!$A$1:'List2'!$B$90,2)))","v":""},null,{"$f":"IF(ISBLANK(AM33),\"\",IF(VALUE(AM33)>89,1,VLOOKUP(VALUE(AM33),List2!$A$1:'List2'!$B$90,2)))","v":""},null,144]
[32,"Skácelík Pavel",130,130,null,{"$f":"IF(ISBLANK(E34),\"\",IF(VALUE(E34)>89,1,VLOOKUP(VALUE(E34),List2!$A$1:'List2'!$B$90,2)))","v":""},null,{"$f":"IF(ISBLANK(G34),\"\",IF(VALUE(G34)>89,1,VLOOKUP(VALUE(G34),List2!$A$1:'List2'!$B$90,2)))","v":""},null,{"$f":"IF(ISBLANK(I34),\"\",IF(VALUE(I34)>89,1,VLOOKUP(VALUE(I34),List2!$A$1:'List2'!$B$90,2)))","v":""},null,{"$f":"IF(ISBLANK(K34),\"\",IF(VALUE(K34)>89,1,VLOOKUP(VALUE(K34),List2!$A$1:'List2'!$B$90,2)))","v":""},null,{"$f":"IF(ISBLANK(M34),\"\",IF(VALUE(M34)>89,1,VLOOKUP(VALUE(M34),List2!$A$1:'List2'!$B$90,2)))","v":""},null,{"$f":"IF(ISBLANK(O34),\"\",IF(VALUE(O34)>89,1,VLOOKUP(VALUE(O34),List2!$A$1:'List2'!$B$90,2)))","v":""},"12",{"$f":"IF(ISBLANK(Q34),\"\",IF(VALUE(Q34)>89,1,VLOOKUP(VALUE(Q34),List2!$A$1:'List2'!$B$90,2)))","v":130},null,{"$f":"IF(ISBLANK(S34),\"\",IF(VALUE(S34)>89,1,VLOOKUP(VALUE(S34),List2!$A$1:'List2'!$B$90,2)))","v":""},null,{"$f":"IF(ISBLANK(U34),\"\",IF(VALUE(U34)>89,1,VLOOKUP(VALUE(U34),List2!$A$1:'List2'!$B$90,2)))","v":""},null,{"$f":"IF(ISBLANK(W34),\"\",IF(VALUE(W34)>89,1,VLOOKUP(VALUE(W34),List2!$A$1:'List2'!$B$90,2)))","v":""},null,{"$f":"IF(ISBLANK(Y34),\"\",IF(VALUE(Y34)>89,1,VLOOKUP(VALUE(Y34),List2!$A$1:'List2'!$B$90,2)))","v":""},null,{"$f":"IF(ISBLANK(AA34),\"\",IF(VALUE(AA34)>89,1,VLOOKUP(VALUE(AA34),List2!$A$1:'List2'!$B$90,2)))","v":""},null,{"$f":"IF(ISBLANK(AC34),\"\",IF(VALUE(AC34)>89,1,VLOOKUP(VALUE(AC34),List2!$A$1:'List2'!$B$90,2)))","v":""},null,{"$f":"IF(ISBLANK(AE34),\"\",IF(VALUE(AE34)>89,1,VLOOKUP(VALUE(AE34),List2!$A$1:'List2'!$B$90,2)))","v":""},null,{"$f":"IF(ISBLANK(AG34),\"\",IF(VALUE(AG34)>89,1,VLOOKUP(VALUE(AG34),List2!$A$1:'List2'!$B$90,2)))","v":""},null,{"$f":"IF(ISBLANK(AI34),\"\",IF(VALUE(AI34)>89,1,VLOOKUP(VALUE(AI34),List2!$A$1:'List2'!$B$90,2)))","v":""},null,{"$f":"IF(ISBLANK(AK34),\"\",IF(VALUE(AK34)>89,1,VLOOKUP(VALUE(AK34),List2!$A$1:'List2'!$B$90,2)))","v":""},null,{"$f":"IF(ISBLANK(AM34),\"\",IF(VALUE(AM34)>89,1,VLOOKUP(VALUE(AM34),List2!$A$1:'List2'!$B$90,2)))","v":""},null,130]
[33,"Buzek Milan",{"$f":"IF(IFERROR(LARGE(F35:AN35,1),0)+IFERROR(LARGE(F35:AN35,2),0)+IFERROR(LARGE(F35:AN35,3),0)+IFERROR(LARGE(F35:AN35,4),0)+IFERROR(LARGE(F35:AN35,5),0)+IFERROR(LARGE(F35:AN35,6),0)+IFERROR(LARGE(F35:AN35,7),0)++IFERROR(LARGE(F35:AN35,8),0)=0,\"\",IFERROR(LARGE(F35:AN35,1),0)+IFERROR(LARGE(F35:AN35,2),0)+IFERROR(LARGE(F35:AN35,3),0)+IFERROR(LARGE(F35:AN35,4),0)+IFERROR(LARGE(F35:AN35,5),0)+IFERROR(LARGE(F35:AN35,6),0)+IFERROR(LARGE(F35:AN35,7),0)+IFERROR(LARGE(F35:AND35,8),0))","v":127},{"$f":"IF(SUM(F35,H35,J35,L35,N35,P35,R35,T35,V35,X35,Z35,AB35,AD35,AF35,AH35,AJ35,AL35,AN35)=0,\"\",SUM(F35,H35,J35,L35,N35,P35,R35,T35,V35,X35,Z35,AB35,AD35,AF35,AH35,AJ35,AL35,AN35))","v":127},null,{"$f":"IF(ISBLANK(E35),\"\",IF(VALUE(E35)>89,1,VLOOKUP(VALUE(E35),List2!$A$1:'List2'!$B$90,2)))","v":""},null,{"$f":"IF(ISBLANK(G35),\"\",IF(VALUE(G35)>89,1,VLOOKUP(VALUE(G35),List2!$A$1:'List2'!$B$90,2)))","v":""},null,{"$f":"IF(ISBLANK(I35),\"\",IF(VALUE(I35)>89,1,VLOOKUP(VALUE(I35),List2!$A$1:'List2'!$B$90,2)))","v":""},null,{"$f":"IF(ISBLANK(K35),\"\",IF(VALUE(K35)>89,1,VLOOKUP(VALUE(K35),List2!$A$1:'List2'!$B$90,2)))","v":""},null,{"$f":"IF(ISBLANK(M35),\"\",IF(VALUE(M35)>89,1,VLOOKUP(VALUE(M35),List2!$A$1:'List2'!$B$90,2)))","v":""},null,{"$f":"IF(ISBLANK(O35),\"\",IF(VALUE(O35)>89,1,VLOOKUP(VALUE(O35),List2!$A$1:'List2'!$B$90,2)))","v":""},"13",{"$f":"IF(ISBLANK(Q35),\"\",IF(VALUE(Q35)>89,1,VLOOKUP(VALUE(Q35),List2!$A$1:'List2'!$B$90,2)))","v":127},null,{"$f":"IF(ISBLANK(S35),\"\",IF(VALUE(S35)>89,1,VLOOKUP(VALUE(S35),List2!$A$1:'List2'!$B$90,2)))","v":""},null,{"$f":"IF(ISBLANK(U35),\"\",IF(VALUE(U35)>89,1,VLOOKUP(VALUE(U35),List2!$A$1:'List2'!$B$90,2)))","v":""},null,{"$f":"IF(ISBLANK(W35),\"\",IF(VALUE(W35)>89,1,VLOOKUP(VALUE(W35),List2!$A$1:'List2'!$B$90,2)))","v":""},null,{"$f":"IF(ISBLANK(Y35),\"\",IF(VALUE(Y35)>89,1,VLOOKUP(VALUE(Y35),List2!$A$1:'List2'!$B$90,2)))","v":""},null,{"$f":"IF(ISBLANK(AA35),\"\",IF(VALUE(AA35)>89,1,VLOOKUP(VALUE(AA35),List2!$A$1:'List2'!$B$90,2)))","v":""},null,{"$f":"IF(ISBLANK(AC35),\"\",IF(VALUE(AC35)>89,1,VLOOKUP(VALUE(AC35),List2!$A$1:'List2'!$B$90,2)))","v":""},null,{"$f":"IF(ISBLANK(AE35),\"\",IF(VALUE(AE35)>89,1,VLOOKUP(VALUE(AE35),List2!$A$1:'List2'!$B$90,2)))","v":""},null,{"$f":"IF(ISBLANK(AG35),\"\",IF(VALUE(AG35)>89,1,VLOOKUP(VALUE(AG35),List2!$A$1:'List2'!$B$90,2)))","v":""},null,{"$f":"IF(ISBLANK(AI35),\"\",IF(VALUE(AI35)>89,1,VLOOKUP(VALUE(AI35),List2!$A$1:'List2'!$B$90,2)))","v":""},null,{"$f":"IF(ISBLANK(AK35),\"\",IF(VALUE(AK35)>89,1,VLOOKUP(VALUE(AK35),List2!$A$1:'List2'!$B$90,2)))","v":""},null,{"$f":"IF(ISBLANK(AM35),\"\",IF(VALUE(AM35)>89,1,VLOOKUP(VALUE(AM35),List2!$A$1:'List2'!$B$90,2)))","v":""},null,{"$f":"IFERROR(LARGE(F35:AN35,1),0)+IFERROR(LARGE(F35:AN35,2),0)+IFERROR(LARGE(F35:AN35,3),0)+IFERROR(LARGE(F35:AN35,4),0)+IFERROR(LARGE(F35:AN35,5),0)+IFERROR(LARGE(F35:AN35,6),0)+IFERROR(LARGE(F35:AN35,7),0)+IFERROR(LARGE(F35:AN35,8),0)","v":127}]
[34,"Pecháček Zdeněk",180,180,null,{"$f":"IF(ISBLANK(E36),\"\",IF(VALUE(E36)>89,1,VLOOKUP(VALUE(E36),List2!$A$1:'List2'!$B$90,2)))","v":""},null,{"$f":"IF(ISBLANK(G36),\"\",IF(VALUE(G36)>89,1,VLOOKUP(VALUE(G36),List2!$A$1:'List2'!$B$90,2)))","v":""},null,{"$f":"IF(ISBLANK(I36),\"\",IF(VALUE(I36)>89,1,VLOOKUP(VALUE(I36),List2!$A$1:'List2'!$B$90,2)))","v":""},null,{"$f":"IF(ISBLANK(K36),\"\",IF(VALUE(K36)>89,1,VLOOKUP(VALUE(K36),List2!$A$1:'List2'!$B$90,2)))","v":""},null,{"$f":"IF(ISBLANK(M36),\"\",IF(VALUE(M36)>89,1,VLOOKUP(VALUE(M36),List2!$A$1:'List2'!$B$90,2)))","v":""},null,{"$f":"IF(ISBLANK(O36),\"\",IF(VALUE(O36)>89,1,VLOOKUP(VALUE(O36),List2!$A$1:'List2'!$B$90,2)))","v":""},null,{"$f":"IF(ISBLANK(Q36),\"\",IF(VALUE(Q36)>89,1,VLOOKUP(VALUE(Q36),List2!$A$1:'List2'!$B$90,2)))","v":""},"2",{"$f":"IF(ISBLANK(S36),\"\",IF(VALUE(S36)>89,1,VLOOKUP(VALUE(S36),List2!$A$1:'List2'!$B$90,2)))","v":180},null,{"$f":"IF(ISBLANK(U36),\"\",IF(VALUE(U36)>89,1,VLOOKUP(VALUE(U36),List2!$A$1:'List2'!$B$90,2)))","v":""},null,{"$f":"IF(ISBLANK(W36),\"\",IF(VALUE(W36)>89,1,VLOOKUP(VALUE(W36),List2!$A$1:'List2'!$B$90,2)))","v":""},null,{"$f":"IF(ISBLANK(Y36),\"\",IF(VALUE(Y36)>89,1,VLOOKUP(VALUE(Y36),List2!$A$1:'List2'!$B$90,2)))","v":""},null,{"$f":"IF(ISBLANK(AA36),\"\",IF(VALUE(AA36)>89,1,VLOOKUP(VALUE(AA36),List2!$A$1:'List2'!$B$90,2)))","v":""},null,{"$f":"IF(ISBLANK(AC36),\"\",IF(VALUE(AC36)>89,1,VLOOKUP(VALUE(AC36),List2!$A$1:'List2'!$B$90,2)))","v":""},null,{"$f":"IF(ISBLANK(AE36),\"\",IF(VALUE(AE36)>89,1,VLOOKUP(VALUE(AE36),List2!$A$1:'List2'!$B$90,2)))","v":""},null,{"$f":"IF(ISBLANK(AG36),\"\",IF(VALUE(AG36)>89,1,VLOOKUP(VALUE(AG36),List2!$A$1:'List2'!$B$90,2)))","v":""},null,{"$f":"IF(ISBLANK(AI36),\"\",IF(VALUE(AI36)>89,1,VLOOKUP(VALUE(AI36),List2!$A$1:'List2'!$B$90,2)))","v":""},null,{"$f":"IF(ISBLANK(AK36),\"\",IF(VALUE(AK36)>89,1,VLOOKUP(VALUE(AK36),List2!$A$1:'List2'!$B$90,2)))","v":""},null,{"$f":"IF(ISBLANK(AM36),\"\",IF(VALUE(AM36)>89,1,VLOOKUP(VALUE(AM36),List2!$A$1:'List2'!$B$90,2)))","v":""},null,180]
["",null,"","",null,{"$f":"IF(ISBLANK(E37),\"\",IF(VALUE(E37)>89,1,VLOOKUP(VALUE(E37),List2!$A$1:'List2'!$B$90,2)))","v":""},null,{"$f":"IF(ISBLANK(G37),\"\",IF(VALUE(G37)>89,1,VLOOKUP(VALUE(G37),List2!$A$1:'List2'!$B$90,2)))","v":""},null,{"$f":"IF(ISBLANK(I37),\"\",IF(VALUE(I37)>89,1,VLOOKUP(VALUE(I37),List2!$A$1:'List2'!$B$90,2)))","v":""},null,{"$f":"IF(ISBLANK(K37),\"\",IF(VALUE(K37)>89,1,VLOOKUP(VALUE(K37),List2!$A$1:'List2'!$B$90,2)))","v":""},null,{"$f":"IF(ISBLANK(M37),\"\",IF(VALUE(M37)>89,1,VLOOKUP(VALUE(M37),List2!$A$1:'List2'!$B$90,2)))","v":""},null,{"$f":"IF(ISBLANK(O37),\"\",IF(VALUE(O37)>89,1,VLOOKUP(VALUE(O37),List2!$A$1:'List2'!$B$90,2)))","v":""},null,{"$f":"IF(ISBLANK(Q37),\"\",IF(VALUE(Q37)>89,1,VLOOKUP(VALUE(Q37),List2!$A$1:'List2'!$B$90,2)))","v":""},null,{"$f":"IF(ISBLANK(S37),\"\",IF(VALUE(S37)>89,1,VLOOKUP(VALUE(S37),List2!$A$1:'List2'!$B$90,2)))","v":""},null,{"$f":"IF(ISBLANK(U37),\"\",IF(VALUE(U37)>89,1,VLOOKUP(VALUE(U37),List2!$A$1:'List2'!$B$90,2)))","v":""},null,{"$f":"IF(ISBLANK(W37),\"\",IF(VALUE(W37)>89,1,VLOOKUP(VALUE(W37),List2!$A$1:'List2'!$B$90,2)))","v":""},null,{"$f":"IF(ISBLANK(Y37),\"\",IF(VALUE(Y37)>89,1,VLOOKUP(VALUE(Y37),List2!$A$1:'List2'!$B$90,2)))","v":""},null,{"$f":"IF(ISBLANK(AA37),\"\",IF(VALUE(AA37)>89,1,VLOOKUP(VALUE(AA37),List2!$A$1:'List2'!$B$90,2)))","v":""},null,{"$f":"IF(ISBLANK(AC37),\"\",IF(VALUE(AC37)>89,1,VLOOKUP(VALUE(AC37),List2!$A$1:'List2'!$B$90,2)))","v":""},null,{"$f":"IF(ISBLANK(AE37),\"\",IF(VALUE(AE37)>89,1,VLOOKUP(VALUE(AE37),List2!$A$1:'List2'!$B$90,2)))","v":""},null,{"$f":"IF(ISBLANK(AG37),\"\",IF(VALUE(AG37)>89,1,VLOOKUP(VALUE(AG37),List2!$A$1:'List2'!$B$90,2)))","v":""},null,{"$f":"IF(ISBLANK(AI37),\"\",IF(VALUE(AI37)>89,1,VLOOKUP(VALUE(AI37),List2!$A$1:'List2'!$B$90,2)))","v":""},null,{"$f":"IF(ISBLANK(AK37),\"\",IF(VALUE(AK37)>89,1,VLOOKUP(VALUE(AK37),List2!$A$1:'List2'!$B$90,2)))","v":""},null,{"$f":"IF(ISBLANK(AM37),\"\",IF(VALUE(AM37)>89,1,VLOOKUP(VALUE(AM37),List2!$A$1:'List2'!$B$90,2)))","v":""},null,0]
["",null,"","",null,{"$f":"IF(ISBLANK(E38),\"\",IF(VALUE(E38)>89,1,VLOOKUP(VALUE(E38),List2!$A$1:'List2'!$B$90,2)))","v":""},null,{"$f":"IF(ISBLANK(G38),\"\",IF(VALUE(G38)>89,1,VLOOKUP(VALUE(G38),List2!$A$1:'List2'!$B$90,2)))","v":""},null,{"$f":"IF(ISBLANK(I38),\"\",IF(VALUE(I38)>89,1,VLOOKUP(VALUE(I38),List2!$A$1:'List2'!$B$90,2)))","v":""},null,{"$f":"IF(ISBLANK(K38),\"\",IF(VALUE(K38)>89,1,VLOOKUP(VALUE(K38),List2!$A$1:'List2'!$B$90,2)))","v":""},null,{"$f":"IF(ISBLANK(M38),\"\",IF(VALUE(M38)>89,1,VLOOKUP(VALUE(M38),List2!$A$1:'List2'!$B$90,2)))","v":""},null,{"$f":"IF(ISBLANK(O38),\"\",IF(VALUE(O38)>89,1,VLOOKUP(VALUE(O38),List2!$A$1:'List2'!$B$90,2)))","v":""},null,{"$f":"IF(ISBLANK(Q38),\"\",IF(VALUE(Q38)>89,1,VLOOKUP(VALUE(Q38),List2!$A$1:'List2'!$B$90,2)))","v":""},null,{"$f":"IF(ISBLANK(S38),\"\",IF(VALUE(S38)>89,1,VLOOKUP(VALUE(S38),List2!$A$1:'List2'!$B$90,2)))","v":""},null,{"$f":"IF(ISBLANK(U38),\"\",IF(VALUE(U38)>89,1,VLOOKUP(VALUE(U38),List2!$A$1:'List2'!$B$90,2)))","v":""},null,{"$f":"IF(ISBLANK(W38),\"\",IF(VALUE(W38)>89,1,VLOOKUP(VALUE(W38),List2!$A$1:'List2'!$B$90,2)))","v":""},null,{"$f":"IF(ISBLANK(Y38),\"\",IF(VALUE(Y38)>89,1,VLOOKUP(VALUE(Y38),List2!$A$1:'List2'!$B$90,2)))","v":""},null,{"$f":"IF(ISBLANK(AA38),\"\",IF(VALUE(AA38)>89,1,VLOOKUP(VALUE(AA38),List2!$A$1:'List2'!$B$90,2)))","v":""},null,{"$f":"IF(ISBLANK(AC38),\"\",IF(VALUE(AC38)>89,1,VLOOKUP(VALUE(AC38),List2!$A$1:'List2'!$B$90,2)))","v":""},null,{"$f":"IF(ISBLANK(AE38),\"\",IF(VALUE(AE38)>89,1,VLOOKUP(VALUE(AE38),List2!$A$1:'List2'!$B$90,2)))","v":""},null,{"$f":"IF(ISBLANK(AG38),\"\",IF(VALUE(AG38)>89,1,VLOOKUP(VALUE(AG38),List2!$A$1:'List2'!$B$90,2)))","v":""},null,{"$f":"IF(ISBLANK(AI38),\"\",IF(VALUE(AI38)>89,1,VLOOKUP(VALUE(AI38),List2!$A$1:'List2'!$B$90,2)))","v":""},null,{"$f":"IF(ISBLANK(AK38),\"\",IF(VALUE(AK38)>89,1,VLOOKUP(VALUE(AK38),List2!$A$1:'List2'!$B$90,2)))","v":""},null,{"$f":"IF(ISBLANK(AM38),\"\",IF(VALUE(AM38)>89,1,VLOOKUP(VALUE(AM38),List2!$A$1:'List2'!$B$90,2)))","v":""},null,0]
["",null,"","",null,{"$f":"IF(ISBLANK(E39),\"\",IF(VALUE(E39)>89,1,VLOOKUP(VALUE(E39),List2!$A$1:'List2'!$B$90,2)))","v":""},null,{"$f":"IF(ISBLANK(G39),\"\",IF(VALUE(G39)>89,1,VLOOKUP(VALUE(G39),List2!$A$1:'List2'!$B$90,2)))","v":""},null,{"$f":"IF(ISBLANK(I39),\"\",IF(VALUE(I39)>89,1,VLOOKUP(VALUE(I39),List2!$A$1:'List2'!$B$90,2)))","v":""},null,{"$f":"IF(ISBLANK(K39),\"\",IF(VALUE(K39)>89,1,VLOOKUP(VALUE(K39),List2!$A$1:'List2'!$B$90,2)))","v":""},null,{"$f":"IF(ISBLANK(M39),\"\",IF(VALUE(M39)>89,1,VLOOKUP(VALUE(M39),List2!$A$1:'List2'!$B$90,2)))","v":""},null,{"$f":"IF(ISBLANK(O39),\"\",IF(VALUE(O39)>89,1,VLOOKUP(VALUE(O39),List2!$A$1:'List2'!$B$90,2)))","v":""},null,{"$f":"IF(ISBLANK(Q39),\"\",IF(VALUE(Q39)>89,1,VLOOKUP(VALUE(Q39),List2!$A$1:'List2'!$B$90,2)))","v":""},null,{"$f":"IF(ISBLANK(S39),\"\",IF(VALUE(S39)>89,1,VLOOKUP(VALUE(S39),List2!$A$1:'List2'!$B$90,2)))","v":""},null,{"$f":"IF(ISBLANK(U39),\"\",IF(VALUE(U39)>89,1,VLOOKUP(VALUE(U39),List2!$A$1:'List2'!$B$90,2)))","v":""},null,{"$f":"IF(ISBLANK(W39),\"\",IF(VALUE(W39)>89,1,VLOOKUP(VALUE(W39),List2!$A$1:'List2'!$B$90,2)))","v":""},null,{"$f":"IF(ISBLANK(Y39),\"\",IF(VALUE(Y39)>89,1,VLOOKUP(VALUE(Y39),List2!$A$1:'List2'!$B$90,2)))","v":""},null,{"$f":"IF(ISBLANK(AA39),\"\",IF(VALUE(AA39)>89,1,VLOOKUP(VALUE(AA39),List2!$A$1:'List2'!$B$90,2)))","v":""},null,{"$f":"IF(ISBLANK(AC39),\"\",IF(VALUE(AC39)>89,1,VLOOKUP(VALUE(AC39),List2!$A$1:'List2'!$B$90,2)))","v":""},null,{"$f":"IF(ISBLANK(AE39),\"\",IF(VALUE(AE39)>89,1,VLOOKUP(VALUE(AE39),List2!$A$1:'List2'!$B$90,2)))","v":""},null,{"$f":"IF(ISBLANK(AG39),\"\",IF(VALUE(AG39)>89,1,VLOOKUP(VALUE(AG39),List2!$A$1:'List2'!$B$90,2)))","v":""},null,{"$f":"IF(ISBLANK(AI39),\"\",IF(VALUE(AI39)>89,1,VLOOKUP(VALUE(AI39),List2!$A$1:'List2'!$B$90,2)))","v":""},null,{"$f":"IF(ISBLANK(AK39),\"\",IF(VALUE(AK39)>89,1,VLOOKUP(VALUE(AK39),List2!$A$1:'List2'!$B$90,2)))","v":""},null,{"$f":"IF(ISBLANK(AM39),\"\",IF(VALUE(AM39)>89,1,VLOOKUP(VALUE(AM39),List2!$A$1:'List2'!$B$90,2)))","v":""},null,0]
["",null,"","",null,{"$f":"IF(ISBLANK(E40),\"\",IF(VALUE(E40)>89,1,VLOOKUP(VALUE(E40),List2!$A$1:'List2'!$B$90,2)))","v":""},null,{"$f":"IF(ISBLANK(G40),\"\",IF(VALUE(G40)>89,1,VLOOKUP(VALUE(G40),List2!$A$1:'List2'!$B$90,2)))","v":""},null,{"$f":"IF(ISBLANK(I40),\"\",IF(VALUE(I40)>89,1,VLOOKUP(VALUE(I40),List2!$A$1:'List2'!$B$90,2)))","v":""},null,{"$f":"IF(ISBLANK(K40),\"\",IF(VALUE(K40)>89,1,VLOOKUP(VALUE(K40),List2!$A$1:'List2'!$B$90,2)))","v":""},null,{"$f":"IF(ISBLANK(M40),\"\",IF(VALUE(M40)>89,1,VLOOKUP(VALUE(M40),List2!$A$1:'List2'!$B$90,2)))","v":""},null,{"$f":"IF(ISBLANK(O40),\"\",IF(VALUE(O40)>89,1,VLOOKUP(VALUE(O40),List2!$A$1:'List2'!$B$90,2)))","v":""},null,{"$f":"IF(ISBLANK(Q40),\"\",IF(VALUE(Q40)>89,1,VLOOKUP(VALUE(Q40),List2!$A$1:'List2'!$B$90,2)))","v":""},null,{"$f":"IF(ISBLANK(S40),\"\",IF(VALUE(S40)>89,1,VLOOKUP(VALUE(S40),List2!$A$1:'List2'!$B$90,2)))","v":""},null,{"$f":"IF(ISBLANK(U40),\"\",IF(VALUE(U40)>89,1,VLOOKUP(VALUE(U40),List2!$A$1:'List2'!$B$90,2)))","v":""},null,{"$f":"IF(ISBLANK(W40),\"\",IF(VALUE(W40)>89,1,VLOOKUP(VALUE(W40),List2!$A$1:'List2'!$B$90,2)))","v":""},null,{"$f":"IF(ISBLANK(Y40),\"\",IF(VALUE(Y40)>89,1,VLOOKUP(VALUE(Y40),List2!$A$1:'List2'!$B$90,2)))","v":""},null,{"$f":"IF(ISBLANK(AA40),\"\",IF(VALUE(AA40)>89,1,VLOOKUP(VALUE(AA40),List2!$A$1:'List2'!$B$90,2)))","v":""},null,{"$f":"IF(ISBLANK(AC40),\"\",IF(VALUE(AC40)>89,1,VLOOKUP(VALUE(AC40),List2!$A$1:'List2'!$B$90,2)))","v":""},null,{"$f":"IF(ISBLANK(AE40),\"\",IF(VALUE(AE40)>89,1,VLOOKUP(VALUE(AE40),List2!$A$1:'List2'!$B$90,2)))","v":""},null,{"$f":"IF(ISBLANK(AG40),\"\",IF(VALUE(AG40)>89,1,VLOOKUP(VALUE(AG40),List2!$A$1:'List2'!$B$90,2)))","v":""},null,{"$f":"IF(ISBLANK(AI40),\"\",IF(VALUE(AI40)>89,1,VLOOKUP(VALUE(AI40),List2!$A$1:'List2'!$B$90,2)))","v":""},null,{"$f":"IF(ISBLANK(AK40),\"\",IF(VALUE(AK40)>89,1,VLOOKUP(VALUE(AK40),List2!$A$1:'List2'!$B$90,2)))","v":""},null,{"$f":"IF(ISBLANK(AM40),\"\",IF(VALUE(AM40)>89,1,VLOOKUP(VALUE(AM40),List2!$A$1:'List2'!$B$90,2)))","v":""},null,0]
["",null,"","",null,{"$f":"IF(ISBLANK(E41),\"\",IF(VALUE(E41)>89,1,VLOOKUP(VALUE(E41),List2!$A$1:'List2'!$B$90,2)))","v":""},null,{"$f":"IF(ISBLANK(G41),\"\",IF(VALUE(G41)>89,1,VLOOKUP(VALUE(G41),List2!$A$1:'List2'!$B$90,2)))","v":""},null,{"$f":"IF(ISBLANK(I41),\"\",IF(VALUE(I41)>89,1,VLOOKUP(VALUE(I41),List2!$A$1:'List2'!$B$90,2)))","v":""},null,{"$f":"IF(ISBLANK(K41),\"\",IF(VALUE(K41)>89,1,VLOOKUP(VALUE(K41),List2!$A$1:'List2'!$B$90,2)))","v":""},null,{"$f":"IF(ISBLANK(M41),\"\",IF(VALUE(M41)>89,1,VLOOKUP(VALUE(M41),List2!$A$1:'List2'!$B$90,2)))","v":""},null,{"$f":"IF(ISBLANK(O41),\"\",IF(VALUE(O41)>89,1,VLOOKUP(VALUE(O41),List2!$A$1:'List2'!$B$90,2)))","v":""},null,{"$f":"IF(ISBLANK(Q41),\"\",IF(VALUE(Q41)>89,1,VLOOKUP(VALUE(Q41),List2!$A$1:'List2'!$B$90,2)))","v":""},null,{"$f":"IF(ISBLANK(S41),\"\",IF(VALUE(S41)>89,1,VLOOKUP(VALUE(S41),List2!$A$1:'List2'!$B$90,2)))","v":""},null,{"$f":"IF(ISBLANK(U41),\"\",IF(VALUE(U41)>89,1,VLOOKUP(VALUE(U41),List2!$A$1:'List2'!$B$90,2)))","v":""},null,{"$f":"IF(ISBLANK(W41),\"\",IF(VALUE(W41)>89,1,VLOOKUP(VALUE(W41),List2!$A$1:'List2'!$B$90,2)))","v":""},null,{"$f":"IF(ISBLANK(Y41),\"\",IF(VALUE(Y41)>89,1,VLOOKUP(VALUE(Y41),List2!$A$1:'List2'!$B$90,2)))","v":""},null,{"$f":"IF(ISBLANK(AA41),\"\",IF(VALUE(AA41)>89,1,VLOOKUP(VALUE(AA41),List2!$A$1:'List2'!$B$90,2)))","v":""},null,{"$f":"IF(ISBLANK(AC41),\"\",IF(VALUE(AC41)>89,1,VLOOKUP(VALUE(AC41),List2!$A$1:'List2'!$B$90,2)))","v":""},null,{"$f":"IF(ISBLANK(AE41),\"\",IF(VALUE(AE41)>89,1,VLOOKUP(VALUE(AE41),List2!$A$1:'List2'!$B$90,2)))","v":""},null,{"$f":"IF(ISBLANK(AG41),\"\",IF(VALUE(AG41)>89,1,VLOOKUP(VALUE(AG41),List2!$A$1:'List2'!$B$90,2)))","v":""},null,{"$f":"IF(ISBLANK(AI41),\"\",IF(VALUE(AI41)>89,1,VLOOKUP(VALUE(AI41),List2!$A$1:'List2'!$B$90,2)))","v":""},null,{"$f":"IF(ISBLANK(AK41),\"\",IF(VALUE(AK41)>89,1,VLOOKUP(VALUE(AK41),List2!$A$1:'List2'!$B$90,2)))","v":""},null,{"$f":"IF(ISBLANK(AM41),\"\",IF(VALUE(AM41)>89,1,VLOOKUP(VALUE(AM41),List2!$A$1:'List2'!$B$90,2)))","v":""},null,0]
["",null,"","",null,{"$f":"IF(ISBLANK(E42),\"\",IF(VALUE(E42)>89,1,VLOOKUP(VALUE(E42),List2!$A$1:'List2'!$B$90,2)))","v":""},null,{"$f":"IF(ISBLANK(G42),\"\",IF(VALUE(G42)>89,1,VLOOKUP(VALUE(G42),List2!$A$1:'List2'!$B$90,2)))","v":""},null,{"$f":"IF(ISBLANK(I42),\"\",IF(VALUE(I42)>89,1,VLOOKUP(VALUE(I42),List2!$A$1:'List2'!$B$90,2)))","v":""},null,{"$f":"IF(ISBLANK(K42),\"\",IF(VALUE(K42)>89,1,VLOOKUP(VALUE(K42),List2!$A$1:'List2'!$B$90,2)))","v":""},null,{"$f":"IF(ISBLANK(M42),\"\",IF(VALUE(M42)>89,1,VLOOKUP(VALUE(M42),List2!$A$1:'List2'!$B$90,2)))","v":""},null,{"$f":"IF(ISBLANK(O42),\"\",IF(VALUE(O42)>89,1,VLOOKUP(VALUE(O42),List2!$A$1:'List2'!$B$90,2)))","v":""},null,{"$f":"IF(ISBLANK(Q42),\"\",IF(VALUE(Q42)>89,1,VLOOKUP(VALUE(Q42),List2!$A$1:'List2'!$B$90,2)))","v":""},null,{"$f":"IF(ISBLANK(S42),\"\",IF(VALUE(S42)>89,1,VLOOKUP(VALUE(S42),List2!$A$1:'List2'!$B$90,2)))","v":""},null,{"$f":"IF(ISBLANK(U42),\"\",IF(VALUE(U42)>89,1,VLOOKUP(VALUE(U42),List2!$A$1:'List2'!$B$90,2)))","v":""},null,{"$f":"IF(ISBLANK(W42),\"\",IF(VALUE(W42)>89,1,VLOOKUP(VALUE(W42),List2!$A$1:'List2'!$B$90,2)))","v":""},null,{"$f":"IF(ISBLANK(Y42),\"\",IF(VALUE(Y42)>89,1,VLOOKUP(VALUE(Y42),List2!$A$1:'List2'!$B$90,2)))","v":""},null,{"$f":"IF(ISBLANK(AA42),\"\",IF(VALUE(AA42)>89,1,VLOOKUP(VALUE(AA42),List2!$A$1:'List2'!$B$90,2)))","v":""},null,{"$f":"IF(ISBLANK(AC42),\"\",IF(VALUE(AC42)>89,1,VLOOKUP(VALUE(AC42),List2!$A$1:'List2'!$B$90,2)))","v":""},null,{"$f":"IF(ISBLANK(AE42),\"\",IF(VALUE(AE42)>89,1,VLOOKUP(VALUE(AE42),List2!$A$1:'List2'!$B$90,2)))","v":""},null,{"$f":"IF(ISBLANK(AG42),\"\",IF(VALUE(AG42)>89,1,VLOOKUP(VALUE(AG42),List2!$A$1:'List2'!$B$90,2)))","v":""},null,{"$f":"IF(ISBLANK(AI42),\"\",IF(VALUE(AI42)>89,1,VLOOKUP(VALUE(AI42),List2!$A$1:'List2'!$B$90,2)))","v":""},null,{"$f":"IF(ISBLANK(AK42),\"\",IF(VALUE(AK42)>89,1,VLOOKUP(VALUE(AK42),List2!$A$1:'List2'!$B$90,2)))","v":""},null,{"$f":"IF(ISBLANK(AM42),\"\",IF(VALUE(AM42)>89,1,VLOOKUP(VALUE(AM42),List2!$A$1:'List2'!$B$90,2)))","v":""},null,0]
["",null,"","",null,{"$f":"IF(ISBLANK(E43),\"\",IF(VALUE(E43)>89,1,VLOOKUP(VALUE(E43),List2!$A$1:'List2'!$B$90,2)))","v":""},null,{"$f":"IF(ISBLANK(G43),\"\",IF(VALUE(G43)>89,1,VLOOKUP(VALUE(G43),List2!$A$1:'List2'!$B$90,2)))","v":""},null,{"$f":"IF(ISBLANK(I43),\"\",IF(VALUE(I43)>89,1,VLOOKUP(VALUE(I43),List2!$A$1:'List2'!$B$90,2)))","v":""},null,{"$f":"IF(ISBLANK(K43),\"\",IF(VALUE(K43)>89,1,VLOOKUP(VALUE(K43),List2!$A$1:'List2'!$B$90,2)))","v":""},null,{"$f":"IF(ISBLANK(M43),\"\",IF(VALUE(M43)>89,1,VLOOKUP(VALUE(M43),List2!$A$1:'List2'!$B$90,2)))","v":""},null,{"$f":"IF(ISBLANK(O43),\"\",IF(VALUE(O43)>89,1,VLOOKUP(VALUE(O43),List2!$A$1:'List2'!$B$90,2)))","v":""},null,{"$f":"IF(ISBLANK(Q43),\"\",IF(VALUE(Q43)>89,1,VLOOKUP(VALUE(Q43),List2!$A$1:'List2'!$B$90,2)))","v":""},null,{"$f":"IF(ISBLANK(S43),\"\",IF(VALUE(S43)>89,1,VLOOKUP(VALUE(S43),List2!$A$1:'List2'!$B$90,2)))","v":""},null,{"$f":"IF(ISBLANK(U43),\"\",IF(VALUE(U43)>89,1,VLOOKUP(VALUE(U43),List2!$A$1:'List2'!$B$90,2)))","v":""},null,{"$f":"IF(ISBLANK(W43),\"\",IF(VALUE(W43)>89,1,VLOOKUP(VALUE(W43),List2!$A$1:'List2'!$B$90,2)))","v":""},null,{"$f":"IF(ISBLANK(Y43),\"\",IF(VALUE(Y43)>89,1,VLOOKUP(VALUE(Y43),List2!$A$1:'List2'!$B$90,2)))","v":""},null,{"$f":"IF(ISBLANK(AA43),\"\",IF(VALUE(AA43)>89,1,VLOOKUP(VALUE(AA43),List2!$A$1:'List2'!$B$90,2)))","v":""},null,{"$f":"IF(ISBLANK(AC43),\"\",IF(VALUE(AC43)>89,1,VLOOKUP(VALUE(AC43),List2!$A$1:'List2'!$B$90,2)))","v":""},null,{"$f":"IF(ISBLANK(AE43),\"\",IF(VALUE(AE43)>89,1,VLOOKUP(VALUE(AE43),List2!$A$1:'List2'!$B$90,2)))","v":""},null,{"$f":"IF(ISBLANK(AG43),\"\",IF(VALUE(AG43)>89,1,VLOOKUP(VALUE(AG43),List2!$A$1:'List2'!$B$90,2)))","v":""},null,{"$f":"IF(ISBLANK(AI43),\"\",IF(VALUE(AI43)>89,1,VLOOKUP(VALUE(AI43),List2!$A$1:'List2'!$B$90,2)))","v":""},null,{"$f":"IF(ISBLANK(AK43),\"\",IF(VALUE(AK43)>89,1,VLOOKUP(VALUE(AK43),List2!$A$1:'List2'!$B$90,2)))","v":""},null,{"$f":"IF(ISBLANK(AM43),\"\",IF(VALUE(AM43)>89,1,VLOOKUP(VALUE(AM43),List2!$A$1:'List2'!$B$90,2)))","v":""},null,0]
["",null,"","",null,{"$f":"IF(ISBLANK(E44),\"\",IF(VALUE(E44)>89,1,VLOOKUP(VALUE(E44),List2!$A$1:'List2'!$B$90,2)))","v":""},null,{"$f":"IF(ISBLANK(G44),\"\",IF(VALUE(G44)>89,1,VLOOKUP(VALUE(G44),List2!$A$1:'List2'!$B$90,2)))","v":""},null,{"$f":"IF(ISBLANK(I44),\"\",IF(VALUE(I44)>89,1,VLOOKUP(VALUE(I44),List2!$A$1:'List2'!$B$90,2)))","v":""},null,{"$f":"IF(ISBLANK(K44),\"\",IF(VALUE(K44)>89,1,VLOOKUP(VALUE(K44),List2!$A$1:'List2'!$B$90,2)))","v":""},null,{"$f":"IF(ISBLANK(M44),\"\",IF(VALUE(M44)>89,1,VLOOKUP(VALUE(M44),List2!$A$1:'List2'!$B$90,2)))","v":""},null,{"$f":"IF(ISBLANK(O44),\"\",IF(VALUE(O44)>89,1,VLOOKUP(VALUE(O44),List2!$A$1:'List2'!$B$90,2)))","v":""},null,{"$f":"IF(ISBLANK(Q44),\"\",IF(VALUE(Q44)>89,1,VLOOKUP(VALUE(Q44),List2!$A$1:'List2'!$B$90,2)))","v":""},null,{"$f":"IF(ISBLANK(S44),\"\",IF(VALUE(S44)>89,1,VLOOKUP(VALUE(S44),List2!$A$1:'List2'!$B$90,2)))","v":""},null,{"$f":"IF(ISBLANK(U44),\"\",IF(VALUE(U44)>89,1,VLOOKUP(VALUE(U44),List2!$A$1:'List2'!$B$90,2)))","v":""},null,{"$f":"IF(ISBLANK(W44),\"\",IF(VALUE(W44)>89,1,VLOOKUP(VALUE(W44),List2!$A$1:'List2'!$B$90,2)))","v":""},null,{"$f":"IF(ISBLANK(Y44),\"\",IF(VALUE(Y44)>89,1,VLOOKUP(VALUE(Y44),List2!$A$1:'List2'!$B$90,2)))","v":""},null,{"$f":"IF(ISBLANK(AA44),\"\",IF(VALUE(AA44)>89,1,VLOOKUP(VALUE(AA44),List2!$A$1:'List2'!$B$90,2)))","v":""},null,{"$f":"IF(ISBLANK(AC44),\"\",IF(VALUE(AC44)>89,1,VLOOKUP(VALUE(AC44),List2!$A$1:'List2'!$B$90,2)))","v":""},null,{"$f":"IF(ISBLANK(AE44),\"\",IF(VALUE(AE44)>89,1,VLOOKUP(VALUE(AE44),List2!$A$1:'List2'!$B$90,2)))","v":""},null,{"$f":"IF(ISBLANK(AG44),\"\",IF(VALUE(AG44)>89,1,VLOOKUP(VALUE(AG44),List2!$A$1:'List2'!$B$90,2)))","v":""},null,{"$f":"IF(ISBLANK(AI44),\"\",IF(VALUE(AI44)>89,1,VLOOKUP(VALUE(AI44),List2!$A$1:'List2'!$B$90,2)))","v":""},null,{"$f":"IF(ISBLANK(AK44),\"\",IF(VALUE(AK44)>89,1,VLOOKUP(VALUE(AK44),List2!$A$1:'List2'!$B$90,2)))","v":""},null,{"$f":"IF(ISBLANK(AM44),\"\",IF(VALUE(AM44)>89,1,VLOOKUP(VALUE(AM44),List2!$A$1:'List2'!$B$90,2)))","v":""},null,0]
["",null,"","",null,{"$f":"IF(ISBLANK(E45),\"\",IF(VALUE(E45)>89,1,VLOOKUP(VALUE(E45),List2!$A$1:'List2'!$B$90,2)))","v":""},null,{"$f":"IF(ISBLANK(G45),\"\",IF(VALUE(G45)>89,1,VLOOKUP(VALUE(G45),List2!$A$1:'List2'!$B$90,2)))","v":""},null,{"$f":"IF(ISBLANK(I45),\"\",IF(VALUE(I45)>89,1,VLOOKUP(VALUE(I45),List2!$A$1:'List2'!$B$90,2)))","v":""},null,{"$f":"IF(ISBLANK(K45),\"\",IF(VALUE(K45)>89,1,VLOOKUP(VALUE(K45),List2!$A$1:'List2'!$B$90,2)))","v":""},null,{"$f":"IF(ISBLANK(M45),\"\",IF(VALUE(M45)>89,1,VLOOKUP(VALUE(M45),List2!$A$1:'List2'!$B$90,2)))","v":""},null,{"$f":"IF(ISBLANK(O45),\"\",IF(VALUE(O45)>89,1,VLOOKUP(VALUE(O45),List2!$A$1:'List2'!$B$90,2)))","v":""},null,{"$f":"IF(ISBLANK(Q45),\"\",IF(VALUE(Q45)>89,1,VLOOKUP(VALUE(Q45),List2!$A$1:'List2'!$B$90,2)))","v":""},null,{"$f":"IF(ISBLANK(S45),\"\",IF(VALUE(S45)>89,1,VLOOKUP(VALUE(S45),List2!$A$1:'List2'!$B$90,2)))","v":""},null,{"$f":"IF(ISBLANK(U45),\"\",IF(VALUE(U45)>89,1,VLOOKUP(VALUE(U45),List2!$A$1:'List2'!$B$90,2)))","v":""},null,{"$f":"IF(ISBLANK(W45),\"\",IF(VALUE(W45)>89,1,VLOOKUP(VALUE(W45),List2!$A$1:'List2'!$B$90,2)))","v":""},null,{"$f":"IF(ISBLANK(Y45),\"\",IF(VALUE(Y45)>89,1,VLOOKUP(VALUE(Y45),List2!$A$1:'List2'!$B$90,2)))","v":""},null,{"$f":"IF(ISBLANK(AA45),\"\",IF(VALUE(AA45)>89,1,VLOOKUP(VALUE(AA45),List2!$A$1:'List2'!$B$90,2)))","v":""},null,{"$f":"IF(ISBLANK(AC45),\"\",IF(VALUE(AC45)>89,1,VLOOKUP(VALUE(AC45),List2!$A$1:'List2'!$B$90,2)))","v":""},null,{"$f":"IF(ISBLANK(AE45),\"\",IF(VALUE(AE45)>89,1,VLOOKUP(VALUE(AE45),List2!$A$1:'List2'!$B$90,2)))","v":""},null,{"$f":"IF(ISBLANK(AG45),\"\",IF(VALUE(AG45)>89,1,VLOOKUP(VALUE(AG45),List2!$A$1:'List2'!$B$90,2)))","v":""},null,{"$f":"IF(ISBLANK(AI45),\"\",IF(VALUE(AI45)>89,1,VLOOKUP(VALUE(AI45),List2!$A$1:'List2'!$B$90,2)))","v":""},null,{"$f":"IF(ISBLANK(AK45),\"\",IF(VALUE(AK45)>89,1,VLOOKUP(VALUE(AK45),List2!$A$1:'List2'!$B$90,2)))","v":""},null,{"$f":"IF(ISBLANK(AM45),\"\",IF(VALUE(AM45)>89,1,VLOOKUP(VALUE(AM45),List2!$A$1:'List2'!$B$90,2)))","v":""},null,0]
["",null,"","",null,{"$f":"IF(ISBLANK(E46),\"\",IF(VALUE(E46)>89,1,VLOOKUP(VALUE(E46),List2!$A$1:'List2'!$B$90,2)))","v":""},null,{"$f":"IF(ISBLANK(G46),\"\",IF(VALUE(G46)>89,1,VLOOKUP(VALUE(G46),List2!$A$1:'List2'!$B$90,2)))","v":""},null,{"$f":"IF(ISBLANK(I46),\"\",IF(VALUE(I46)>89,1,VLOOKUP(VALUE(I46),List2!$A$1:'List2'!$B$90,2)))","v":""},null,{"$f":"IF(ISBLANK(K46),\"\",IF(VALUE(K46)>89,1,VLOOKUP(VALUE(K46),List2!$A$1:'List2'!$B$90,2)))","v":""},null,{"$f":"IF(ISBLANK(M46),\"\",IF(VALUE(M46)>89,1,VLOOKUP(VALUE(M46),List2!$A$1:'List2'!$B$90,2)))","v":""},null,{"$f":"IF(ISBLANK(O46),\"\",IF(VALUE(O46)>89,1,VLOOKUP(VALUE(O46),List2!$A$1:'List2'!$B$90,2)))","v":""},null,{"$f":"IF(ISBLANK(Q46),\"\",IF(VALUE(Q46)>89,1,VLOOKUP(VALUE(Q46),List2!$A$1:'List2'!$B$90,2)))","v":""},null,{"$f":"IF(ISBLANK(S46),\"\",IF(VALUE(S46)>89,1,VLOOKUP(VALUE(S46),List2!$A$1:'List2'!$B$90,2)))","v":""},null,{"$f":"IF(ISBLANK(U46),\"\",IF(VALUE(U46)>89,1,VLOOKUP(VALUE(U46),List2!$A$1:'List2'!$B$90,2)))","v":""},null,{"$f":"IF(ISBLANK(W46),\"\",IF(VALUE(W46)>89,1,VLOOKUP(VALUE(W46),List2!$A$1:'List2'!$B$90,2)))","v":""},null,{"$f":"IF(ISBLANK(Y46),\"\",IF(VALUE(Y46)>89,1,VLOOKUP(VALUE(Y46),List2!$A$1:'List2'!$B$90,2)))","v":""},null,{"$f":"IF(ISBLANK(AA46),\"\",IF(VALUE(AA46)>89,1,VLOOKUP(VALUE(AA46),List2!$A$1:'List2'!$B$90,2)))","v":""},null,{"$f":"IF(ISBLANK(AC46),\"\",IF(VALUE(AC46)>89,1,VLOOKUP(VALUE(AC46),List2!$A$1:'List2'!$B$90,2)))","v":""},null,{"$f":"IF(ISBLANK(AE46),\"\",IF(VALUE(AE46)>89,1,VLOOKUP(VALUE(AE46),List2!$A$1:'List2'!$B$90,2)))","v":""},null,{"$f":"IF(ISBLANK(AG46),\"\",IF(VALUE(AG46)>89,1,VLOOKUP(VALUE(AG46),List2!$A$1:'List2'!$B$90,2)))","v":""},null,{"$f":"IF(ISBLANK(AI46),\"\",IF(VALUE(AI46)>89,1,VLOOKUP(VALUE(AI46),List2!$A$1:'List2'!$B$90,2)))","v":""},null,{"$f":"IF(ISBLANK(AK46),\"\",IF(VALUE(AK46)>89,1,VLOOKUP(VALUE(AK46),List2!$A$1:'List2'!$B$90,2)))","v":""},null,{"$f":"IF(ISBLANK(AM46),\"\",IF(VALUE(AM46)>89,1,VLOOKUP(VALUE(AM46),List2!$A$1:'List2'!$B$90,2)))","v":""},null,0]
["",null,"","",null,{"$f":"IF(ISBLANK(E47),\"\",IF(VALUE(E47)>89,1,VLOOKUP(VALUE(E47),List2!$A$1:'List2'!$B$90,2)))","v":""},null,{"$f":"IF(ISBLANK(G47),\"\",IF(VALUE(G47)>89,1,VLOOKUP(VALUE(G47),List2!$A$1:'List2'!$B$90,2)))","v":""},null,{"$f":"IF(ISBLANK(I47),\"\",IF(VALUE(I47)>89,1,VLOOKUP(VALUE(I47),List2!$A$1:'List2'!$B$90,2)))","v":""},null,{"$f":"IF(ISBLANK(K47),\"\",IF(VALUE(K47)>89,1,VLOOKUP(VALUE(K47),List2!$A$1:'List2'!$B$90,2)))","v":""},null,{"$f":"IF(ISBLANK(M47),\"\",IF(VALUE(M47)>89,1,VLOOKUP(VALUE(M47),List2!$A$1:'List2'!$B$90,2)))","v":""},null,{"$f":"IF(ISBLANK(O47),\"\",IF(VALUE(O47)>89,1,VLOOKUP(VALUE(O47),List2!$A$1:'List2'!$B$90,2)))","v":""},null,{"$f":"IF(ISBLANK(Q47),\"\",IF(VALUE(Q47)>89,1,VLOOKUP(VALUE(Q47),List2!$A$1:'List2'!$B$90,2)))","v":""},null,{"$f":"IF(ISBLANK(S47),\"\",IF(VALUE(S47)>89,1,VLOOKUP(VALUE(S47),List2!$A$1:'List2'!$B$90,2)))","v":""},null,{"$f":"IF(ISBLANK(U47),\"\",IF(VALUE(U47)>89,1,VLOOKUP(VALUE(U47),List2!$A$1:'List2'!$B$90,2)))","v":""},null,{"$f":"IF(ISBLANK(W47),\"\",IF(VALUE(W47)>89,1,VLOOKUP(VALUE(W47),List2!$A$1:'List2'!$B$90,2)))","v":""},null,{"$f":"IF(ISBLANK(Y47),\"\",IF(VALUE(Y47)>89,1,VLOOKUP(VALUE(Y47),List2!$A$1:'List2'!$B$90,2)))","v":""},null,{"$f":"IF(ISBLANK(AA47),\"\",IF(VALUE(AA47)>89,1,VLOOKUP(VALUE(AA47),List2!$A$1:'List2'!$B$90,2)))","v":""},null,{"$f":"IF(ISBLANK(AC47),\"\",IF(VALUE(AC47)>89,1,VLOOKUP(VALUE(AC47),List2!$A$1:'List2'!$B$90,2)))","v":""},null,{"$f":"IF(ISBLANK(AE47),\"\",IF(VALUE(AE47)>89,1,VLOOKUP(VALUE(AE47),List2!$A$1:'List2'!$B$90,2)))","v":""},null,{"$f":"IF(ISBLANK(AG47),\"\",IF(VALUE(AG47)>89,1,VLOOKUP(VALUE(AG47),List2!$A$1:'List2'!$B$90,2)))","v":""},null,{"$f":"IF(ISBLANK(AI47),\"\",IF(VALUE(AI47)>89,1,VLOOKUP(VALUE(AI47),List2!$A$1:'List2'!$B$90,2)))","v":""},null,{"$f":"IF(ISBLANK(AK47),\"\",IF(VALUE(AK47)>89,1,VLOOKUP(VALUE(AK47),List2!$A$1:'List2'!$B$90,2)))","v":""},null,{"$f":"IF(ISBLANK(AM47),\"\",IF(VALUE(AM47)>89,1,VLOOKUP(VALUE(AM47),List2!$A$1:'List2'!$B$90,2)))","v":""},null,0]
["",null,"","",null,{"$f":"IF(ISBLANK(E48),\"\",IF(VALUE(E48)>89,1,VLOOKUP(VALUE(E48),List2!$A$1:'List2'!$B$90,2)))","v":""},null,{"$f":"IF(ISBLANK(G48),\"\",IF(VALUE(G48)>89,1,VLOOKUP(VALUE(G48),List2!$A$1:'List2'!$B$90,2)))","v":""},null,{"$f":"IF(ISBLANK(I48),\"\",IF(VALUE(I48)>89,1,VLOOKUP(VALUE(I48),List2!$A$1:'List2'!$B$90,2)))","v":""},null,{"$f":"IF(ISBLANK(K48),\"\",IF(VALUE(K48)>89,1,VLOOKUP(VALUE(K48),List2!$A$1:'List2'!$B$90,2)))","v":""},null,{"$f":"IF(ISBLANK(M48),\"\",IF(VALUE(M48)>89,1,VLOOKUP(VALUE(M48),List2!$A$1:'List2'!$B$90,2)))","v":""},null,{"$f":"IF(ISBLANK(O48),\"\",IF(VALUE(O48)>89,1,VLOOKUP(VALUE(O48),List2!$A$1:'List2'!$B$90,2)))","v":""},null,{"$f":"IF(ISBLANK(Q48),\"\",IF(VALUE(Q48)>89,1,VLOOKUP(VALUE(Q48),List2!$A$1:'List2'!$B$90,2)))","v":""},null,{"$f":"IF(ISBLANK(S48),\"\",IF(VALUE(S48)>89,1,VLOOKUP(VALUE(S48),List2!$A$1:'List2'!$B$90,2)))","v":""},null,{"$f":"IF(ISBLANK(U48),\"\",IF(VALUE(U48)>89,1,VLOOKUP(VALUE(U48),List2!$A$1:'List2'!$B$90,2)))","v":""},null,{"$f":"IF(ISBLANK(W48),\"\",IF(VALUE(W48)>89,1,VLOOKUP(VALUE(W48),List2!$A$1:'List2'!$B$90,2)))","v":""},null,{"$f":"IF(ISBLANK(Y48),\"\",IF(VALUE(Y48)>89,1,VLOOKUP(VALUE(Y48),List2!$A$1:'List2'!$B$90,2)))","v":""},null,{"$f":"IF(ISBLANK(AA48),\"\",IF(VALUE(AA48)>89,1,VLOOKUP(VALUE(AA48),List2!$A$1:'List2'!$B$90,2)))","v":""},null,{"$f":"IF(ISBLANK(AC48),\"\",IF(VALUE(AC48)>89,1,VLOOKUP(VALUE(AC48),List2!$A$1:'List2'!$B$90,2)))","v":""},null,{"$f":"IF(ISBLANK(AE48),\"\",IF(VALUE(AE48)>89,1,VLOOKUP(VALUE(AE48),List2!$A$1:'List2'!$B$90,2)))","v":""},null,{"$f":"IF(ISBLANK(AG48),\"\",IF(VALUE(AG48)>89,1,VLOOKUP(VALUE(AG48),List2!$A$1:'List2'!$B$90,2)))","v":""},null,{"$f":"IF(ISBLANK(AI48),\"\",IF(VALUE(AI48)>89,1,VLOOKUP(VALUE(AI48),List2!$A$1:'List2'!$B$90,2)))","v":""},null,{"$f":"IF(ISBLANK(AK48),\"\",IF(VALUE(AK48)>89,1,VLOOKUP(VALUE(AK48),List2!$A$1:'List2'!$B$90,2)))","v":""},null,{"$f":"IF(ISBLANK(AM48),\"\",IF(VALUE(AM48)>89,1,VLOOKUP(VALUE(AM48),List2!$A$1:'List2'!$B$90,2)))","v":""},null,0]
["",null,"","",null,{"$f":"IF(ISBLANK(E49),\"\",IF(VALUE(E49)>89,1,VLOOKUP(VALUE(E49),List2!$A$1:'List2'!$B$90,2)))","v":""},null,{"$f":"IF(ISBLANK(G49),\"\",IF(VALUE(G49)>89,1,VLOOKUP(VALUE(G49),List2!$A$1:'List2'!$B$90,2)))","v":""},null,{"$f":"IF(ISBLANK(I49),\"\",IF(VALUE(I49)>89,1,VLOOKUP(VALUE(I49),List2!$A$1:'List2'!$B$90,2)))","v":""},null,{"$f":"IF(ISBLANK(K49),\"\",IF(VALUE(K49)>89,1,VLOOKUP(VALUE(K49),List2!$A$1:'List2'!$B$90,2)))","v":""},null,{"$f":"IF(ISBLANK(M49),\"\",IF(VALUE(M49)>89,1,VLOOKUP(VALUE(M49),List2!$A$1:'List2'!$B$90,2)))","v":""},null,{"$f":"IF(ISBLANK(O49),\"\",IF(VALUE(O49)>89,1,VLOOKUP(VALUE(O49),List2!$A$1:'List2'!$B$90,2)))","v":""},null,{"$f":"IF(ISBLANK(Q49),\"\",IF(VALUE(Q49)>89,1,VLOOKUP(VALUE(Q49),List2!$A$1:'List2'!$B$90,2)))","v":""},null,{"$f":"IF(ISBLANK(S49),\"\",IF(VALUE(S49)>89,1,VLOOKUP(VALUE(S49),List2!$A$1:'List2'!$B$90,2)))","v":""},null,{"$f":"IF(ISBLANK(U49),\"\",IF(VALUE(U49)>89,1,VLOOKUP(VALUE(U49),List2!$A$1:'List2'!$B$90,2)))","v":""},null,{"$f":"IF(ISBLANK(W49),\"\",IF(VALUE(W49)>89,1,VLOOKUP(VALUE(W49),List2!$A$1:'List2'!$B$90,2)))","v":""},null,{"$f":"IF(ISBLANK(Y49),\"\",IF(VALUE(Y49)>89,1,VLOOKUP(VALUE(Y49),List2!$A$1:'List2'!$B$90,2)))","v":""},null,{"$f":"IF(ISBLANK(AA49),\"\",IF(VALUE(AA49)>89,1,VLOOKUP(VALUE(AA49),List2!$A$1:'List2'!$B$90,2)))","v":""},null,{"$f":"IF(ISBLANK(AC49),\"\",IF(VALUE(AC49)>89,1,VLOOKUP(VALUE(AC49),List2!$A$1:'List2'!$B$90,2)))","v":""},null,{"$f":"IF(ISBLANK(AE49),\"\",IF(VALUE(AE49)>89,1,VLOOKUP(VALUE(AE49),List2!$A$1:'List2'!$B$90,2)))","v":""},null,{"$f":"IF(ISBLANK(AG49),\"\",IF(VALUE(AG49)>89,1,VLOOKUP(VALUE(AG49),List2!$A$1:'List2'!$B$90,2)))","v":""},null,{"$f":"IF(ISBLANK(AI49),\"\",IF(VALUE(AI49)>89,1,VLOOKUP(VALUE(AI49),List2!$A$1:'List2'!$B$90,2)))","v":""},null,{"$f":"IF(ISBLANK(AK49),\"\",IF(VALUE(AK49)>89,1,VLOOKUP(VALUE(AK49),List2!$A$1:'List2'!$B$90,2)))","v":""},null,{"$f":"IF(ISBLANK(AM49),\"\",IF(VALUE(AM49)>89,1,VLOOKUP(VALUE(AM49),List2!$A$1:'List2'!$B$90,2)))","v":""},null,0]
["",null,"","",null,{"$f":"IF(ISBLANK(E50),\"\",IF(VALUE(E50)>89,1,VLOOKUP(VALUE(E50),List2!$A$1:'List2'!$B$90,2)))","v":""},null,{"$f":"IF(ISBLANK(G50),\"\",IF(VALUE(G50)>89,1,VLOOKUP(VALUE(G50),List2!$A$1:'List2'!$B$90,2)))","v":""},null,{"$f":"IF(ISBLANK(I50),\"\",IF(VALUE(I50)>89,1,VLOOKUP(VALUE(I50),List2!$A$1:'List2'!$B$90,2)))","v":""},null,{"$f":"IF(ISBLANK(K50),\"\",IF(VALUE(K50)>89,1,VLOOKUP(VALUE(K50),List2!$A$1:'List2'!$B$90,2)))","v":""},null,{"$f":"IF(ISBLANK(M50),\"\",IF(VALUE(M50)>89,1,VLOOKUP(VALUE(M50),List2!$A$1:'List2'!$B$90,2)))","v":""},null,{"$f":"IF(ISBLANK(O50),\"\",IF(VALUE(O50)>89,1,VLOOKUP(VALUE(O50),List2!$A$1:'List2'!$B$90,2)))","v":""},null,{"$f":"IF(ISBLANK(Q50),\"\",IF(VALUE(Q50)>89,1,VLOOKUP(VALUE(Q50),List2!$A$1:'List2'!$B$90,2)))","v":""},null,{"$f":"IF(ISBLANK(S50),\"\",IF(VALUE(S50)>89,1,VLOOKUP(VALUE(S50),List2!$A$1:'List2'!$B$90,2)))","v":""},null,{"$f":"IF(ISBLANK(U50),\"\",IF(VALUE(U50)>89,1,VLOOKUP(VALUE(U50),List2!$A$1:'List2'!$B$90,2)))","v":""},null,{"$f":"IF(ISBLANK(W50),\"\",IF(VALUE(W50)>89,1,VLOOKUP(VALUE(W50),List2!$A$1:'List2'!$B$90,2)))","v":""},null,{"$f":"IF(ISBLANK(Y50),\"\",IF(VALUE(Y50)>89,1,VLOOKUP(VALUE(Y50),List2!$A$1:'List2'!$B$90,2)))","v":""},null,{"$f":"IF(ISBLANK(AA50),\"\",IF(VALUE(AA50)>89,1,VLOOKUP(VALUE(AA50),List2!$A$1:'List2'!$B$90,2)))","v":""},null,{"$f":"IF(ISBLANK(AC50),\"\",IF(VALUE(AC50)>89,1,VLOOKUP(VALUE(AC50),List2!$A$1:'List2'!$B$90,2)))","v":""},null,{"$f":"IF(ISBLANK(AE50),\"\",IF(VALUE(AE50)>89,1,VLOOKUP(VALUE(AE50),List2!$A$1:'List2'!$B$90,2)))","v":""},null,{"$f":"IF(ISBLANK(AG50),\"\",IF(VALUE(AG50)>89,1,VLOOKUP(VALUE(AG50),List2!$A$1:'List2'!$B$90,2)))","v":""},null,{"$f":"IF(ISBLANK(AI50),\"\",IF(VALUE(AI50)>89,1,VLOOKUP(VALUE(AI50),List2!$A$1:'List2'!$B$90,2)))","v":""},null,{"$f":"IF(ISBLANK(AK50),\"\",IF(VALUE(AK50)>89,1,VLOOKUP(VALUE(AK50),List2!$A$1:'List2'!$B$90,2)))","v":""},null,{"$f":"IF(ISBLANK(AM50),\"\",IF(VALUE(AM50)>89,1,VLOOKUP(VALUE(AM50),List2!$A$1:'List2'!$B$90,2)))","v":""},null,0]
["",null,"","",null,{"$f":"IF(ISBLANK(E51),\"\",IF(VALUE(E51)>89,1,VLOOKUP(VALUE(E51),List2!$A$1:'List2'!$B$90,2)))","v":""},null,{"$f":"IF(ISBLANK(G51),\"\",IF(VALUE(G51)>89,1,VLOOKUP(VALUE(G51),List2!$A$1:'List2'!$B$90,2)))","v":""},null,{"$f":"IF(ISBLANK(I51),\"\",IF(VALUE(I51)>89,1,VLOOKUP(VALUE(I51),List2!$A$1:'List2'!$B$90,2)))","v":""},null,{"$f":"IF(ISBLANK(K51),\"\",IF(VALUE(K51)>89,1,VLOOKUP(VALUE(K51),List2!$A$1:'List2'!$B$90,2)))","v":""},null,{"$f":"IF(ISBLANK(M51),\"\",IF(VALUE(M51)>89,1,VLOOKUP(VALUE(M51),List2!$A$1:'List2'!$B$90,2)))","v":""},null,{"$f":"IF(ISBLANK(O51),\"\",IF(VALUE(O51)>89,1,VLOOKUP(VALUE(O51),List2!$A$1:'List2'!$B$90,2)))","v":""},null,{"$f":"IF(ISBLANK(Q51),\"\",IF(VALUE(Q51)>89,1,VLOOKUP(VALUE(Q51),List2!$A$1:'List2'!$B$90,2)))","v":""},null,{"$f":"IF(ISBLANK(S51),\"\",IF(VALUE(S51)>89,1,VLOOKUP(VALUE(S51),List2!$A$1:'List2'!$B$90,2)))","v":""},null,{"$f":"IF(ISBLANK(U51),\"\",IF(VALUE(U51)>89,1,VLOOKUP(VALUE(U51),List2!$A$1:'List2'!$B$90,2)))","v":""},null,{"$f":"IF(ISBLANK(W51),\"\",IF(VALUE(W51)>89,1,VLOOKUP(VALUE(W51),List2!$A$1:'List2'!$B$90,2)))","v":""},null,{"$f":"IF(ISBLANK(Y51),\"\",IF(VALUE(Y51)>89,1,VLOOKUP(VALUE(Y51),List2!$A$1:'List2'!$B$90,2)))","v":""},null,{"$f":"IF(ISBLANK(AA51),\"\",IF(VALUE(AA51)>89,1,VLOOKUP(VALUE(AA51),List2!$A$1:'List2'!$B$90,2)))","v":""},null,{"$f":"IF(ISBLANK(AC51),\"\",IF(VALUE(AC51)>89,1,VLOOKUP(VALUE(AC51),List2!$A$1:'List2'!$B$90,2)))","v":""},null,{"$f":"IF(ISBLANK(AE51),\"\",IF(VALUE(AE51)>89,1,VLOOKUP(VALUE(AE51),List2!$A$1:'List2'!$B$90,2)))","v":""},null,{"$f":"IF(ISBLANK(AG51),\"\",IF(VALUE(AG51)>89,1,VLOOKUP(VALUE(AG51),List2!$A$1:'List2'!$B$90,2)))","v":""},null,{"$f":"IF(ISBLANK(AI51),\"\",IF(VALUE(AI51)>89,1,VLOOKUP(VALUE(AI51),List2!$A$1:'List2'!$B$90,2)))","v":""},null,{"$f":"IF(ISBLANK(AK51),\"\",IF(VALUE(AK51)>89,1,VLOOKUP(VALUE(AK51),List2!$A$1:'List2'!$B$90,2)))","v":""},null,{"$f":"IF(ISBLANK(AM51),\"\",IF(VALUE(AM51)>89,1,VLOOKUP(VALUE(AM51),List2!$A$1:'List2'!$B$90,2)))","v":""},null,0]
["",null,"","",null,{"$f":"IF(ISBLANK(E52),\"\",IF(VALUE(E52)>89,1,VLOOKUP(VALUE(E52),List2!$A$1:'List2'!$B$90,2)))","v":""},null,{"$f":"IF(ISBLANK(G52),\"\",IF(VALUE(G52)>89,1,VLOOKUP(VALUE(G52),List2!$A$1:'List2'!$B$90,2)))","v":""},null,{"$f":"IF(ISBLANK(I52),\"\",IF(VALUE(I52)>89,1,VLOOKUP(VALUE(I52),List2!$A$1:'List2'!$B$90,2)))","v":""},null,{"$f":"IF(ISBLANK(K52),\"\",IF(VALUE(K52)>89,1,VLOOKUP(VALUE(K52),List2!$A$1:'List2'!$B$90,2)))","v":""},null,{"$f":"IF(ISBLANK(M52),\"\",IF(VALUE(M52)>89,1,VLOOKUP(VALUE(M52),List2!$A$1:'List2'!$B$90,2)))","v":""},null,{"$f":"IF(ISBLANK(O52),\"\",IF(VALUE(O52)>89,1,VLOOKUP(VALUE(O52),List2!$A$1:'List2'!$B$90,2)))","v":""},null,{"$f":"IF(ISBLANK(Q52),\"\",IF(VALUE(Q52)>89,1,VLOOKUP(VALUE(Q52),List2!$A$1:'List2'!$B$90,2)))","v":""},null,{"$f":"IF(ISBLANK(S52),\"\",IF(VALUE(S52)>89,1,VLOOKUP(VALUE(S52),List2!$A$1:'List2'!$B$90,2)))","v":""},null,{"$f":"IF(ISBLANK(U52),\"\",IF(VALUE(U52)>89,1,VLOOKUP(VALUE(U52),List2!$A$1:'List2'!$B$90,2)))","v":""},null,{"$f":"IF(ISBLANK(W52),\"\",IF(VALUE(W52)>89,1,VLOOKUP(VALUE(W52),List2!$A$1:'List2'!$B$90,2)))","v":""},null,{"$f":"IF(ISBLANK(Y52),\"\",IF(VALUE(Y52)>89,1,VLOOKUP(VALUE(Y52),List2!$A$1:'List2'!$B$90,2)))","v":""},null,{"$f":"IF(ISBLANK(AA52),\"\",IF(VALUE(AA52)>89,1,VLOOKUP(VALUE(AA52),List2!$A$1:'List2'!$B$90,2)))","v":""},null,{"$f":"IF(ISBLANK(AC52),\"\",IF(VALUE(AC52)>89,1,VLOOKUP(VALUE(AC52),List2!$A$1:'List2'!$B$90,2)))","v":""},null,{"$f":"IF(ISBLANK(AE52),\"\",IF(VALUE(AE52)>89,1,VLOOKUP(VALUE(AE52),List2!$A$1:'List2'!$B$90,2)))","v":""},null,{"$f":"IF(ISBLANK(AG52),\"\",IF(VALUE(AG52)>89,1,VLOOKUP(VALUE(AG52),List2!$A$1:'List2'!$B$90,2)))","v":""},null,{"$f":"IF(ISBLANK(AI52),\"\",IF(VALUE(AI52)>89,1,VLOOKUP(VALUE(AI52),List2!$A$1:'List2'!$B$90,2)))","v":""},null,{"$f":"IF(ISBLANK(AK52),\"\",IF(VALUE(AK52)>89,1,VLOOKUP(VALUE(AK52),List2!$A$1:'List2'!$B$90,2)))","v":""},null,{"$f":"IF(ISBLANK(AM52),\"\",IF(VALUE(AM52)>89,1,VLOOKUP(VALUE(AM52),List2!$A$1:'List2'!$B$90,2)))","v":""},null,0]
["",null,"","",null,{"$f":"IF(ISBLANK(E53),\"\",IF(VALUE(E53)>89,1,VLOOKUP(VALUE(E53),List2!$A$1:'List2'!$B$90,2)))","v":""},null,{"$f":"IF(ISBLANK(G53),\"\",IF(VALUE(G53)>89,1,VLOOKUP(VALUE(G53),List2!$A$1:'List2'!$B$90,2)))","v":""},null,{"$f":"IF(ISBLANK(I53),\"\",IF(VALUE(I53)>89,1,VLOOKUP(VALUE(I53),List2!$A$1:'List2'!$B$90,2)))","v":""},null,{"$f":"IF(ISBLANK(K53),\"\",IF(VALUE(K53)>89,1,VLOOKUP(VALUE(K53),List2!$A$1:'List2'!$B$90,2)))","v":""},null,{"$f":"IF(ISBLANK(M53),\"\",IF(VALUE(M53)>89,1,VLOOKUP(VALUE(M53),List2!$A$1:'List2'!$B$90,2)))","v":""},null,{"$f":"IF(ISBLANK(O53),\"\",IF(VALUE(O53)>89,1,VLOOKUP(VALUE(O53),List2!$A$1:'List2'!$B$90,2)))","v":""},null,{"$f":"IF(ISBLANK(Q53),\"\",IF(VALUE(Q53)>89,1,VLOOKUP(VALUE(Q53),List2!$A$1:'List2'!$B$90,2)))","v":""},null,{"$f":"IF(ISBLANK(S53),\"\",IF(VALUE(S53)>89,1,VLOOKUP(VALUE(S53),List2!$A$1:'List2'!$B$90,2)))","v":""},null,{"$f":"IF(ISBLANK(U53),\"\",IF(VALUE(U53)>89,1,VLOOKUP(VALUE(U53),List2!$A$1:'List2'!$B$90,2)))","v":""},null,{"$f":"IF(ISBLANK(W53),\"\",IF(VALUE(W53)>89,1,VLOOKUP(VALUE(W53),List2!$A$1:'List2'!$B$90,2)))","v":""},null,{"$f":"IF(ISBLANK(Y53),\"\",IF(VALUE(Y53)>89,1,VLOOKUP(VALUE(Y53),List2!$A$1:'List2'!$B$90,2)))","v":""},null,{"$f":"IF(ISBLANK(AA53),\"\",IF(VALUE(AA53)>89,1,VLOOKUP(VALUE(AA53),List2!$A$1:'List2'!$B$90,2)))","v":""},null,{"$f":"IF(ISBLANK(AC53),\"\",IF(VALUE(AC53)>89,1,VLOOKUP(VALUE(AC53),List2!$A$1:'List2'!$B$90,2)))","v":""},null,{"$f":"IF(ISBLANK(AE53),\"\",IF(VALUE(AE53)>89,1,VLOOKUP(VALUE(AE53),List2!$A$1:'List2'!$B$90,2)))","v":""},null,{"$f":"IF(ISBLANK(AG53),\"\",IF(VALUE(AG53)>89,1,VLOOKUP(VALUE(AG53),List2!$A$1:'List2'!$B$90,2)))","v":""},null,{"$f":"IF(ISBLANK(AI53),\"\",IF(VALUE(AI53)>89,1,VLOOKUP(VALUE(AI53),List2!$A$1:'List2'!$B$90,2)))","v":""},null,{"$f":"IF(ISBLANK(AK53),\"\",IF(VALUE(AK53)>89,1,VLOOKUP(VALUE(AK53),List2!$A$1:'List2'!$B$90,2)))","v":""},null,{"$f":"IF(ISBLANK(AM53),\"\",IF(VALUE(AM53)>89,1,VLOOKUP(VALUE(AM53),List2!$A$1:'List2'!$B$90,2)))","v":""},null,0]
["",null,"","",null,{"$f":"IF(ISBLANK(E54),\"\",IF(VALUE(E54)>89,1,VLOOKUP(VALUE(E54),List2!$A$1:'List2'!$B$90,2)))","v":""},null,{"$f":"IF(ISBLANK(G54),\"\",IF(VALUE(G54)>89,1,VLOOKUP(VALUE(G54),List2!$A$1:'List2'!$B$90,2)))","v":""},null,{"$f":"IF(ISBLANK(I54),\"\",IF(VALUE(I54)>89,1,VLOOKUP(VALUE(I54),List2!$A$1:'List2'!$B$90,2)))","v":""},null,{"$f":"IF(ISBLANK(K54),\"\",IF(VALUE(K54)>89,1,VLOOKUP(VALUE(K54),List2!$A$1:'List2'!$B$90,2)))","v":""},null,{"$f":"IF(ISBLANK(M54),\"\",IF(VALUE(M54)>89,1,VLOOKUP(VALUE(M54),List2!$A$1:'List2'!$B$90,2)))","v":""},null,{"$f":"IF(ISBLANK(O54),\"\",IF(VALUE(O54)>89,1,VLOOKUP(VALUE(O54),List2!$A$1:'List2'!$B$90,2)))","v":""},null,{"$f":"IF(ISBLANK(Q54),\"\",IF(VALUE(Q54)>89,1,VLOOKUP(VALUE(Q54),List2!$A$1:'List2'!$B$90,2)))","v":""},null,{"$f":"IF(ISBLANK(S54),\"\",IF(VALUE(S54)>89,1,VLOOKUP(VALUE(S54),List2!$A$1:'List2'!$B$90,2)))","v":""},null,{"$f":"IF(ISBLANK(U54),\"\",IF(VALUE(U54)>89,1,VLOOKUP(VALUE(U54),List2!$A$1:'List2'!$B$90,2)))","v":""},null,{"$f":"IF(ISBLANK(W54),\"\",IF(VALUE(W54)>89,1,VLOOKUP(VALUE(W54),List2!$A$1:'List2'!$B$90,2)))","v":""},null,{"$f":"IF(ISBLANK(Y54),\"\",IF(VALUE(Y54)>89,1,VLOOKUP(VALUE(Y54),List2!$A$1:'List2'!$B$90,2)))","v":""},null,{"$f":"IF(ISBLANK(AA54),\"\",IF(VALUE(AA54)>89,1,VLOOKUP(VALUE(AA54),List2!$A$1:'List2'!$B$90,2)))","v":""},null,{"$f":"IF(ISBLANK(AC54),\"\",IF(VALUE(AC54)>89,1,VLOOKUP(VALUE(AC54),List2!$A$1:'List2'!$B$90,2)))","v":""},null,{"$f":"IF(ISBLANK(AE54),\"\",IF(VALUE(AE54)>89,1,VLOOKUP(VALUE(AE54),List2!$A$1:'List2'!$B$90,2)))","v":""},null,{"$f":"IF(ISBLANK(AG54),\"\",IF(VALUE(AG54)>89,1,VLOOKUP(VALUE(AG54),List2!$A$1:'List2'!$B$90,2)))","v":""},null,{"$f":"IF(ISBLANK(AI54),\"\",IF(VALUE(AI54)>89,1,VLOOKUP(VALUE(AI54),List2!$A$1:'List2'!$B$90,2)))","v":""},null,{"$f":"IF(ISBLANK(AK54),\"\",IF(VALUE(AK54)>89,1,VLOOKUP(VALUE(AK54),List2!$A$1:'List2'!$B$90,2)))","v":""},null,{"$f":"IF(ISBLANK(AM54),\"\",IF(VALUE(AM54)>89,1,VLOOKUP(VALUE(AM54),List2!$A$1:'List2'!$B$90,2)))","v":""},null,0]
["",null,"","",null,{"$f":"IF(ISBLANK(E55),\"\",IF(VALUE(E55)>89,1,VLOOKUP(VALUE(E55),List2!$A$1:'List2'!$B$90,2)))","v":""},null,{"$f":"IF(ISBLANK(G55),\"\",IF(VALUE(G55)>89,1,VLOOKUP(VALUE(G55),List2!$A$1:'List2'!$B$90,2)))","v":""},null,{"$f":"IF(ISBLANK(I55),\"\",IF(VALUE(I55)>89,1,VLOOKUP(VALUE(I55),List2!$A$1:'List2'!$B$90,2)))","v":""},null,{"$f":"IF(ISBLANK(K55),\"\",IF(VALUE(K55)>89,1,VLOOKUP(VALUE(K55),List2!$A$1:'List2'!$B$90,2)))","v":""},null,{"$f":"IF(ISBLANK(M55),\"\",IF(VALUE(M55)>89,1,VLOOKUP(VALUE(M55),List2!$A$1:'List2'!$B$90,2)))","v":""},null,{"$f":"IF(ISBLANK(O55),\"\",IF(VALUE(O55)>89,1,VLOOKUP(VALUE(O55),List2!$A$1:'List2'!$B$90,2)))","v":""},null,{"$f":"IF(ISBLANK(Q55),\"\",IF(VALUE(Q55)>89,1,VLOOKUP(VALUE(Q55),List2!$A$1:'List2'!$B$90,2)))","v":""},null,{"$f":"IF(ISBLANK(S55),\"\",IF(VALUE(S55)>89,1,VLOOKUP(VALUE(S55),List2!$A$1:'List2'!$B$90,2)))","v":""},null,{"$f":"IF(ISBLANK(U55),\"\",IF(VALUE(U55)>89,1,VLOOKUP(VALUE(U55),List2!$A$1:'List2'!$B$90,2)))","v":""},null,{"$f":"IF(ISBLANK(W55),\"\",IF(VALUE(W55)>89,1,VLOOKUP(VALUE(W55),List2!$A$1:'List2'!$B$90,2)))","v":""},null,{"$f":"IF(ISBLANK(Y55),\"\",IF(VALUE(Y55)>89,1,VLOOKUP(VALUE(Y55),List2!$A$1:'List2'!$B$90,2)))","v":""},null,{"$f":"IF(ISBLANK(AA55),\"\",IF(VALUE(AA55)>89,1,VLOOKUP(VALUE(AA55),List2!$A$1:'List2'!$B$90,2)))","v":""},null,{"$f":"IF(ISBLANK(AC55),\"\",IF(VALUE(AC55)>89,1,VLOOKUP(VALUE(AC55),List2!$A$1:'List2'!$B$90,2)))","v":""},null,{"$f":"IF(ISBLANK(AE55),\"\",IF(VALUE(AE55)>89,1,VLOOKUP(VALUE(AE55),List2!$A$1:'List2'!$B$90,2)))","v":""},null,{"$f":"IF(ISBLANK(AG55),\"\",IF(VALUE(AG55)>89,1,VLOOKUP(VALUE(AG55),List2!$A$1:'List2'!$B$90,2)))","v":""},null,{"$f":"IF(ISBLANK(AI55),\"\",IF(VALUE(AI55)>89,1,VLOOKUP(VALUE(AI55),List2!$A$1:'List2'!$B$90,2)))","v":""},null,{"$f":"IF(ISBLANK(AK55),\"\",IF(VALUE(AK55)>89,1,VLOOKUP(VALUE(AK55),List2!$A$1:'List2'!$B$90,2)))","v":""},null,{"$f":"IF(ISBLANK(AM55),\"\",IF(VALUE(AM55)>89,1,VLOOKUP(VALUE(AM55),List2!$A$1:'List2'!$B$90,2)))","v":""},null,0]
["",null,"","",null,{"$f":"IF(ISBLANK(E56),\"\",IF(VALUE(E56)>89,1,VLOOKUP(VALUE(E56),List2!$A$1:'List2'!$B$90,2)))","v":""},null,{"$f":"IF(ISBLANK(G56),\"\",IF(VALUE(G56)>89,1,VLOOKUP(VALUE(G56),List2!$A$1:'List2'!$B$90,2)))","v":""},null,{"$f":"IF(ISBLANK(I56),\"\",IF(VALUE(I56)>89,1,VLOOKUP(VALUE(I56),List2!$A$1:'List2'!$B$90,2)))","v":""},null,{"$f":"IF(ISBLANK(K56),\"\",IF(VALUE(K56)>89,1,VLOOKUP(VALUE(K56),List2!$A$1:'List2'!$B$90,2)))","v":""},null,{"$f":"IF(ISBLANK(M56),\"\",IF(VALUE(M56)>89,1,VLOOKUP(VALUE(M56),List2!$A$1:'List2'!$B$90,2)))","v":""},null,{"$f":"IF(ISBLANK(O56),\"\",IF(VALUE(O56)>89,1,VLOOKUP(VALUE(O56),List2!$A$1:'List2'!$B$90,2)))","v":""},null,{"$f":"IF(ISBLANK(Q56),\"\",IF(VALUE(Q56)>89,1,VLOOKUP(VALUE(Q56),List2!$A$1:'List2'!$B$90,2)))","v":""},null,{"$f":"IF(ISBLANK(S56),\"\",IF(VALUE(S56)>89,1,VLOOKUP(VALUE(S56),List2!$A$1:'List2'!$B$90,2)))","v":""},null,{"$f":"IF(ISBLANK(U56),\"\",IF(VALUE(U56)>89,1,VLOOKUP(VALUE(U56),List2!$A$1:'List2'!$B$90,2)))","v":""},null,{"$f":"IF(ISBLANK(W56),\"\",IF(VALUE(W56)>89,1,VLOOKUP(VALUE(W56),List2!$A$1:'List2'!$B$90,2)))","v":""},null,{"$f":"IF(ISBLANK(Y56),\"\",IF(VALUE(Y56)>89,1,VLOOKUP(VALUE(Y56),List2!$A$1:'List2'!$B$90,2)))","v":""},null,{"$f":"IF(ISBLANK(AA56),\"\",IF(VALUE(AA56)>89,1,VLOOKUP(VALUE(AA56),List2!$A$1:'List2'!$B$90,2)))","v":""},null,{"$f":"IF(ISBLANK(AC56),\"\",IF(VALUE(AC56)>89,1,VLOOKUP(VALUE(AC56),List2!$A$1:'List2'!$B$90,2)))","v":""},null,{"$f":"IF(ISBLANK(AE56),\"\",IF(VALUE(AE56)>89,1,VLOOKUP(VALUE(AE56),List2!$A$1:'List2'!$B$90,2)))","v":""},null,{"$f":"IF(ISBLANK(AG56),\"\",IF(VALUE(AG56)>89,1,VLOOKUP(VALUE(AG56),List2!$A$1:'List2'!$B$90,2)))","v":""},null,{"$f":"IF(ISBLANK(AI56),\"\",IF(VALUE(AI56)>89,1,VLOOKUP(VALUE(AI56),List2!$A$1:'List2'!$B$90,2)))","v":""},null,{"$f":"IF(ISBLANK(AK56),\"\",IF(VALUE(AK56)>89,1,VLOOKUP(VALUE(AK56),List2!$A$1:'List2'!$B$90,2)))","v":""},null,{"$f":"IF(ISBLANK(AM56),\"\",IF(VALUE(AM56)>89,1,VLOOKUP(VALUE(AM56),List2!$A$1:'List2'!$B$90,2)))","v":""},null,0]
["",null,"","",null,{"$f":"IF(ISBLANK(E57),\"\",IF(VALUE(E57)>89,1,VLOOKUP(VALUE(E57),List2!$A$1:'List2'!$B$90,2)))","v":""},null,{"$f":"IF(ISBLANK(G57),\"\",IF(VALUE(G57)>89,1,VLOOKUP(VALUE(G57),List2!$A$1:'List2'!$B$90,2)))","v":""},null,{"$f":"IF(ISBLANK(I57),\"\",IF(VALUE(I57)>89,1,VLOOKUP(VALUE(I57),List2!$A$1:'List2'!$B$90,2)))","v":""},null,{"$f":"IF(ISBLANK(K57),\"\",IF(VALUE(K57)>89,1,VLOOKUP(VALUE(K57),List2!$A$1:'List2'!$B$90,2)))","v":""},null,{"$f":"IF(ISBLANK(M57),\"\",IF(VALUE(M57)>89,1,VLOOKUP(VALUE(M57),List2!$A$1:'List2'!$B$90,2)))","v":""},null,{"$f":"IF(ISBLANK(O57),\"\",IF(VALUE(O57)>89,1,VLOOKUP(VALUE(O57),List2!$A$1:'List2'!$B$90,2)))","v":""},null,{"$f":"IF(ISBLANK(Q57),\"\",IF(VALUE(Q57)>89,1,VLOOKUP(VALUE(Q57),List2!$A$1:'List2'!$B$90,2)))","v":""},null,{"$f":"IF(ISBLANK(S57),\"\",IF(VALUE(S57)>89,1,VLOOKUP(VALUE(S57),List2!$A$1:'List2'!$B$90,2)))","v":""},null,{"$f":"IF(ISBLANK(U57),\"\",IF(VALUE(U57)>89,1,VLOOKUP(VALUE(U57),List2!$A$1:'List2'!$B$90,2)))","v":""},null,{"$f":"IF(ISBLANK(W57),\"\",IF(VALUE(W57)>89,1,VLOOKUP(VALUE(W57),List2!$A$1:'List2'!$B$90,2)))","v":""},null,{"$f":"IF(ISBLANK(Y57),\"\",IF(VALUE(Y57)>89,1,VLOOKUP(VALUE(Y57),List2!$A$1:'List2'!$B$90,2)))","v":""},null,{"$f":"IF(ISBLANK(AA57),\"\",IF(VALUE(AA57)>89,1,VLOOKUP(VALUE(AA57),List2!$A$1:'List2'!$B$90,2)))","v":""},null,{"$f":"IF(ISBLANK(AC57),\"\",IF(VALUE(AC57)>89,1,VLOOKUP(VALUE(AC57),List2!$A$1:'List2'!$B$90,2)))","v":""},null,{"$f":"IF(ISBLANK(AE57),\"\",IF(VALUE(AE57)>89,1,VLOOKUP(VALUE(AE57),List2!$A$1:'List2'!$B$90,2)))","v":""},null,{"$f":"IF(ISBLANK(AG57),\"\",IF(VALUE(AG57)>89,1,VLOOKUP(VALUE(AG57),List2!$A$1:'List2'!$B$90,2)))","v":""},null,{"$f":"IF(ISBLANK(AI57),\"\",IF(VALUE(AI57)>89,1,VLOOKUP(VALUE(AI57),List2!$A$1:'List2'!$B$90,2)))","v":""},null,{"$f":"IF(ISBLANK(AK57),\"\",IF(VALUE(AK57)>89,1,VLOOKUP(VALUE(AK57),List2!$A$1:'List2'!$B$90,2)))","v":""},null,{"$f":"IF(ISBLANK(AM57),\"\",IF(VALUE(AM57)>89,1,VLOOKUP(VALUE(AM57),List2!$A$1:'List2'!$B$90,2)))","v":""},null,0]
["",null,"","",null,{"$f":"IF(ISBLANK(E58),\"\",IF(VALUE(E58)>89,1,VLOOKUP(VALUE(E58),List2!$A$1:'List2'!$B$90,2)))","v":""},null,{"$f":"IF(ISBLANK(G58),\"\",IF(VALUE(G58)>89,1,VLOOKUP(VALUE(G58),List2!$A$1:'List2'!$B$90,2)))","v":""},null,{"$f":"IF(ISBLANK(I58),\"\",IF(VALUE(I58)>89,1,VLOOKUP(VALUE(I58),List2!$A$1:'List2'!$B$90,2)))","v":""},null,{"$f":"IF(ISBLANK(K58),\"\",IF(VALUE(K58)>89,1,VLOOKUP(VALUE(K58),List2!$A$1:'List2'!$B$90,2)))","v":""},null,{"$f":"IF(ISBLANK(M58),\"\",IF(VALUE(M58)>89,1,VLOOKUP(VALUE(M58),List2!$A$1:'List2'!$B$90,2)))","v":""},null,{"$f":"IF(ISBLANK(O58),\"\",IF(VALUE(O58)>89,1,VLOOKUP(VALUE(O58),List2!$A$1:'List2'!$B$90,2)))","v":""},null,{"$f":"IF(ISBLANK(Q58),\"\",IF(VALUE(Q58)>89,1,VLOOKUP(VALUE(Q58),List2!$A$1:'List2'!$B$90,2)))","v":""},null,{"$f":"IF(ISBLANK(S58),\"\",IF(VALUE(S58)>89,1,VLOOKUP(VALUE(S58),List2!$A$1:'List2'!$B$90,2)))","v":""},null,{"$f":"IF(ISBLANK(U58),\"\",IF(VALUE(U58)>89,1,VLOOKUP(VALUE(U58),List2!$A$1:'List2'!$B$90,2)))","v":""},null,{"$f":"IF(ISBLANK(W58),\"\",IF(VALUE(W58)>89,1,VLOOKUP(VALUE(W58),List2!$A$1:'List2'!$B$90,2)))","v":""},null,{"$f":"IF(ISBLANK(Y58),\"\",IF(VALUE(Y58)>89,1,VLOOKUP(VALUE(Y58),List2!$A$1:'List2'!$B$90,2)))","v":""},null,{"$f":"IF(ISBLANK(AA58),\"\",IF(VALUE(AA58)>89,1,VLOOKUP(VALUE(AA58),List2!$A$1:'List2'!$B$90,2)))","v":""},null,{"$f":"IF(ISBLANK(AC58),\"\",IF(VALUE(AC58)>89,1,VLOOKUP(VALUE(AC58),List2!$A$1:'List2'!$B$90,2)))","v":""},null,{"$f":"IF(ISBLANK(AE58),\"\",IF(VALUE(AE58)>89,1,VLOOKUP(VALUE(AE58),List2!$A$1:'List2'!$B$90,2)))","v":""},null,{"$f":"IF(ISBLANK(AG58),\"\",IF(VALUE(AG58)>89,1,VLOOKUP(VALUE(AG58),List2!$A$1:'List2'!$B$90,2)))","v":""},null,{"$f":"IF(ISBLANK(AI58),\"\",IF(VALUE(AI58)>89,1,VLOOKUP(VALUE(AI58),List2!$A$1:'List2'!$B$90,2)))","v":""},null,{"$f":"IF(ISBLANK(AK58),\"\",IF(VALUE(AK58)>89,1,VLOOKUP(VALUE(AK58),List2!$A$1:'List2'!$B$90,2)))","v":""},null,{"$f":"IF(ISBLANK(AM58),\"\",IF(VALUE(AM58)>89,1,VLOOKUP(VALUE(AM58),List2!$A$1:'List2'!$B$90,2)))","v":""},null,0]
["",null,"","",null,{"$f":"IF(ISBLANK(E59),\"\",IF(VALUE(E59)>89,1,VLOOKUP(VALUE(E59),List2!$A$1:'List2'!$B$90,2)))","v":""},null,{"$f":"IF(ISBLANK(G59),\"\",IF(VALUE(G59)>89,1,VLOOKUP(VALUE(G59),List2!$A$1:'List2'!$B$90,2)))","v":""},null,{"$f":"IF(ISBLANK(I59),\"\",IF(VALUE(I59)>89,1,VLOOKUP(VALUE(I59),List2!$A$1:'List2'!$B$90,2)))","v":""},null,{"$f":"IF(ISBLANK(K59),\"\",IF(VALUE(K59)>89,1,VLOOKUP(VALUE(K59),List2!$A$1:'List2'!$B$90,2)))","v":""},null,{"$f":"IF(ISBLANK(M59),\"\",IF(VALUE(M59)>89,1,VLOOKUP(VALUE(M59),List2!$A$1:'List2'!$B$90,2)))","v":""},null,{"$f":"IF(ISBLANK(O59),\"\",IF(VALUE(O59)>89,1,VLOOKUP(VALUE(O59),List2!$A$1:'List2'!$B$90,2)))","v":""},null,{"$f":"IF(ISBLANK(Q59),\"\",IF(VALUE(Q59)>89,1,VLOOKUP(VALUE(Q59),List2!$A$1:'List2'!$B$90,2)))","v":""},null,{"$f":"IF(ISBLANK(S59),\"\",IF(VALUE(S59)>89,1,VLOOKUP(VALUE(S59),List2!$A$1:'List2'!$B$90,2)))","v":""},null,{"$f":"IF(ISBLANK(U59),\"\",IF(VALUE(U59)>89,1,VLOOKUP(VALUE(U59),List2!$A$1:'List2'!$B$90,2)))","v":""},null,{"$f":"IF(ISBLANK(W59),\"\",IF(VALUE(W59)>89,1,VLOOKUP(VALUE(W59),List2!$A$1:'List2'!$B$90,2)))","v":""},null,{"$f":"IF(ISBLANK(Y59),\"\",IF(VALUE(Y59)>89,1,VLOOKUP(VALUE(Y59),List2!$A$1:'List2'!$B$90,2)))","v":""},null,{"$f":"IF(ISBLANK(AA59),\"\",IF(VALUE(AA59)>89,1,VLOOKUP(VALUE(AA59),List2!$A$1:'List2'!$B$90,2)))","v":""},null,{"$f":"IF(ISBLANK(AC59),\"\",IF(VALUE(AC59)>89,1,VLOOKUP(VALUE(AC59),List2!$A$1:'List2'!$B$90,2)))","v":""},null,{"$f":"IF(ISBLANK(AE59),\"\",IF(VALUE(AE59)>89,1,VLOOKUP(VALUE(AE59),List2!$A$1:'List2'!$B$90,2)))","v":""},null,{"$f":"IF(ISBLANK(AG59),\"\",IF(VALUE(AG59)>89,1,VLOOKUP(VALUE(AG59),List2!$A$1:'List2'!$B$90,2)))","v":""},null,{"$f":"IF(ISBLANK(AI59),\"\",IF(VALUE(AI59)>89,1,VLOOKUP(VALUE(AI59),List2!$A$1:'List2'!$B$90,2)))","v":""},null,{"$f":"IF(ISBLANK(AK59),\"\",IF(VALUE(AK59)>89,1,VLOOKUP(VALUE(AK59),List2!$A$1:'List2'!$B$90,2)))","v":""},null,{"$f":"IF(ISBLANK(AM59),\"\",IF(VALUE(AM59)>89,1,VLOOKUP(VALUE(AM59),List2!$A$1:'List2'!$B$90,2)))","v":""},null,0]
["",null,"","",null,{"$f":"IF(ISBLANK(E60),\"\",IF(VALUE(E60)>89,1,VLOOKUP(VALUE(E60),List2!$A$1:'List2'!$B$90,2)))","v":""},null,{"$f":"IF(ISBLANK(G60),\"\",IF(VALUE(G60)>89,1,VLOOKUP(VALUE(G60),List2!$A$1:'List2'!$B$90,2)))","v":""},null,{"$f":"IF(ISBLANK(I60),\"\",IF(VALUE(I60)>89,1,VLOOKUP(VALUE(I60),List2!$A$1:'List2'!$B$90,2)))","v":""},null,{"$f":"IF(ISBLANK(K60),\"\",IF(VALUE(K60)>89,1,VLOOKUP(VALUE(K60),List2!$A$1:'List2'!$B$90,2)))","v":""},null,{"$f":"IF(ISBLANK(M60),\"\",IF(VALUE(M60)>89,1,VLOOKUP(VALUE(M60),List2!$A$1:'List2'!$B$90,2)))","v":""},null,{"$f":"IF(ISBLANK(O60),\"\",IF(VALUE(O60)>89,1,VLOOKUP(VALUE(O60),List2!$A$1:'List2'!$B$90,2)))","v":""},null,{"$f":"IF(ISBLANK(Q60),\"\",IF(VALUE(Q60)>89,1,VLOOKUP(VALUE(Q60),List2!$A$1:'List2'!$B$90,2)))","v":""},null,{"$f":"IF(ISBLANK(S60),\"\",IF(VALUE(S60)>89,1,VLOOKUP(VALUE(S60),List2!$A$1:'List2'!$B$90,2)))","v":""},null,{"$f":"IF(ISBLANK(U60),\"\",IF(VALUE(U60)>89,1,VLOOKUP(VALUE(U60),List2!$A$1:'List2'!$B$90,2)))","v":""},null,{"$f":"IF(ISBLANK(W60),\"\",IF(VALUE(W60)>89,1,VLOOKUP(VALUE(W60),List2!$A$1:'List2'!$B$90,2)))","v":""},null,{"$f":"IF(ISBLANK(Y60),\"\",IF(VALUE(Y60)>89,1,VLOOKUP(VALUE(Y60),List2!$A$1:'List2'!$B$90,2)))","v":""},null,{"$f":"IF(ISBLANK(AA60),\"\",IF(VALUE(AA60)>89,1,VLOOKUP(VALUE(AA60),List2!$A$1:'List2'!$B$90,2)))","v":""},null,{"$f":"IF(ISBLANK(AC60),\"\",IF(VALUE(AC60)>89,1,VLOOKUP(VALUE(AC60),List2!$A$1:'List2'!$B$90,2)))","v":""},null,{"$f":"IF(ISBLANK(AE60),\"\",IF(VALUE(AE60)>89,1,VLOOKUP(VALUE(AE60),List2!$A$1:'List2'!$B$90,2)))","v":""},null,{"$f":"IF(ISBLANK(AG60),\"\",IF(VALUE(AG60)>89,1,VLOOKUP(VALUE(AG60),List2!$A$1:'List2'!$B$90,2)))","v":""},null,{"$f":"IF(ISBLANK(AI60),\"\",IF(VALUE(AI60)>89,1,VLOOKUP(VALUE(AI60),List2!$A$1:'List2'!$B$90,2)))","v":""},null,{"$f":"IF(ISBLANK(AK60),\"\",IF(VALUE(AK60)>89,1,VLOOKUP(VALUE(AK60),List2!$A$1:'List2'!$B$90,2)))","v":""},null,{"$f":"IF(ISBLANK(AM60),\"\",IF(VALUE(AM60)>89,1,VLOOKUP(VALUE(AM60),List2!$A$1:'List2'!$B$90,2)))","v":""},null,0]
["",null,"","",null,{"$f":"IF(ISBLANK(E61),\"\",IF(VALUE(E61)>89,1,VLOOKUP(VALUE(E61),List2!$A$1:'List2'!$B$90,2)))","v":""},null,{"$f":"IF(ISBLANK(G61),\"\",IF(VALUE(G61)>89,1,VLOOKUP(VALUE(G61),List2!$A$1:'List2'!$B$90,2)))","v":""},null,{"$f":"IF(ISBLANK(I61),\"\",IF(VALUE(I61)>89,1,VLOOKUP(VALUE(I61),List2!$A$1:'List2'!$B$90,2)))","v":""},null,{"$f":"IF(ISBLANK(K61),\"\",IF(VALUE(K61)>89,1,VLOOKUP(VALUE(K61),List2!$A$1:'List2'!$B$90,2)))","v":""},null,{"$f":"IF(ISBLANK(M61),\"\",IF(VALUE(M61)>89,1,VLOOKUP(VALUE(M61),List2!$A$1:'List2'!$B$90,2)))","v":""},null,{"$f":"IF(ISBLANK(O61),\"\",IF(VALUE(O61)>89,1,VLOOKUP(VALUE(O61),List2!$A$1:'List2'!$B$90,2)))","v":""},null,{"$f":"IF(ISBLANK(Q61),\"\",IF(VALUE(Q61)>89,1,VLOOKUP(VALUE(Q61),List2!$A$1:'List2'!$B$90,2)))","v":""},null,{"$f":"IF(ISBLANK(S61),\"\",IF(VALUE(S61)>89,1,VLOOKUP(VALUE(S61),List2!$A$1:'List2'!$B$90,2)))","v":""},null,{"$f":"IF(ISBLANK(U61),\"\",IF(VALUE(U61)>89,1,VLOOKUP(VALUE(U61),List2!$A$1:'List2'!$B$90,2)))","v":""},null,{"$f":"IF(ISBLANK(W61),\"\",IF(VALUE(W61)>89,1,VLOOKUP(VALUE(W61),List2!$A$1:'List2'!$B$90,2)))","v":""},null,{"$f":"IF(ISBLANK(Y61),\"\",IF(VALUE(Y61)>89,1,VLOOKUP(VALUE(Y61),List2!$A$1:'List2'!$B$90,2)))","v":""},null,{"$f":"IF(ISBLANK(AA61),\"\",IF(VALUE(AA61)>89,1,VLOOKUP(VALUE(AA61),List2!$A$1:'List2'!$B$90,2)))","v":""},null,{"$f":"IF(ISBLANK(AC61),\"\",IF(VALUE(AC61)>89,1,VLOOKUP(VALUE(AC61),List2!$A$1:'List2'!$B$90,2)))","v":""},null,{"$f":"IF(ISBLANK(AE61),\"\",IF(VALUE(AE61)>89,1,VLOOKUP(VALUE(AE61),List2!$A$1:'List2'!$B$90,2)))","v":""},null,{"$f":"IF(ISBLANK(AG61),\"\",IF(VALUE(AG61)>89,1,VLOOKUP(VALUE(AG61),List2!$A$1:'List2'!$B$90,2)))","v":""},null,{"$f":"IF(ISBLANK(AI61),\"\",IF(VALUE(AI61)>89,1,VLOOKUP(VALUE(AI61),List2!$A$1:'List2'!$B$90,2)))","v":""},null,{"$f":"IF(ISBLANK(AK61),\"\",IF(VALUE(AK61)>89,1,VLOOKUP(VALUE(AK61),List2!$A$1:'List2'!$B$90,2)))","v":""},null,{"$f":"IF(ISBLANK(AM61),\"\",IF(VALUE(AM61)>89,1,VLOOKUP(VALUE(AM61),List2!$A$1:'List2'!$B$90,2)))","v":""},null,0]
["",null,"","",null,{"$f":"IF(ISBLANK(E62),\"\",IF(VALUE(E62)>89,1,VLOOKUP(VALUE(E62),List2!$A$1:'List2'!$B$90,2)))","v":""},null,{"$f":"IF(ISBLANK(G62),\"\",IF(VALUE(G62)>89,1,VLOOKUP(VALUE(G62),List2!$A$1:'List2'!$B$90,2)))","v":""},null,{"$f":"IF(ISBLANK(I62),\"\",IF(VALUE(I62)>89,1,VLOOKUP(VALUE(I62),List2!$A$1:'List2'!$B$90,2)))","v":""},null,{"$f":"IF(ISBLANK(K62),\"\",IF(VALUE(K62)>89,1,VLOOKUP(VALUE(K62),List2!$A$1:'List2'!$B$90,2)))","v":""},null,{"$f":"IF(ISBLANK(M62),\"\",IF(VALUE(M62)>89,1,VLOOKUP(VALUE(M62),List2!$A$1:'List2'!$B$90,2)))","v":""},null,{"$f":"IF(ISBLANK(O62),\"\",IF(VALUE(O62)>89,1,VLOOKUP(VALUE(O62),List2!$A$1:'List2'!$B$90,2)))","v":""},null,{"$f":"IF(ISBLANK(Q62),\"\",IF(VALUE(Q62)>89,1,VLOOKUP(VALUE(Q62),List2!$A$1:'List2'!$B$90,2)))","v":""},null,{"$f":"IF(ISBLANK(S62),\"\",IF(VALUE(S62)>89,1,VLOOKUP(VALUE(S62),List2!$A$1:'List2'!$B$90,2)))","v":""},null,{"$f":"IF(ISBLANK(U62),\"\",IF(VALUE(U62)>89,1,VLOOKUP(VALUE(U62),List2!$A$1:'List2'!$B$90,2)))","v":""},null,{"$f":"IF(ISBLANK(W62),\"\",IF(VALUE(W62)>89,1,VLOOKUP(VALUE(W62),List2!$A$1:'List2'!$B$90,2)))","v":""},null,{"$f":"IF(ISBLANK(Y62),\"\",IF(VALUE(Y62)>89,1,VLOOKUP(VALUE(Y62),List2!$A$1:'List2'!$B$90,2)))","v":""},null,{"$f":"IF(ISBLANK(AA62),\"\",IF(VALUE(AA62)>89,1,VLOOKUP(VALUE(AA62),List2!$A$1:'List2'!$B$90,2)))","v":""},null,{"$f":"IF(ISBLANK(AC62),\"\",IF(VALUE(AC62)>89,1,VLOOKUP(VALUE(AC62),List2!$A$1:'List2'!$B$90,2)))","v":""},null,{"$f":"IF(ISBLANK(AE62),\"\",IF(VALUE(AE62)>89,1,VLOOKUP(VALUE(AE62),List2!$A$1:'List2'!$B$90,2)))","v":""},null,{"$f":"IF(ISBLANK(AG62),\"\",IF(VALUE(AG62)>89,1,VLOOKUP(VALUE(AG62),List2!$A$1:'List2'!$B$90,2)))","v":""},null,{"$f":"IF(ISBLANK(AI62),\"\",IF(VALUE(AI62)>89,1,VLOOKUP(VALUE(AI62),List2!$A$1:'List2'!$B$90,2)))","v":""},null,{"$f":"IF(ISBLANK(AK62),\"\",IF(VALUE(AK62)>89,1,VLOOKUP(VALUE(AK62),List2!$A$1:'List2'!$B$90,2)))","v":""},null,{"$f":"IF(ISBLANK(AM62),\"\",IF(VALUE(AM62)>89,1,VLOOKUP(VALUE(AM62),List2!$A$1:'List2'!$B$90,2)))","v":""},null,0]
["",null,"","",null,{"$f":"IF(ISBLANK(E63),\"\",IF(VALUE(E63)>89,1,VLOOKUP(VALUE(E63),List2!$A$1:'List2'!$B$90,2)))","v":""},null,{"$f":"IF(ISBLANK(G63),\"\",IF(VALUE(G63)>89,1,VLOOKUP(VALUE(G63),List2!$A$1:'List2'!$B$90,2)))","v":""},null,{"$f":"IF(ISBLANK(I63),\"\",IF(VALUE(I63)>89,1,VLOOKUP(VALUE(I63),List2!$A$1:'List2'!$B$90,2)))","v":""},null,{"$f":"IF(ISBLANK(K63),\"\",IF(VALUE(K63)>89,1,VLOOKUP(VALUE(K63),List2!$A$1:'List2'!$B$90,2)))","v":""},null,{"$f":"IF(ISBLANK(M63),\"\",IF(VALUE(M63)>89,1,VLOOKUP(VALUE(M63),List2!$A$1:'List2'!$B$90,2)))","v":""},null,{"$f":"IF(ISBLANK(O63),\"\",IF(VALUE(O63)>89,1,VLOOKUP(VALUE(O63),List2!$A$1:'List2'!$B$90,2)))","v":""},null,{"$f":"IF(ISBLANK(Q63),\"\",IF(VALUE(Q63)>89,1,VLOOKUP(VALUE(Q63),List2!$A$1:'List2'!$B$90,2)))","v":""},null,{"$f":"IF(ISBLANK(S63),\"\",IF(VALUE(S63)>89,1,VLOOKUP(VALUE(S63),List2!$A$1:'List2'!$B$90,2)))","v":""},null,{"$f":"IF(ISBLANK(U63),\"\",IF(VALUE(U63)>89,1,VLOOKUP(VALUE(U63),List2!$A$1:'List2'!$B$90,2)))","v":""},null,{"$f":"IF(ISBLANK(W63),\"\",IF(VALUE(W63)>89,1,VLOOKUP(VALUE(W63),List2!$A$1:'List2'!$B$90,2)))","v":""},null,{"$f":"IF(ISBLANK(Y63),\"\",IF(VALUE(Y63)>89,1,VLOOKUP(VALUE(Y63),List2!$A$1:'List2'!$B$90,2)))","v":""},null,{"$f":"IF(ISBLANK(AA63),\"\",IF(VALUE(AA63)>89,1,VLOOKUP(VALUE(AA63),List2!$A$1:'List2'!$B$90,2)))","v":""},null,{"$f":"IF(ISBLANK(AC63),\"\",IF(VALUE(AC63)>89,1,VLOOKUP(VALUE(AC63),List2!$A$1:'List2'!$B$90,2)))","v":""},null,{"$f":"IF(ISBLANK(AE63),\"\",IF(VALUE(AE63)>89,1,VLOOKUP(VALUE(AE63),List2!$A$1:'List2'!$B$90,2)))","v":""},null,{"$f":"IF(ISBLANK(AG63),\"\",IF(VALUE(AG63)>89,1,VLOOKUP(VALUE(AG63),List2!$A$1:'List2'!$B$90,2)))","v":""},null,{"$f":"IF(ISBLANK(AI63),\"\",IF(VALUE(AI63)>89,1,VLOOKUP(VALUE(AI63),List2!$A$1:'List2'!$B$90,2)))","v":""},null,{"$f":"IF(ISBLANK(AK63),\"\",IF(VALUE(AK63)>89,1,VLOOKUP(VALUE(AK63),List2!$A$1:'List2'!$B$90,2)))","v":""},null,{"$f":"IF(ISBLANK(AM63),\"\",IF(VALUE(AM63)>89,1,VLOOKUP(VALUE(AM63),List2!$A$1:'List2'!$B$90,2)))","v":""},null,0]
["",null,"","",null,{"$f":"IF(ISBLANK(E64),\"\",IF(VALUE(E64)>89,1,VLOOKUP(VALUE(E64),List2!$A$1:'List2'!$B$90,2)))","v":""},null,{"$f":"IF(ISBLANK(G64),\"\",IF(VALUE(G64)>89,1,VLOOKUP(VALUE(G64),List2!$A$1:'List2'!$B$90,2)))","v":""},null,{"$f":"IF(ISBLANK(I64),\"\",IF(VALUE(I64)>89,1,VLOOKUP(VALUE(I64),List2!$A$1:'List2'!$B$90,2)))","v":""},null,{"$f":"IF(ISBLANK(K64),\"\",IF(VALUE(K64)>89,1,VLOOKUP(VALUE(K64),List2!$A$1:'List2'!$B$90,2)))","v":""},null,{"$f":"IF(ISBLANK(M64),\"\",IF(VALUE(M64)>89,1,VLOOKUP(VALUE(M64),List2!$A$1:'List2'!$B$90,2)))","v":""},null,{"$f":"IF(ISBLANK(O64),\"\",IF(VALUE(O64)>89,1,VLOOKUP(VALUE(O64),List2!$A$1:'List2'!$B$90,2)))","v":""},null,{"$f":"IF(ISBLANK(Q64),\"\",IF(VALUE(Q64)>89,1,VLOOKUP(VALUE(Q64),List2!$A$1:'List2'!$B$90,2)))","v":""},null,{"$f":"IF(ISBLANK(S64),\"\",IF(VALUE(S64)>89,1,VLOOKUP(VALUE(S64),List2!$A$1:'List2'!$B$90,2)))","v":""},null,{"$f":"IF(ISBLANK(U64),\"\",IF(VALUE(U64)>89,1,VLOOKUP(VALUE(U64),List2!$A$1:'List2'!$B$90,2)))","v":""},null,{"$f":"IF(ISBLANK(W64),\"\",IF(VALUE(W64)>89,1,VLOOKUP(VALUE(W64),List2!$A$1:'List2'!$B$90,2)))","v":""},null,{"$f":"IF(ISBLANK(Y64),\"\",IF(VALUE(Y64)>89,1,VLOOKUP(VALUE(Y64),List2!$A$1:'List2'!$B$90,2)))","v":""},null,{"$f":"IF(ISBLANK(AA64),\"\",IF(VALUE(AA64)>89,1,VLOOKUP(VALUE(AA64),List2!$A$1:'List2'!$B$90,2)))","v":""},null,{"$f":"IF(ISBLANK(AC64),\"\",IF(VALUE(AC64)>89,1,VLOOKUP(VALUE(AC64),List2!$A$1:'List2'!$B$90,2)))","v":""},null,{"$f":"IF(ISBLANK(AE64),\"\",IF(VALUE(AE64)>89,1,VLOOKUP(VALUE(AE64),List2!$A$1:'List2'!$B$90,2)))","v":""},null,{"$f":"IF(ISBLANK(AG64),\"\",IF(VALUE(AG64)>89,1,VLOOKUP(VALUE(AG64),List2!$A$1:'List2'!$B$90,2)))","v":""},null,{"$f":"IF(ISBLANK(AI64),\"\",IF(VALUE(AI64)>89,1,VLOOKUP(VALUE(AI64),List2!$A$1:'List2'!$B$90,2)))","v":""},null,{"$f":"IF(ISBLANK(AK64),\"\",IF(VALUE(AK64)>89,1,VLOOKUP(VALUE(AK64),List2!$A$1:'List2'!$B$90,2)))","v":""},null,{"$f":"IF(ISBLANK(AM64),\"\",IF(VALUE(AM64)>89,1,VLOOKUP(VALUE(AM64),List2!$A$1:'List2'!$B$90,2)))","v":""},null,0]
["",null,"","",null,{"$f":"IF(ISBLANK(E65),\"\",IF(VALUE(E65)>89,1,VLOOKUP(VALUE(E65),List2!$A$1:'List2'!$B$90,2)))","v":""},null,{"$f":"IF(ISBLANK(G65),\"\",IF(VALUE(G65)>89,1,VLOOKUP(VALUE(G65),List2!$A$1:'List2'!$B$90,2)))","v":""},null,{"$f":"IF(ISBLANK(I65),\"\",IF(VALUE(I65)>89,1,VLOOKUP(VALUE(I65),List2!$A$1:'List2'!$B$90,2)))","v":""},null,{"$f":"IF(ISBLANK(K65),\"\",IF(VALUE(K65)>89,1,VLOOKUP(VALUE(K65),List2!$A$1:'List2'!$B$90,2)))","v":""},null,{"$f":"IF(ISBLANK(M65),\"\",IF(VALUE(M65)>89,1,VLOOKUP(VALUE(M65),List2!$A$1:'List2'!$B$90,2)))","v":""},null,{"$f":"IF(ISBLANK(O65),\"\",IF(VALUE(O65)>89,1,VLOOKUP(VALUE(O65),List2!$A$1:'List2'!$B$90,2)))","v":""},null,{"$f":"IF(ISBLANK(Q65),\"\",IF(VALUE(Q65)>89,1,VLOOKUP(VALUE(Q65),List2!$A$1:'List2'!$B$90,2)))","v":""},null,{"$f":"IF(ISBLANK(S65),\"\",IF(VALUE(S65)>89,1,VLOOKUP(VALUE(S65),List2!$A$1:'List2'!$B$90,2)))","v":""},null,{"$f":"IF(ISBLANK(U65),\"\",IF(VALUE(U65)>89,1,VLOOKUP(VALUE(U65),List2!$A$1:'List2'!$B$90,2)))","v":""},null,{"$f":"IF(ISBLANK(W65),\"\",IF(VALUE(W65)>89,1,VLOOKUP(VALUE(W65),List2!$A$1:'List2'!$B$90,2)))","v":""},null,{"$f":"IF(ISBLANK(Y65),\"\",IF(VALUE(Y65)>89,1,VLOOKUP(VALUE(Y65),List2!$A$1:'List2'!$B$90,2)))","v":""},null,{"$f":"IF(ISBLANK(AA65),\"\",IF(VALUE(AA65)>89,1,VLOOKUP(VALUE(AA65),List2!$A$1:'List2'!$B$90,2)))","v":""},null,{"$f":"IF(ISBLANK(AC65),\"\",IF(VALUE(AC65)>89,1,VLOOKUP(VALUE(AC65),List2!$A$1:'List2'!$B$90,2)))","v":""},null,{"$f":"IF(ISBLANK(AE65),\"\",IF(VALUE(AE65)>89,1,VLOOKUP(VALUE(AE65),List2!$A$1:'List2'!$B$90,2)))","v":""},null,{"$f":"IF(ISBLANK(AG65),\"\",IF(VALUE(AG65)>89,1,VLOOKUP(VALUE(AG65),List2!$A$1:'List2'!$B$90,2)))","v":""},null,{"$f":"IF(ISBLANK(AI65),\"\",IF(VALUE(AI65)>89,1,VLOOKUP(VALUE(AI65),List2!$A$1:'List2'!$B$90,2)))","v":""},null,{"$f":"IF(ISBLANK(AK65),\"\",IF(VALUE(AK65)>89,1,VLOOKUP(VALUE(AK65),List2!$A$1:'List2'!$B$90,2)))","v":""},null,{"$f":"IF(ISBLANK(AM65),\"\",IF(VALUE(AM65)>89,1,VLOOKUP(VALUE(AM65),List2!$A$1:'List2'!$B$90,2)))","v":""},null,0]
["",null,"","",null,{"$f":"IF(ISBLANK(E66),\"\",IF(VALUE(E66)>89,1,VLOOKUP(VALUE(E66),List2!$A$1:'List2'!$B$90,2)))","v":""},null,{"$f":"IF(ISBLANK(G66),\"\",IF(VALUE(G66)>89,1,VLOOKUP(VALUE(G66),List2!$A$1:'List2'!$B$90,2)))","v":""},null,{"$f":"IF(ISBLANK(I66),\"\",IF(VALUE(I66)>89,1,VLOOKUP(VALUE(I66),List2!$A$1:'List2'!$B$90,2)))","v":""},null,{"$f":"IF(ISBLANK(K66),\"\",IF(VALUE(K66)>89,1,VLOOKUP(VALUE(K66),List2!$A$1:'List2'!$B$90,2)))","v":""},null,{"$f":"IF(ISBLANK(M66),\"\",IF(VALUE(M66)>89,1,VLOOKUP(VALUE(M66),List2!$A$1:'List2'!$B$90,2)))","v":""},null,{"$f":"IF(ISBLANK(O66),\"\",IF(VALUE(O66)>89,1,VLOOKUP(VALUE(O66),List2!$A$1:'List2'!$B$90,2)))","v":""},null,{"$f":"IF(ISBLANK(Q66),\"\",IF(VALUE(Q66)>89,1,VLOOKUP(VALUE(Q66),List2!$A$1:'List2'!$B$90,2)))","v":""},null,{"$f":"IF(ISBLANK(S66),\"\",IF(VALUE(S66)>89,1,VLOOKUP(VALUE(S66),List2!$A$1:'List2'!$B$90,2)))","v":""},null,{"$f":"IF(ISBLANK(U66),\"\",IF(VALUE(U66)>89,1,VLOOKUP(VALUE(U66),List2!$A$1:'List2'!$B$90,2)))","v":""},null,{"$f":"IF(ISBLANK(W66),\"\",IF(VALUE(W66)>89,1,VLOOKUP(VALUE(W66),List2!$A$1:'List2'!$B$90,2)))","v":""},null,{"$f":"IF(ISBLANK(Y66),\"\",IF(VALUE(Y66)>89,1,VLOOKUP(VALUE(Y66),List2!$A$1:'List2'!$B$90,2)))","v":""},null,{"$f":"IF(ISBLANK(AA66),\"\",IF(VALUE(AA66)>89,1,VLOOKUP(VALUE(AA66),List2!$A$1:'List2'!$B$90,2)))","v":""},null,{"$f":"IF(ISBLANK(AC66),\"\",IF(VALUE(AC66)>89,1,VLOOKUP(VALUE(AC66),List2!$A$1:'List2'!$B$90,2)))","v":""},null,{"$f":"IF(ISBLANK(AE66),\"\",IF(VALUE(AE66)>89,1,VLOOKUP(VALUE(AE66),List2!$A$1:'List2'!$B$90,2)))","v":""},null,{"$f":"IF(ISBLANK(AG66),\"\",IF(VALUE(AG66)>89,1,VLOOKUP(VALUE(AG66),List2!$A$1:'List2'!$B$90,2)))","v":""},null,{"$f":"IF(ISBLANK(AI66),\"\",IF(VALUE(AI66)>89,1,VLOOKUP(VALUE(AI66),List2!$A$1:'List2'!$B$90,2)))","v":""},null,{"$f":"IF(ISBLANK(AK66),\"\",IF(VALUE(AK66)>89,1,VLOOKUP(VALUE(AK66),List2!$A$1:'List2'!$B$90,2)))","v":""},null,{"$f":"IF(ISBLANK(AM66),\"\",IF(VALUE(AM66)>89,1,VLOOKUP(VALUE(AM66),List2!$A$1:'List2'!$B$90,2)))","v":""},null,0]
["",null,{"$f":"IF(IFERROR(LARGE(F67:AN67,1),0)+IFERROR(LARGE(F67:AN67,2),0)+IFERROR(LARGE(F67:AN67,3),0)+IFERROR(LARGE(F67:AN67,4),0)+IFERROR(LARGE(F67:AN67,5),0)+IFERROR(LARGE(F67:AN67,6),0)+IFERROR(LARGE(F67:AN67,7),0)++IFERROR(LARGE(F67:AN67,8),0)=0,\"\",IFERROR(LARGE(F67:AN67,1),0)+IFERROR(LARGE(F67:AN67,2),0)+IFERROR(LARGE(F67:AN67,3),0)+IFERROR(LARGE(F67:AN67,4),0)+IFERROR(LARGE(F67:AN67,5),0)+IFERROR(LARGE(F67:AN67,6),0)+IFERROR(LARGE(F67:AN67,7),0)+IFERROR(LARGE(F67:AND67,8),0))","v":""},{"$f":"IF(SUM(F67,H67,J67,L67,N67,P67,R67,T67,V67,X67,Z67,AB67,AD67,AF67,AH67,AJ67,AL67,AN67)=0,\"\",SUM(F67,H67,J67,L67,N67,P67,R67,T67,V67,X67,Z67,AB67,AD67,AF67,AH67,AJ67,AL67,AN67))","v":""},null,{"$f":"IF(ISBLANK(E67),\"\",IF(VALUE(E67)>89,1,VLOOKUP(VALUE(E67),List2!$A$1:'List2'!$B$90,2)))","v":""},null,{"$f":"IF(ISBLANK(G67),\"\",IF(VALUE(G67)>89,1,VLOOKUP(VALUE(G67),List2!$A$1:'List2'!$B$90,2)))","v":""},null,{"$f":"IF(ISBLANK(I67),\"\",IF(VALUE(I67)>89,1,VLOOKUP(VALUE(I67),List2!$A$1:'List2'!$B$90,2)))","v":""},null,{"$f":"IF(ISBLANK(K67),\"\",IF(VALUE(K67)>89,1,VLOOKUP(VALUE(K67),List2!$A$1:'List2'!$B$90,2)))","v":""},null,{"$f":"IF(ISBLANK(M67),\"\",IF(VALUE(M67)>89,1,VLOOKUP(VALUE(M67),List2!$A$1:'List2'!$B$90,2)))","v":""},null,{"$f":"IF(ISBLANK(O67),\"\",IF(VALUE(O67)>89,1,VLOOKUP(VALUE(O67),List2!$A$1:'List2'!$B$90,2)))","v":""},null,{"$f":"IF(ISBLANK(Q67),\"\",IF(VALUE(Q67)>89,1,VLOOKUP(VALUE(Q67),List2!$A$1:'List2'!$B$90,2)))","v":""},null,{"$f":"IF(ISBLANK(S67),\"\",IF(VALUE(S67)>89,1,VLOOKUP(VALUE(S67),List2!$A$1:'List2'!$B$90,2)))","v":""},null,{"$f":"IF(ISBLANK(U67),\"\",IF(VALUE(U67)>89,1,VLOOKUP(VALUE(U67),List2!$A$1:'List2'!$B$90,2)))","v":""},null,{"$f":"IF(ISBLANK(W67),\"\",IF(VALUE(W67)>89,1,VLOOKUP(VALUE(W67),List2!$A$1:'List2'!$B$90,2)))","v":""},null,{"$f":"IF(ISBLANK(Y67),\"\",IF(VALUE(Y67)>89,1,VLOOKUP(VALUE(Y67),List2!$A$1:'List2'!$B$90,2)))","v":""},null,{"$f":"IF(ISBLANK(AA67),\"\",IF(VALUE(AA67)>89,1,VLOOKUP(VALUE(AA67),List2!$A$1:'List2'!$B$90,2)))","v":""},null,{"$f":"IF(ISBLANK(AC67),\"\",IF(VALUE(AC67)>89,1,VLOOKUP(VALUE(AC67),List2!$A$1:'List2'!$B$90,2)))","v":""},null,{"$f":"IF(ISBLANK(AE67),\"\",IF(VALUE(AE67)>89,1,VLOOKUP(VALUE(AE67),List2!$A$1:'List2'!$B$90,2)))","v":""},null,{"$f":"IF(ISBLANK(AG67),\"\",IF(VALUE(AG67)>89,1,VLOOKUP(VALUE(AG67),List2!$A$1:'List2'!$B$90,2)))","v":""},null,{"$f":"IF(ISBLANK(AI67),\"\",IF(VALUE(AI67)>89,1,VLOOKUP(VALUE(AI67),List2!$A$1:'List2'!$B$90,2)))","v":""},null,{"$f":"IF(ISBLANK(AK67),\"\",IF(VALUE(AK67)>89,1,VLOOKUP(VALUE(AK67),List2!$A$1:'List2'!$B$90,2)))","v":""},null,{"$f":"IF(ISBLANK(AM67),\"\",IF(VALUE(AM67)>89,1,VLOOKUP(VALUE(AM67),List2!$A$1:'List2'!$B$90,2)))","v":""},null,{"$f":"IFERROR(LARGE(F67:AN67,1),0)+IFERROR(LARGE(F67:AN67,2),0)+IFERROR(LARGE(F67:AN67,3),0)+IFERROR(LARGE(F67:AN67,4),0)+IFERROR(LARGE(F67:AN67,5),0)+IFERROR(LARGE(F67:AN67,6),0)+IFERROR(LARGE(F67:AN67,7),0)+IFERROR(LARGE(F67:AN67,8),0)","v":0}]
["",null,"","",null,{"$f":"IF(ISBLANK(E68),\"\",IF(VALUE(E68)>89,1,VLOOKUP(VALUE(E68),List2!$A$1:'List2'!$B$90,2)))","v":""},null,{"$f":"IF(ISBLANK(G68),\"\",IF(VALUE(G68)>89,1,VLOOKUP(VALUE(G68),List2!$A$1:'List2'!$B$90,2)))","v":""},null,{"$f":"IF(ISBLANK(I68),\"\",IF(VALUE(I68)>89,1,VLOOKUP(VALUE(I68),List2!$A$1:'List2'!$B$90,2)))","v":""},null,{"$f":"IF(ISBLANK(K68),\"\",IF(VALUE(K68)>89,1,VLOOKUP(VALUE(K68),List2!$A$1:'List2'!$B$90,2)))","v":""},null,{"$f":"IF(ISBLANK(M68),\"\",IF(VALUE(M68)>89,1,VLOOKUP(VALUE(M68),List2!$A$1:'List2'!$B$90,2)))","v":""},null,{"$f":"IF(ISBLANK(O68),\"\",IF(VALUE(O68)>89,1,VLOOKUP(VALUE(O68),List2!$A$1:'List2'!$B$90,2)))","v":""},null,{"$f":"IF(ISBLANK(Q68),\"\",IF(VALUE(Q68)>89,1,VLOOKUP(VALUE(Q68),List2!$A$1:'List2'!$B$90,2)))","v":""},null,{"$f":"IF(ISBLANK(S68),\"\",IF(VALUE(S68)>89,1,VLOOKUP(VALUE(S68),List2!$A$1:'List2'!$B$90,2)))","v":""},null,{"$f":"IF(ISBLANK(U68),\"\",IF(VALUE(U68)>89,1,VLOOKUP(VALUE(U68),List2!$A$1:'List2'!$B$90,2)))","v":""},null,{"$f":"IF(ISBLANK(W68),\"\",IF(VALUE(W68)>89,1,VLOOKUP(VALUE(W68),List2!$A$1:'List2'!$B$90,2)))","v":""},null,{"$f":"IF(ISBLANK(Y68),\"\",IF(VALUE(Y68)>89,1,VLOOKUP(VALUE(Y68),List2!$A$1:'List2'!$B$90,2)))","v":""},null,{"$f":"IF(ISBLANK(AA68),\"\",IF(VALUE(AA68)>89,1,VLOOKUP(VALUE(AA68),List2!$A$1:'List2'!$B$90,2)))","v":""},null,{"$f":"IF(ISBLANK(AC68),\"\",IF(VALUE(AC68)>89,1,VLOOKUP(VALUE(AC68),List2!$A$1:'List2'!$B$90,2)))","v":""},null,{"$f":"IF(ISBLANK(AE68),\"\",IF(VALUE(AE68)>89,1,VLOOKUP(VALUE(AE68),List2!$A$1:'List2'!$B$90,2)))","v":""},null,{"$f":"IF(ISBLANK(AG68),\"\",IF(VALUE(AG68)>89,1,VLOOKUP(VALUE(AG68),List2!$A$1:'List2'!$B$90,2)))","v":""},null,{"$f":"IF(ISBLANK(AI68),\"\",IF(VALUE(AI68)>89,1,VLOOKUP(VALUE(AI68),List2!$A$1:'List2'!$B$90,2)))","v":""},null,{"$f":"IF(ISBLANK(AK68),\"\",IF(VALUE(AK68)>89,1,VLOOKUP(VALUE(AK68),List2!$A$1:'List2'!$B$90,2)))","v":""},null,{"$f":"IF(ISBLANK(AM68),\"\",IF(VALUE(AM68)>89,1,VLOOKUP(VALUE(AM68),List2!$A$1:'List2'!$B$90,2)))","v":""},null,0]
[{"$f":"IF(OR(ISBLANK(B69),A68=\"\"),\"\",A68+1)","v":""},null,"","",null,{"$f":"IF(ISBLANK(E69),\"\",IF(VALUE(E69)>89,1,VLOOKUP(VALUE(E69),List2!$A$1:'List2'!$B$90,2)))","v":""},null,{"$f":"IF(ISBLANK(G69),\"\",IF(VALUE(G69)>89,1,VLOOKUP(VALUE(G69),List2!$A$1:'List2'!$B$90,2)))","v":""},null,{"$f":"IF(ISBLANK(I69),\"\",IF(VALUE(I69)>89,1,VLOOKUP(VALUE(I69),List2!$A$1:'List2'!$B$90,2)))","v":""},null,{"$f":"IF(ISBLANK(K69),\"\",IF(VALUE(K69)>89,1,VLOOKUP(VALUE(K69),List2!$A$1:'List2'!$B$90,2)))","v":""},null,{"$f":"IF(ISBLANK(M69),\"\",IF(VALUE(M69)>89,1,VLOOKUP(VALUE(M69),List2!$A$1:'List2'!$B$90,2)))","v":""},null,{"$f":"IF(ISBLANK(O69),\"\",IF(VALUE(O69)>89,1,VLOOKUP(VALUE(O69),List2!$A$1:'List2'!$B$90,2)))","v":""},null,{"$f":"IF(ISBLANK(Q69),\"\",IF(VALUE(Q69)>89,1,VLOOKUP(VALUE(Q69),List2!$A$1:'List2'!$B$90,2)))","v":""},null,{"$f":"IF(ISBLANK(S69),\"\",IF(VALUE(S69)>89,1,VLOOKUP(VALUE(S69),List2!$A$1:'List2'!$B$90,2)))","v":""},null,{"$f":"IF(ISBLANK(U69),\"\",IF(VALUE(U69)>89,1,VLOOKUP(VALUE(U69),List2!$A$1:'List2'!$B$90,2)))","v":""},null,{"$f":"IF(ISBLANK(W69),\"\",IF(VALUE(W69)>89,1,VLOOKUP(VALUE(W69),List2!$A$1:'List2'!$B$90,2)))","v":""},null,{"$f":"IF(ISBLANK(Y69),\"\",IF(VALUE(Y69)>89,1,VLOOKUP(VALUE(Y69),List2!$A$1:'List2'!$B$90,2)))","v":""},null,{"$f":"IF(ISBLANK(AA69),\"\",IF(VALUE(AA69)>89,1,VLOOKUP(VALUE(AA69),List2!$A$1:'List2'!$B$90,2)))","v":""},null,{"$f":"IF(ISBLANK(AC69),\"\",IF(VALUE(AC69)>89,1,VLOOKUP(VALUE(AC69),List2!$A$1:'List2'!$B$90,2)))","v":""},null,{"$f":"IF(ISBLANK(AE69),\"\",IF(VALUE(AE69)>89,1,VLOOKUP(VALUE(AE69),List2!$A$1:'List2'!$B$90,2)))","v":""},null,{"$f":"IF(ISBLANK(AG69),\"\",IF(VALUE(AG69)>89,1,VLOOKUP(VALUE(AG69),List2!$A$1:'List2'!$B$90,2)))","v":""},null,{"$f":"IF(ISBLANK(AI69),\"\",IF(VALUE(AI69)>89,1,VLOOKUP(VALUE(AI69),List2!$A$1:'List2'!$B$90,2)))","v":""},null,{"$f":"IF(ISBLANK(AK69),\"\",IF(VALUE(AK69)>89,1,VLOOKUP(VALUE(AK69),List2!$A$1:'List2'!$B$90,2)))","v":""},null,{"$f":"IF(ISBLANK(AM69),\"\",IF(VALUE(AM69)>89,1,VLOOKUP(VALUE(AM69),List2!$A$1:'List2'!$B$90,2)))","v":""},null,0]
["",null,"","",null,{"$f":"IF(ISBLANK(E70),\"\",IF(VALUE(E70)>89,1,VLOOKUP(VALUE(E70),List2!$A$1:'List2'!$B$90,2)))","v":""},null,{"$f":"IF(ISBLANK(G70),\"\",IF(VALUE(G70)>89,1,VLOOKUP(VALUE(G70),List2!$A$1:'List2'!$B$90,2)))","v":""},null,{"$f":"IF(ISBLANK(I70),\"\",IF(VALUE(I70)>89,1,VLOOKUP(VALUE(I70),List2!$A$1:'List2'!$B$90,2)))","v":""},null,{"$f":"IF(ISBLANK(K70),\"\",IF(VALUE(K70)>89,1,VLOOKUP(VALUE(K70),List2!$A$1:'List2'!$B$90,2)))","v":""},null,{"$f":"IF(ISBLANK(M70),\"\",IF(VALUE(M70)>89,1,VLOOKUP(VALUE(M70),List2!$A$1:'List2'!$B$90,2)))","v":""},null,{"$f":"IF(ISBLANK(O70),\"\",IF(VALUE(O70)>89,1,VLOOKUP(VALUE(O70),List2!$A$1:'List2'!$B$90,2)))","v":""},null,{"$f":"IF(ISBLANK(Q70),\"\",IF(VALUE(Q70)>89,1,VLOOKUP(VALUE(Q70),List2!$A$1:'List2'!$B$90,2)))","v":""},null,{"$f":"IF(ISBLANK(S70),\"\",IF(VALUE(S70)>89,1,VLOOKUP(VALUE(S70),List2!$A$1:'List2'!$B$90,2)))","v":""},null,{"$f":"IF(ISBLANK(U70),\"\",IF(VALUE(U70)>89,1,VLOOKUP(VALUE(U70),List2!$A$1:'List2'!$B$90,2)))","v":""},null,{"$f":"IF(ISBLANK(W70),\"\",IF(VALUE(W70)>89,1,VLOOKUP(VALUE(W70),List2!$A$1:'List2'!$B$90,2)))","v":""},null,{"$f":"IF(ISBLANK(Y70),\"\",IF(VALUE(Y70)>89,1,VLOOKUP(VALUE(Y70),List2!$A$1:'List2'!$B$90,2)))","v":""},null,{"$f":"IF(ISBLANK(AA70),\"\",IF(VALUE(AA70)>89,1,VLOOKUP(VALUE(AA70),List2!$A$1:'List2'!$B$90,2)))","v":""},null,{"$f":"IF(ISBLANK(AC70),\"\",IF(VALUE(AC70)>89,1,VLOOKUP(VALUE(AC70),List2!$A$1:'List2'!$B$90,2)))","v":""},null,{"$f":"IF(ISBLANK(AE70),\"\",IF(VALUE(AE70)>89,1,VLOOKUP(VALUE(AE70),List2!$A$1:'List2'!$B$90,2)))","v":""},null,{"$f":"IF(ISBLANK(AG70),\"\",IF(VALUE(AG70)>89,1,VLOOKUP(VALUE(AG70),List2!$A$1:'List2'!$B$90,2)))","v":""},null,{"$f":"IF(ISBLANK(AI70),\"\",IF(VALUE(AI70)>89,1,VLOOKUP(VALUE(AI70),List2!$A$1:'List2'!$B$90,2)))","v":""},null,{"$f":"IF(ISBLANK(AK70),\"\",IF(VALUE(AK70)>89,1,VLOOKUP(VALUE(AK70),List2!$A$1:'List2'!$B$90,2)))","v":""},null,{"$f":"IF(ISBLANK(AM70),\"\",IF(VALUE(AM70)>89,1,VLOOKUP(VALUE(AM70),List2!$A$1:'List2'!$B$90,2)))","v":""},null,0]
["",null,"","",null,{"$f":"IF(ISBLANK(E71),\"\",IF(VALUE(E71)>89,1,VLOOKUP(VALUE(E71),List2!$A$1:'List2'!$B$90,2)))","v":""},null,{"$f":"IF(ISBLANK(G71),\"\",IF(VALUE(G71)>89,1,VLOOKUP(VALUE(G71),List2!$A$1:'List2'!$B$90,2)))","v":""},null,{"$f":"IF(ISBLANK(I71),\"\",IF(VALUE(I71)>89,1,VLOOKUP(VALUE(I71),List2!$A$1:'List2'!$B$90,2)))","v":""},null,{"$f":"IF(ISBLANK(K71),\"\",IF(VALUE(K71)>89,1,VLOOKUP(VALUE(K71),List2!$A$1:'List2'!$B$90,2)))","v":""},null,{"$f":"IF(ISBLANK(M71),\"\",IF(VALUE(M71)>89,1,VLOOKUP(VALUE(M71),List2!$A$1:'List2'!$B$90,2)))","v":""},null,{"$f":"IF(ISBLANK(O71),\"\",IF(VALUE(O71)>89,1,VLOOKUP(VALUE(O71),List2!$A$1:'List2'!$B$90,2)))","v":""},null,{"$f":"IF(ISBLANK(Q71),\"\",IF(VALUE(Q71)>89,1,VLOOKUP(VALUE(Q71),List2!$A$1:'List2'!$B$90,2)))","v":""},null,{"$f":"IF(ISBLANK(S71),\"\",IF(VALUE(S71)>89,1,VLOOKUP(VALUE(S71),List2!$A$1:'List2'!$B$90,2)))","v":""},null,{"$f":"IF(ISBLANK(U71),\"\",IF(VALUE(U71)>89,1,VLOOKUP(VALUE(U71),List2!$A$1:'List2'!$B$90,2)))","v":""},null,{"$f":"IF(ISBLANK(W71),\"\",IF(VALUE(W71)>89,1,VLOOKUP(VALUE(W71),List2!$A$1:'List2'!$B$90,2)))","v":""},null,{"$f":"IF(ISBLANK(Y71),\"\",IF(VALUE(Y71)>89,1,VLOOKUP(VALUE(Y71),List2!$A$1:'List2'!$B$90,2)))","v":""},null,{"$f":"IF(ISBLANK(AA71),\"\",IF(VALUE(AA71)>89,1,VLOOKUP(VALUE(AA71),List2!$A$1:'List2'!$B$90,2)))","v":""},null,{"$f":"IF(ISBLANK(AC71),\"\",IF(VALUE(AC71)>89,1,VLOOKUP(VALUE(AC71),List2!$A$1:'List2'!$B$90,2)))","v":""},null,{"$f":"IF(ISBLANK(AE71),\"\",IF(VALUE(AE71)>89,1,VLOOKUP(VALUE(AE71),List2!$A$1:'List2'!$B$90,2)))","v":""},null,{"$f":"IF(ISBLANK(AG71),\"\",IF(VALUE(AG71)>89,1,VLOOKUP(VALUE(AG71),List2!$A$1:'List2'!$B$90,2)))","v":""},null,{"$f":"IF(ISBLANK(AI71),\"\",IF(VALUE(AI71)>89,1,VLOOKUP(VALUE(AI71),List2!$A$1:'List2'!$B$90,2)))","v":""},null,{"$f":"IF(ISBLANK(AK71),\"\",IF(VALUE(AK71)>89,1,VLOOKUP(VALUE(AK71),List2!$A$1:'List2'!$B$90,2)))","v":""},null,{"$f":"IF(ISBLANK(AM71),\"\",IF(VALUE(AM71)>89,1,VLOOKUP(VALUE(AM71),List2!$A$1:'List2'!$B$90,2)))","v":""},null,0]
["",null,"","",null,{"$f":"IF(ISBLANK(E72),\"\",IF(VALUE(E72)>89,1,VLOOKUP(VALUE(E72),List2!$A$1:'List2'!$B$90,2)))","v":""},null,{"$f":"IF(ISBLANK(G72),\"\",IF(VALUE(G72)>89,1,VLOOKUP(VALUE(G72),List2!$A$1:'List2'!$B$90,2)))","v":""},null,{"$f":"IF(ISBLANK(I72),\"\",IF(VALUE(I72)>89,1,VLOOKUP(VALUE(I72),List2!$A$1:'List2'!$B$90,2)))","v":""},null,{"$f":"IF(ISBLANK(K72),\"\",IF(VALUE(K72)>89,1,VLOOKUP(VALUE(K72),List2!$A$1:'List2'!$B$90,2)))","v":""},null,{"$f":"IF(ISBLANK(M72),\"\",IF(VALUE(M72)>89,1,VLOOKUP(VALUE(M72),List2!$A$1:'List2'!$B$90,2)))","v":""},null,{"$f":"IF(ISBLANK(O72),\"\",IF(VALUE(O72)>89,1,VLOOKUP(VALUE(O72),List2!$A$1:'List2'!$B$90,2)))","v":""},null,{"$f":"IF(ISBLANK(Q72),\"\",IF(VALUE(Q72)>89,1,VLOOKUP(VALUE(Q72),List2!$A$1:'List2'!$B$90,2)))","v":""},null,{"$f":"IF(ISBLANK(S72),\"\",IF(VALUE(S72)>89,1,VLOOKUP(VALUE(S72),List2!$A$1:'List2'!$B$90,2)))","v":""},null,{"$f":"IF(ISBLANK(U72),\"\",IF(VALUE(U72)>89,1,VLOOKUP(VALUE(U72),List2!$A$1:'List2'!$B$90,2)))","v":""},null,{"$f":"IF(ISBLANK(W72),\"\",IF(VALUE(W72)>89,1,VLOOKUP(VALUE(W72),List2!$A$1:'List2'!$B$90,2)))","v":""},null,{"$f":"IF(ISBLANK(Y72),\"\",IF(VALUE(Y72)>89,1,VLOOKUP(VALUE(Y72),List2!$A$1:'List2'!$B$90,2)))","v":""},null,{"$f":"IF(ISBLANK(AA72),\"\",IF(VALUE(AA72)>89,1,VLOOKUP(VALUE(AA72),List2!$A$1:'List2'!$B$90,2)))","v":""},null,{"$f":"IF(ISBLANK(AC72),\"\",IF(VALUE(AC72)>89,1,VLOOKUP(VALUE(AC72),List2!$A$1:'List2'!$B$90,2)))","v":""},null,{"$f":"IF(ISBLANK(AE72),\"\",IF(VALUE(AE72)>89,1,VLOOKUP(VALUE(AE72),List2!$A$1:'List2'!$B$90,2)))","v":""},null,{"$f":"IF(ISBLANK(AG72),\"\",IF(VALUE(AG72)>89,1,VLOOKUP(VALUE(AG72),List2!$A$1:'List2'!$B$90,2)))","v":""},null,{"$f":"IF(ISBLANK(AI72),\"\",IF(VALUE(AI72)>89,1,VLOOKUP(VALUE(AI72),List2!$A$1:'List2'!$B$90,2)))","v":""},null,{"$f":"IF(ISBLANK(AK72),\"\",IF(VALUE(AK72)>89,1,VLOOKUP(VALUE(AK72),List2!$A$1:'List2'!$B$90,2)))","v":""},null,{"$f":"IF(ISBLANK(AM72),\"\",IF(VALUE(AM72)>89,1,VLOOKUP(VALUE(AM72),List2!$A$1:'List2'!$B$90,2)))","v":""},null,0]
["",null,"","",null,{"$f":"IF(ISBLANK(E73),\"\",IF(VALUE(E73)>89,1,VLOOKUP(VALUE(E73),List2!$A$1:'List2'!$B$90,2)))","v":""},null,{"$f":"IF(ISBLANK(G73),\"\",IF(VALUE(G73)>89,1,VLOOKUP(VALUE(G73),List2!$A$1:'List2'!$B$90,2)))","v":""},null,{"$f":"IF(ISBLANK(I73),\"\",IF(VALUE(I73)>89,1,VLOOKUP(VALUE(I73),List2!$A$1:'List2'!$B$90,2)))","v":""},null,{"$f":"IF(ISBLANK(K73),\"\",IF(VALUE(K73)>89,1,VLOOKUP(VALUE(K73),List2!$A$1:'List2'!$B$90,2)))","v":""},null,{"$f":"IF(ISBLANK(M73),\"\",IF(VALUE(M73)>89,1,VLOOKUP(VALUE(M73),List2!$A$1:'List2'!$B$90,2)))","v":""},null,{"$f":"IF(ISBLANK(O73),\"\",IF(VALUE(O73)>89,1,VLOOKUP(VALUE(O73),List2!$A$1:'List2'!$B$90,2)))","v":""},null,{"$f":"IF(ISBLANK(Q73),\"\",IF(VALUE(Q73)>89,1,VLOOKUP(VALUE(Q73),List2!$A$1:'List2'!$B$90,2)))","v":""},null,{"$f":"IF(ISBLANK(S73),\"\",IF(VALUE(S73)>89,1,VLOOKUP(VALUE(S73),List2!$A$1:'List2'!$B$90,2)))","v":""},null,{"$f":"IF(ISBLANK(U73),\"\",IF(VALUE(U73)>89,1,VLOOKUP(VALUE(U73),List2!$A$1:'List2'!$B$90,2)))","v":""},null,{"$f":"IF(ISBLANK(W73),\"\",IF(VALUE(W73)>89,1,VLOOKUP(VALUE(W73),List2!$A$1:'List2'!$B$90,2)))","v":""},null,{"$f":"IF(ISBLANK(Y73),\"\",IF(VALUE(Y73)>89,1,VLOOKUP(VALUE(Y73),List2!$A$1:'List2'!$B$90,2)))","v":""},null,{"$f":"IF(ISBLANK(AA73),\"\",IF(VALUE(AA73)>89,1,VLOOKUP(VALUE(AA73),List2!$A$1:'List2'!$B$90,2)))","v":""},null,{"$f":"IF(ISBLANK(AC73),\"\",IF(VALUE(AC73)>89,1,VLOOKUP(VALUE(AC73),List2!$A$1:'List2'!$B$90,2)))","v":""},null,{"$f":"IF(ISBLANK(AE73),\"\",IF(VALUE(AE73)>89,1,VLOOKUP(VALUE(AE73),List2!$A$1:'List2'!$B$90,2)))","v":""},null,{"$f":"IF(ISBLANK(AG73),\"\",IF(VALUE(AG73)>89,1,VLOOKUP(VALUE(AG73),List2!$A$1:'List2'!$B$90,2)))","v":""},null,{"$f":"IF(ISBLANK(AI73),\"\",IF(VALUE(AI73)>89,1,VLOOKUP(VALUE(AI73),List2!$A$1:'List2'!$B$90,2)))","v":""},null,{"$f":"IF(ISBLANK(AK73),\"\",IF(VALUE(AK73)>89,1,VLOOKUP(VALUE(AK73),List2!$A$1:'List2'!$B$90,2)))","v":""},null,{"$f":"IF(ISBLANK(AM73),\"\",IF(VALUE(AM73)>89,1,VLOOKUP(VALUE(AM73),List2!$A$1:'List2'!$B$90,2)))","v":""},null,0]
["",null,"","",null,{"$f":"IF(ISBLANK(E74),\"\",IF(VALUE(E74)>89,1,VLOOKUP(VALUE(E74),List2!$A$1:'List2'!$B$90,2)))","v":""},null,{"$f":"IF(ISBLANK(G74),\"\",IF(VALUE(G74)>89,1,VLOOKUP(VALUE(G74),List2!$A$1:'List2'!$B$90,2)))","v":""},null,{"$f":"IF(ISBLANK(I74),\"\",IF(VALUE(I74)>89,1,VLOOKUP(VALUE(I74),List2!$A$1:'List2'!$B$90,2)))","v":""},null,{"$f":"IF(ISBLANK(K74),\"\",IF(VALUE(K74)>89,1,VLOOKUP(VALUE(K74),List2!$A$1:'List2'!$B$90,2)))","v":""},null,{"$f":"IF(ISBLANK(M74),\"\",IF(VALUE(M74)>89,1,VLOOKUP(VALUE(M74),List2!$A$1:'List2'!$B$90,2)))","v":""},null,{"$f":"IF(ISBLANK(O74),\"\",IF(VALUE(O74)>89,1,VLOOKUP(VALUE(O74),List2!$A$1:'List2'!$B$90,2)))","v":""},null,{"$f":"IF(ISBLANK(Q74),\"\",IF(VALUE(Q74)>89,1,VLOOKUP(VALUE(Q74),List2!$A$1:'List2'!$B$90,2)))","v":""},null,{"$f":"IF(ISBLANK(S74),\"\",IF(VALUE(S74)>89,1,VLOOKUP(VALUE(S74),List2!$A$1:'List2'!$B$90,2)))","v":""},null,{"$f":"IF(ISBLANK(U74),\"\",IF(VALUE(U74)>89,1,VLOOKUP(VALUE(U74),List2!$A$1:'List2'!$B$90,2)))","v":""},null,{"$f":"IF(ISBLANK(W74),\"\",IF(VALUE(W74)>89,1,VLOOKUP(VALUE(W74),List2!$A$1:'List2'!$B$90,2)))","v":""},null,{"$f":"IF(ISBLANK(Y74),\"\",IF(VALUE(Y74)>89,1,VLOOKUP(VALUE(Y74),List2!$A$1:'List2'!$B$90,2)))","v":""},null,{"$f":"IF(ISBLANK(AA74),\"\",IF(VALUE(AA74)>89,1,VLOOKUP(VALUE(AA74),List2!$A$1:'List2'!$B$90,2)))","v":""},null,{"$f":"IF(ISBLANK(AC74),\"\",IF(VALUE(AC74)>89,1,VLOOKUP(VALUE(AC74),List2!$A$1:'List2'!$B$90,2)))","v":""},null,{"$f":"IF(ISBLANK(AE74),\"\",IF(VALUE(AE74)>89,1,VLOOKUP(VALUE(AE74),List2!$A$1:'List2'!$B$90,2)))","v":""},null,{"$f":"IF(ISBLANK(AG74),\"\",IF(VALUE(AG74)>89,1,VLOOKUP(VALUE(AG74),List2!$A$1:'List2'!$B$90,2)))","v":""},null,{"$f":"IF(ISBLANK(AI74),\"\",IF(VALUE(AI74)>89,1,VLOOKUP(VALUE(AI74),List2!$A$1:'List2'!$B$90,2)))","v":""},null,{"$f":"IF(ISBLANK(AK74),\"\",IF(VALUE(AK74)>89,1,VLOOKUP(VALUE(AK74),List2!$A$1:'List2'!$B$90,2)))","v":""},null,{"$f":"IF(ISBLANK(AM74),\"\",IF(VALUE(AM74)>89,1,VLOOKUP(VALUE(AM74),List2!$A$1:'List2'!$B$90,2)))","v":""},null,0]
["",null,"","",null,{"$f":"IF(ISBLANK(E75),\"\",IF(VALUE(E75)>89,1,VLOOKUP(VALUE(E75),List2!$A$1:'List2'!$B$90,2)))","v":""},null,{"$f":"IF(ISBLANK(G75),\"\",IF(VALUE(G75)>89,1,VLOOKUP(VALUE(G75),List2!$A$1:'List2'!$B$90,2)))","v":""},null,{"$f":"IF(ISBLANK(I75),\"\",IF(VALUE(I75)>89,1,VLOOKUP(VALUE(I75),List2!$A$1:'List2'!$B$90,2)))","v":""},null,{"$f":"IF(ISBLANK(K75),\"\",IF(VALUE(K75)>89,1,VLOOKUP(VALUE(K75),List2!$A$1:'List2'!$B$90,2)))","v":""},null,{"$f":"IF(ISBLANK(M75),\"\",IF(VALUE(M75)>89,1,VLOOKUP(VALUE(M75),List2!$A$1:'List2'!$B$90,2)))","v":""},null,{"$f":"IF(ISBLANK(O75),\"\",IF(VALUE(O75)>89,1,VLOOKUP(VALUE(O75),List2!$A$1:'List2'!$B$90,2)))","v":""},null,{"$f":"IF(ISBLANK(Q75),\"\",IF(VALUE(Q75)>89,1,VLOOKUP(VALUE(Q75),List2!$A$1:'List2'!$B$90,2)))","v":""},null,{"$f":"IF(ISBLANK(S75),\"\",IF(VALUE(S75)>89,1,VLOOKUP(VALUE(S75),List2!$A$1:'List2'!$B$90,2)))","v":""},null,{"$f":"IF(ISBLANK(U75),\"\",IF(VALUE(U75)>89,1,VLOOKUP(VALUE(U75),List2!$A$1:'List2'!$B$90,2)))","v":""},null,{"$f":"IF(ISBLANK(W75),\"\",IF(VALUE(W75)>89,1,VLOOKUP(VALUE(W75),List2!$A$1:'List2'!$B$90,2)))","v":""},null,{"$f":"IF(ISBLANK(Y75),\"\",IF(VALUE(Y75)>89,1,VLOOKUP(VALUE(Y75),List2!$A$1:'List2'!$B$90,2)))","v":""},null,{"$f":"IF(ISBLANK(AA75),\"\",IF(VALUE(AA75)>89,1,VLOOKUP(VALUE(AA75),List2!$A$1:'List2'!$B$90,2)))","v":""},null,{"$f":"IF(ISBLANK(AC75),\"\",IF(VALUE(AC75)>89,1,VLOOKUP(VALUE(AC75),List2!$A$1:'List2'!$B$90,2)))","v":""},null,{"$f":"IF(ISBLANK(AE75),\"\",IF(VALUE(AE75)>89,1,VLOOKUP(VALUE(AE75),List2!$A$1:'List2'!$B$90,2)))","v":""},null,{"$f":"IF(ISBLANK(AG75),\"\",IF(VALUE(AG75)>89,1,VLOOKUP(VALUE(AG75),List2!$A$1:'List2'!$B$90,2)))","v":""},null,{"$f":"IF(ISBLANK(AI75),\"\",IF(VALUE(AI75)>89,1,VLOOKUP(VALUE(AI75),List2!$A$1:'List2'!$B$90,2)))","v":""},null,{"$f":"IF(ISBLANK(AK75),\"\",IF(VALUE(AK75)>89,1,VLOOKUP(VALUE(AK75),List2!$A$1:'List2'!$B$90,2)))","v":""},null,{"$f":"IF(ISBLANK(AM75),\"\",IF(VALUE(AM75)>89,1,VLOOKUP(VALUE(AM75),List2!$A$1:'List2'!$B$90,2)))","v":""},null,0]
["",null,"","",null,{"$f":"IF(ISBLANK(E76),\"\",IF(VALUE(E76)>89,1,VLOOKUP(VALUE(E76),List2!$A$1:'List2'!$B$90,2)))","v":""},null,{"$f":"IF(ISBLANK(G76),\"\",IF(VALUE(G76)>89,1,VLOOKUP(VALUE(G76),List2!$A$1:'List2'!$B$90,2)))","v":""},null,{"$f":"IF(ISBLANK(I76),\"\",IF(VALUE(I76)>89,1,VLOOKUP(VALUE(I76),List2!$A$1:'List2'!$B$90,2)))","v":""},null,{"$f":"IF(ISBLANK(K76),\"\",IF(VALUE(K76)>89,1,VLOOKUP(VALUE(K76),List2!$A$1:'List2'!$B$90,2)))","v":""},null,{"$f":"IF(ISBLANK(M76),\"\",IF(VALUE(M76)>89,1,VLOOKUP(VALUE(M76),List2!$A$1:'List2'!$B$90,2)))","v":""},null,{"$f":"IF(ISBLANK(O76),\"\",IF(VALUE(O76)>89,1,VLOOKUP(VALUE(O76),List2!$A$1:'List2'!$B$90,2)))","v":""},null,{"$f":"IF(ISBLANK(Q76),\"\",IF(VALUE(Q76)>89,1,VLOOKUP(VALUE(Q76),List2!$A$1:'List2'!$B$90,2)))","v":""},null,{"$f":"IF(ISBLANK(S76),\"\",IF(VALUE(S76)>89,1,VLOOKUP(VALUE(S76),List2!$A$1:'List2'!$B$90,2)))","v":""},null,{"$f":"IF(ISBLANK(U76),\"\",IF(VALUE(U76)>89,1,VLOOKUP(VALUE(U76),List2!$A$1:'List2'!$B$90,2)))","v":""},null,{"$f":"IF(ISBLANK(W76),\"\",IF(VALUE(W76)>89,1,VLOOKUP(VALUE(W76),List2!$A$1:'List2'!$B$90,2)))","v":""},null,{"$f":"IF(ISBLANK(Y76),\"\",IF(VALUE(Y76)>89,1,VLOOKUP(VALUE(Y76),List2!$A$1:'List2'!$B$90,2)))","v":""},null,{"$f":"IF(ISBLANK(AA76),\"\",IF(VALUE(AA76)>89,1,VLOOKUP(VALUE(AA76),List2!$A$1:'List2'!$B$90,2)))","v":""},null,{"$f":"IF(ISBLANK(AC76),\"\",IF(VALUE(AC76)>89,1,VLOOKUP(VALUE(AC76),List2!$A$1:'List2'!$B$90,2)))","v":""},null,{"$f":"IF(ISBLANK(AE76),\"\",IF(VALUE(AE76)>89,1,VLOOKUP(VALUE(AE76),List2!$A$1:'List2'!$B$90,2)))","v":""},null,{"$f":"IF(ISBLANK(AG76),\"\",IF(VALUE(AG76)>89,1,VLOOKUP(VALUE(AG76),List2!$A$1:'List2'!$B$90,2)))","v":""},null,{"$f":"IF(ISBLANK(AI76),\"\",IF(VALUE(AI76)>89,1,VLOOKUP(VALUE(AI76),List2!$A$1:'List2'!$B$90,2)))","v":""},null,{"$f":"IF(ISBLANK(AK76),\"\",IF(VALUE(AK76)>89,1,VLOOKUP(VALUE(AK76),List2!$A$1:'List2'!$B$90,2)))","v":""},null,{"$f":"IF(ISBLANK(AM76),\"\",IF(VALUE(AM76)>89,1,VLOOKUP(VALUE(AM76),List2!$A$1:'List2'!$B$90,2)))","v":""},null,0]
["",null,"","",null,{"$f":"IF(ISBLANK(E77),\"\",IF(VALUE(E77)>89,1,VLOOKUP(VALUE(E77),List2!$A$1:'List2'!$B$90,2)))","v":""},null,{"$f":"IF(ISBLANK(G77),\"\",IF(VALUE(G77)>89,1,VLOOKUP(VALUE(G77),List2!$A$1:'List2'!$B$90,2)))","v":""},null,{"$f":"IF(ISBLANK(I77),\"\",IF(VALUE(I77)>89,1,VLOOKUP(VALUE(I77),List2!$A$1:'List2'!$B$90,2)))","v":""},null,{"$f":"IF(ISBLANK(K77),\"\",IF(VALUE(K77)>89,1,VLOOKUP(VALUE(K77),List2!$A$1:'List2'!$B$90,2)))","v":""},null,{"$f":"IF(ISBLANK(M77),\"\",IF(VALUE(M77)>89,1,VLOOKUP(VALUE(M77),List2!$A$1:'List2'!$B$90,2)))","v":""},null,{"$f":"IF(ISBLANK(O77),\"\",IF(VALUE(O77)>89,1,VLOOKUP(VALUE(O77),List2!$A$1:'List2'!$B$90,2)))","v":""},null,{"$f":"IF(ISBLANK(Q77),\"\",IF(VALUE(Q77)>89,1,VLOOKUP(VALUE(Q77),List2!$A$1:'List2'!$B$90,2)))","v":""},null,{"$f":"IF(ISBLANK(S77),\"\",IF(VALUE(S77)>89,1,VLOOKUP(VALUE(S77),List2!$A$1:'List2'!$B$90,2)))","v":""},null,{"$f":"IF(ISBLANK(U77),\"\",IF(VALUE(U77)>89,1,VLOOKUP(VALUE(U77),List2!$A$1:'List2'!$B$90,2)))","v":""},null,{"$f":"IF(ISBLANK(W77),\"\",IF(VALUE(W77)>89,1,VLOOKUP(VALUE(W77),List2!$A$1:'List2'!$B$90,2)))","v":""},null,{"$f":"IF(ISBLANK(Y77),\"\",IF(VALUE(Y77)>89,1,VLOOKUP(VALUE(Y77),List2!$A$1:'List2'!$B$90,2)))","v":""},null,{"$f":"IF(ISBLANK(AA77),\"\",IF(VALUE(AA77)>89,1,VLOOKUP(VALUE(AA77),List2!$A$1:'List2'!$B$90,2)))","v":""},null,{"$f":"IF(ISBLANK(AC77),\"\",IF(VALUE(AC77)>89,1,VLOOKUP(VALUE(AC77),List2!$A$1:'List2'!$B$90,2)))","v":""},null,{"$f":"IF(ISBLANK(AE77),\"\",IF(VALUE(AE77)>89,1,VLOOKUP(VALUE(AE77),List2!$A$1:'List2'!$B$90,2)))","v":""},null,{"$f":"IF(ISBLANK(AG77),\"\",IF(VALUE(AG77)>89,1,VLOOKUP(VALUE(AG77),List2!$A$1:'List2'!$B$90,2)))","v":""},null,{"$f":"IF(ISBLANK(AI77),\"\",IF(VALUE(AI77)>89,1,VLOOKUP(VALUE(AI77),List2!$A$1:'List2'!$B$90,2)))","v":""},null,{"$f":"IF(ISBLANK(AK77),\"\",IF(VALUE(AK77)>89,1,VLOOKUP(VALUE(AK77),List2!$A$1:'List2'!$B$90,2)))","v":""},null,{"$f":"IF(ISBLANK(AM77),\"\",IF(VALUE(AM77)>89,1,VLOOKUP(VALUE(AM77),List2!$A$1:'List2'!$B$90,2)))","v":""},null,0]
["",null,"","",null,{"$f":"IF(ISBLANK(E78),\"\",IF(VALUE(E78)>89,1,VLOOKUP(VALUE(E78),List2!$A$1:'List2'!$B$90,2)))","v":""},null,{"$f":"IF(ISBLANK(G78),\"\",IF(VALUE(G78)>89,1,VLOOKUP(VALUE(G78),List2!$A$1:'List2'!$B$90,2)))","v":""},null,{"$f":"IF(ISBLANK(I78),\"\",IF(VALUE(I78)>89,1,VLOOKUP(VALUE(I78),List2!$A$1:'List2'!$B$90,2)))","v":""},null,{"$f":"IF(ISBLANK(K78),\"\",IF(VALUE(K78)>89,1,VLOOKUP(VALUE(K78),List2!$A$1:'List2'!$B$90,2)))","v":""},null,{"$f":"IF(ISBLANK(M78),\"\",IF(VALUE(M78)>89,1,VLOOKUP(VALUE(M78),List2!$A$1:'List2'!$B$90,2)))","v":""},null,{"$f":"IF(ISBLANK(O78),\"\",IF(VALUE(O78)>89,1,VLOOKUP(VALUE(O78),List2!$A$1:'List2'!$B$90,2)))","v":""},null,{"$f":"IF(ISBLANK(Q78),\"\",IF(VALUE(Q78)>89,1,VLOOKUP(VALUE(Q78),List2!$A$1:'List2'!$B$90,2)))","v":""},null,{"$f":"IF(ISBLANK(S78),\"\",IF(VALUE(S78)>89,1,VLOOKUP(VALUE(S78),List2!$A$1:'List2'!$B$90,2)))","v":""},null,{"$f":"IF(ISBLANK(U78),\"\",IF(VALUE(U78)>89,1,VLOOKUP(VALUE(U78),List2!$A$1:'List2'!$B$90,2)))","v":""},null,{"$f":"IF(ISBLANK(W78),\"\",IF(VALUE(W78)>89,1,VLOOKUP(VALUE(W78),List2!$A$1:'List2'!$B$90,2)))","v":""},null,{"$f":"IF(ISBLANK(Y78),\"\",IF(VALUE(Y78)>89,1,VLOOKUP(VALUE(Y78),List2!$A$1:'List2'!$B$90,2)))","v":""},null,{"$f":"IF(ISBLANK(AA78),\"\",IF(VALUE(AA78)>89,1,VLOOKUP(VALUE(AA78),List2!$A$1:'List2'!$B$90,2)))","v":""},null,{"$f":"IF(ISBLANK(AC78),\"\",IF(VALUE(AC78)>89,1,VLOOKUP(VALUE(AC78),List2!$A$1:'List2'!$B$90,2)))","v":""},null,{"$f":"IF(ISBLANK(AE78),\"\",IF(VALUE(AE78)>89,1,VLOOKUP(VALUE(AE78),List2!$A$1:'List2'!$B$90,2)))","v":""},null,{"$f":"IF(ISBLANK(AG78),\"\",IF(VALUE(AG78)>89,1,VLOOKUP(VALUE(AG78),List2!$A$1:'List2'!$B$90,2)))","v":""},null,{"$f":"IF(ISBLANK(AI78),\"\",IF(VALUE(AI78)>89,1,VLOOKUP(VALUE(AI78),List2!$A$1:'List2'!$B$90,2)))","v":""},null,{"$f":"IF(ISBLANK(AK78),\"\",IF(VALUE(AK78)>89,1,VLOOKUP(VALUE(AK78),List2!$A$1:'List2'!$B$90,2)))","v":""},null,{"$f":"IF(ISBLANK(AM78),\"\",IF(VALUE(AM78)>89,1,VLOOKUP(VALUE(AM78),List2!$A$1:'List2'!$B$90,2)))","v":""},null,0]
["",null,"","",null,{"$f":"IF(ISBLANK(E79),\"\",IF(VALUE(E79)>89,1,VLOOKUP(VALUE(E79),List2!$A$1:'List2'!$B$90,2)))","v":""},null,{"$f":"IF(ISBLANK(G79),\"\",IF(VALUE(G79)>89,1,VLOOKUP(VALUE(G79),List2!$A$1:'List2'!$B$90,2)))","v":""},null,{"$f":"IF(ISBLANK(I79),\"\",IF(VALUE(I79)>89,1,VLOOKUP(VALUE(I79),List2!$A$1:'List2'!$B$90,2)))","v":""},null,{"$f":"IF(ISBLANK(K79),\"\",IF(VALUE(K79)>89,1,VLOOKUP(VALUE(K79),List2!$A$1:'List2'!$B$90,2)))","v":""},null,{"$f":"IF(ISBLANK(M79),\"\",IF(VALUE(M79)>89,1,VLOOKUP(VALUE(M79),List2!$A$1:'List2'!$B$90,2)))","v":""},null,{"$f":"IF(ISBLANK(O79),\"\",IF(VALUE(O79)>89,1,VLOOKUP(VALUE(O79),List2!$A$1:'List2'!$B$90,2)))","v":""},null,{"$f":"IF(ISBLANK(Q79),\"\",IF(VALUE(Q79)>89,1,VLOOKUP(VALUE(Q79),List2!$A$1:'List2'!$B$90,2)))","v":""},null,{"$f":"IF(ISBLANK(S79),\"\",IF(VALUE(S79)>89,1,VLOOKUP(VALUE(S79),List2!$A$1:'List2'!$B$90,2)))","v":""},null,{"$f":"IF(ISBLANK(U79),\"\",IF(VALUE(U79)>89,1,VLOOKUP(VALUE(U79),List2!$A$1:'List2'!$B$90,2)))","v":""},null,{"$f":"IF(ISBLANK(W79),\"\",IF(VALUE(W79)>89,1,VLOOKUP(VALUE(W79),List2!$A$1:'List2'!$B$90,2)))","v":""},null,{"$f":"IF(ISBLANK(Y79),\"\",IF(VALUE(Y79)>89,1,VLOOKUP(VALUE(Y79),List2!$A$1:'List2'!$B$90,2)))","v":""},null,{"$f":"IF(ISBLANK(AA79),\"\",IF(VALUE(AA79)>89,1,VLOOKUP(VALUE(AA79),List2!$A$1:'List2'!$B$90,2)))","v":""},null,{"$f":"IF(ISBLANK(AC79),\"\",IF(VALUE(AC79)>89,1,VLOOKUP(VALUE(AC79),List2!$A$1:'List2'!$B$90,2)))","v":""},null,{"$f":"IF(ISBLANK(AE79),\"\",IF(VALUE(AE79)>89,1,VLOOKUP(VALUE(AE79),List2!$A$1:'List2'!$B$90,2)))","v":""},null,{"$f":"IF(ISBLANK(AG79),\"\",IF(VALUE(AG79)>89,1,VLOOKUP(VALUE(AG79),List2!$A$1:'List2'!$B$90,2)))","v":""},null,{"$f":"IF(ISBLANK(AI79),\"\",IF(VALUE(AI79)>89,1,VLOOKUP(VALUE(AI79),List2!$A$1:'List2'!$B$90,2)))","v":""},null,{"$f":"IF(ISBLANK(AK79),\"\",IF(VALUE(AK79)>89,1,VLOOKUP(VALUE(AK79),List2!$A$1:'List2'!$B$90,2)))","v":""},null,{"$f":"IF(ISBLANK(AM79),\"\",IF(VALUE(AM79)>89,1,VLOOKUP(VALUE(AM79),List2!$A$1:'List2'!$B$90,2)))","v":""},null,0]
["",null,"","",null,{"$f":"IF(ISBLANK(E80),\"\",IF(VALUE(E80)>89,1,VLOOKUP(VALUE(E80),List2!$A$1:'List2'!$B$90,2)))","v":""},null,{"$f":"IF(ISBLANK(G80),\"\",IF(VALUE(G80)>89,1,VLOOKUP(VALUE(G80),List2!$A$1:'List2'!$B$90,2)))","v":""},null,{"$f":"IF(ISBLANK(I80),\"\",IF(VALUE(I80)>89,1,VLOOKUP(VALUE(I80),List2!$A$1:'List2'!$B$90,2)))","v":""},null,{"$f":"IF(ISBLANK(K80),\"\",IF(VALUE(K80)>89,1,VLOOKUP(VALUE(K80),List2!$A$1:'List2'!$B$90,2)))","v":""},null,{"$f":"IF(ISBLANK(M80),\"\",IF(VALUE(M80)>89,1,VLOOKUP(VALUE(M80),List2!$A$1:'List2'!$B$90,2)))","v":""},null,{"$f":"IF(ISBLANK(O80),\"\",IF(VALUE(O80)>89,1,VLOOKUP(VALUE(O80),List2!$A$1:'List2'!$B$90,2)))","v":""},null,{"$f":"IF(ISBLANK(Q80),\"\",IF(VALUE(Q80)>89,1,VLOOKUP(VALUE(Q80),List2!$A$1:'List2'!$B$90,2)))","v":""},null,{"$f":"IF(ISBLANK(S80),\"\",IF(VALUE(S80)>89,1,VLOOKUP(VALUE(S80),List2!$A$1:'List2'!$B$90,2)))","v":""},null,{"$f":"IF(ISBLANK(U80),\"\",IF(VALUE(U80)>89,1,VLOOKUP(VALUE(U80),List2!$A$1:'List2'!$B$90,2)))","v":""},null,{"$f":"IF(ISBLANK(W80),\"\",IF(VALUE(W80)>89,1,VLOOKUP(VALUE(W80),List2!$A$1:'List2'!$B$90,2)))","v":""},null,{"$f":"IF(ISBLANK(Y80),\"\",IF(VALUE(Y80)>89,1,VLOOKUP(VALUE(Y80),List2!$A$1:'List2'!$B$90,2)))","v":""},null,{"$f":"IF(ISBLANK(AA80),\"\",IF(VALUE(AA80)>89,1,VLOOKUP(VALUE(AA80),List2!$A$1:'List2'!$B$90,2)))","v":""},null,{"$f":"IF(ISBLANK(AC80),\"\",IF(VALUE(AC80)>89,1,VLOOKUP(VALUE(AC80),List2!$A$1:'List2'!$B$90,2)))","v":""},null,{"$f":"IF(ISBLANK(AE80),\"\",IF(VALUE(AE80)>89,1,VLOOKUP(VALUE(AE80),List2!$A$1:'List2'!$B$90,2)))","v":""},null,{"$f":"IF(ISBLANK(AG80),\"\",IF(VALUE(AG80)>89,1,VLOOKUP(VALUE(AG80),List2!$A$1:'List2'!$B$90,2)))","v":""},null,{"$f":"IF(ISBLANK(AI80),\"\",IF(VALUE(AI80)>89,1,VLOOKUP(VALUE(AI80),List2!$A$1:'List2'!$B$90,2)))","v":""},null,{"$f":"IF(ISBLANK(AK80),\"\",IF(VALUE(AK80)>89,1,VLOOKUP(VALUE(AK80),List2!$A$1:'List2'!$B$90,2)))","v":""},null,{"$f":"IF(ISBLANK(AM80),\"\",IF(VALUE(AM80)>89,1,VLOOKUP(VALUE(AM80),List2!$A$1:'List2'!$B$90,2)))","v":""},null,0]
["",null,"","",null,{"$f":"IF(ISBLANK(E81),\"\",IF(VALUE(E81)>89,1,VLOOKUP(VALUE(E81),List2!$A$1:'List2'!$B$90,2)))","v":""},null,{"$f":"IF(ISBLANK(G81),\"\",IF(VALUE(G81)>89,1,VLOOKUP(VALUE(G81),List2!$A$1:'List2'!$B$90,2)))","v":""},null,{"$f":"IF(ISBLANK(I81),\"\",IF(VALUE(I81)>89,1,VLOOKUP(VALUE(I81),List2!$A$1:'List2'!$B$90,2)))","v":""},null,{"$f":"IF(ISBLANK(K81),\"\",IF(VALUE(K81)>89,1,VLOOKUP(VALUE(K81),List2!$A$1:'List2'!$B$90,2)))","v":""},null,{"$f":"IF(ISBLANK(M81),\"\",IF(VALUE(M81)>89,1,VLOOKUP(VALUE(M81),List2!$A$1:'List2'!$B$90,2)))","v":""},null,{"$f":"IF(ISBLANK(O81),\"\",IF(VALUE(O81)>89,1,VLOOKUP(VALUE(O81),List2!$A$1:'List2'!$B$90,2)))","v":""},null,{"$f":"IF(ISBLANK(Q81),\"\",IF(VALUE(Q81)>89,1,VLOOKUP(VALUE(Q81),List2!$A$1:'List2'!$B$90,2)))","v":""},null,{"$f":"IF(ISBLANK(S81),\"\",IF(VALUE(S81)>89,1,VLOOKUP(VALUE(S81),List2!$A$1:'List2'!$B$90,2)))","v":""},null,{"$f":"IF(ISBLANK(U81),\"\",IF(VALUE(U81)>89,1,VLOOKUP(VALUE(U81),List2!$A$1:'List2'!$B$90,2)))","v":""},null,{"$f":"IF(ISBLANK(W81),\"\",IF(VALUE(W81)>89,1,VLOOKUP(VALUE(W81),List2!$A$1:'List2'!$B$90,2)))","v":""},null,{"$f":"IF(ISBLANK(Y81),\"\",IF(VALUE(Y81)>89,1,VLOOKUP(VALUE(Y81),List2!$A$1:'List2'!$B$90,2)))","v":""},null,{"$f":"IF(ISBLANK(AA81),\"\",IF(VALUE(AA81)>89,1,VLOOKUP(VALUE(AA81),List2!$A$1:'List2'!$B$90,2)))","v":""},null,{"$f":"IF(ISBLANK(AC81),\"\",IF(VALUE(AC81)>89,1,VLOOKUP(VALUE(AC81),List2!$A$1:'List2'!$B$90,2)))","v":""},null,{"$f":"IF(ISBLANK(AE81),\"\",IF(VALUE(AE81)>89,1,VLOOKUP(VALUE(AE81),List2!$A$1:'List2'!$B$90,2)))","v":""},null,{"$f":"IF(ISBLANK(AG81),\"\",IF(VALUE(AG81)>89,1,VLOOKUP(VALUE(AG81),List2!$A$1:'List2'!$B$90,2)))","v":""},null,{"$f":"IF(ISBLANK(AI81),\"\",IF(VALUE(AI81)>89,1,VLOOKUP(VALUE(AI81),List2!$A$1:'List2'!$B$90,2)))","v":""},null,{"$f":"IF(ISBLANK(AK81),\"\",IF(VALUE(AK81)>89,1,VLOOKUP(VALUE(AK81),List2!$A$1:'List2'!$B$90,2)))","v":""},null,{"$f":"IF(ISBLANK(AM81),\"\",IF(VALUE(AM81)>89,1,VLOOKUP(VALUE(AM81),List2!$A$1:'List2'!$B$90,2)))","v":""},null,0]
["",null,"","",null,{"$f":"IF(ISBLANK(E82),\"\",IF(VALUE(E82)>89,1,VLOOKUP(VALUE(E82),List2!$A$1:'List2'!$B$90,2)))","v":""},null,{"$f":"IF(ISBLANK(G82),\"\",IF(VALUE(G82)>89,1,VLOOKUP(VALUE(G82),List2!$A$1:'List2'!$B$90,2)))","v":""},null,{"$f":"IF(ISBLANK(I82),\"\",IF(VALUE(I82)>89,1,VLOOKUP(VALUE(I82),List2!$A$1:'List2'!$B$90,2)))","v":""},null,{"$f":"IF(ISBLANK(K82),\"\",IF(VALUE(K82)>89,1,VLOOKUP(VALUE(K82),List2!$A$1:'List2'!$B$90,2)))","v":""},null,{"$f":"IF(ISBLANK(M82),\"\",IF(VALUE(M82)>89,1,VLOOKUP(VALUE(M82),List2!$A$1:'List2'!$B$90,2)))","v":""},null,{"$f":"IF(ISBLANK(O82),\"\",IF(VALUE(O82)>89,1,VLOOKUP(VALUE(O82),List2!$A$1:'List2'!$B$90,2)))","v":""},null,{"$f":"IF(ISBLANK(Q82),\"\",IF(VALUE(Q82)>89,1,VLOOKUP(VALUE(Q82),List2!$A$1:'List2'!$B$90,2)))","v":""},null,{"$f":"IF(ISBLANK(S82),\"\",IF(VALUE(S82)>89,1,VLOOKUP(VALUE(S82),List2!$A$1:'List2'!$B$90,2)))","v":""},null,{"$f":"IF(ISBLANK(U82),\"\",IF(VALUE(U82)>89,1,VLOOKUP(VALUE(U82),List2!$A$1:'List2'!$B$90,2)))","v":""},null,{"$f":"IF(ISBLANK(W82),\"\",IF(VALUE(W82)>89,1,VLOOKUP(VALUE(W82),List2!$A$1:'List2'!$B$90,2)))","v":""},null,{"$f":"IF(ISBLANK(Y82),\"\",IF(VALUE(Y82)>89,1,VLOOKUP(VALUE(Y82),List2!$A$1:'List2'!$B$90,2)))","v":""},null,{"$f":"IF(ISBLANK(AA82),\"\",IF(VALUE(AA82)>89,1,VLOOKUP(VALUE(AA82),List2!$A$1:'List2'!$B$90,2)))","v":""},null,{"$f":"IF(ISBLANK(AC82),\"\",IF(VALUE(AC82)>89,1,VLOOKUP(VALUE(AC82),List2!$A$1:'List2'!$B$90,2)))","v":""},null,{"$f":"IF(ISBLANK(AE82),\"\",IF(VALUE(AE82)>89,1,VLOOKUP(VALUE(AE82),List2!$A$1:'List2'!$B$90,2)))","v":""},null,{"$f":"IF(ISBLANK(AG82),\"\",IF(VALUE(AG82)>89,1,VLOOKUP(VALUE(AG82),List2!$A$1:'List2'!$B$90,2)))","v":""},null,{"$f":"IF(ISBLANK(AI82),\"\",IF(VALUE(AI82)>89,1,VLOOKUP(VALUE(AI82),List2!$A$1:'List2'!$B$90,2)))","v":""},null,{"$f":"IF(ISBLANK(AK82),\"\",IF(VALUE(AK82)>89,1,VLOOKUP(VALUE(AK82),List2!$A$1:'List2'!$B$90,2)))","v":""},null,{"$f":"IF(ISBLANK(AM82),\"\",IF(VALUE(AM82)>89,1,VLOOKUP(VALUE(AM82),List2!$A$1:'List2'!$B$90,2)))","v":""},null,0]
["",null,"","",null,{"$f":"IF(ISBLANK(E83),\"\",IF(VALUE(E83)>89,1,VLOOKUP(VALUE(E83),List2!$A$1:'List2'!$B$90,2)))","v":""},null,{"$f":"IF(ISBLANK(G83),\"\",IF(VALUE(G83)>89,1,VLOOKUP(VALUE(G83),List2!$A$1:'List2'!$B$90,2)))","v":""},null,{"$f":"IF(ISBLANK(I83),\"\",IF(VALUE(I83)>89,1,VLOOKUP(VALUE(I83),List2!$A$1:'List2'!$B$90,2)))","v":""},null,{"$f":"IF(ISBLANK(K83),\"\",IF(VALUE(K83)>89,1,VLOOKUP(VALUE(K83),List2!$A$1:'List2'!$B$90,2)))","v":""},null,{"$f":"IF(ISBLANK(M83),\"\",IF(VALUE(M83)>89,1,VLOOKUP(VALUE(M83),List2!$A$1:'List2'!$B$90,2)))","v":""},null,{"$f":"IF(ISBLANK(O83),\"\",IF(VALUE(O83)>89,1,VLOOKUP(VALUE(O83),List2!$A$1:'List2'!$B$90,2)))","v":""},null,{"$f":"IF(ISBLANK(Q83),\"\",IF(VALUE(Q83)>89,1,VLOOKUP(VALUE(Q83),List2!$A$1:'List2'!$B$90,2)))","v":""},null,{"$f":"IF(ISBLANK(S83),\"\",IF(VALUE(S83)>89,1,VLOOKUP(VALUE(S83),List2!$A$1:'List2'!$B$90,2)))","v":""},null,{"$f":"IF(ISBLANK(U83),\"\",IF(VALUE(U83)>89,1,VLOOKUP(VALUE(U83),List2!$A$1:'List2'!$B$90,2)))","v":""},null,{"$f":"IF(ISBLANK(W83),\"\",IF(VALUE(W83)>89,1,VLOOKUP(VALUE(W83),List2!$A$1:'List2'!$B$90,2)))","v":""},null,{"$f":"IF(ISBLANK(Y83),\"\",IF(VALUE(Y83)>89,1,VLOOKUP(VALUE(Y83),List2!$A$1:'List2'!$B$90,2)))","v":""},null,{"$f":"IF(ISBLANK(AA83),\"\",IF(VALUE(AA83)>89,1,VLOOKUP(VALUE(AA83),List2!$A$1:'List2'!$B$90,2)))","v":""},null,{"$f":"IF(ISBLANK(AC83),\"\",IF(VALUE(AC83)>89,1,VLOOKUP(VALUE(AC83),List2!$A$1:'List2'!$B$90,2)))","v":""},null,{"$f":"IF(ISBLANK(AE83),\"\",IF(VALUE(AE83)>89,1,VLOOKUP(VALUE(AE83),List2!$A$1:'List2'!$B$90,2)))","v":""},null,{"$f":"IF(ISBLANK(AG83),\"\",IF(VALUE(AG83)>89,1,VLOOKUP(VALUE(AG83),List2!$A$1:'List2'!$B$90,2)))","v":""},null,{"$f":"IF(ISBLANK(AI83),\"\",IF(VALUE(AI83)>89,1,VLOOKUP(VALUE(AI83),List2!$A$1:'List2'!$B$90,2)))","v":""},null,{"$f":"IF(ISBLANK(AK83),\"\",IF(VALUE(AK83)>89,1,VLOOKUP(VALUE(AK83),List2!$A$1:'List2'!$B$90,2)))","v":""},null,{"$f":"IF(ISBLANK(AM83),\"\",IF(VALUE(AM83)>89,1,VLOOKUP(VALUE(AM83),List2!$A$1:'List2'!$B$90,2)))","v":""},null,0]
["",null,"","",null,{"$f":"IF(ISBLANK(E84),\"\",IF(VALUE(E84)>89,1,VLOOKUP(VALUE(E84),List2!$A$1:'List2'!$B$90,2)))","v":""},null,{"$f":"IF(ISBLANK(G84),\"\",IF(VALUE(G84)>89,1,VLOOKUP(VALUE(G84),List2!$A$1:'List2'!$B$90,2)))","v":""},null,{"$f":"IF(ISBLANK(I84),\"\",IF(VALUE(I84)>89,1,VLOOKUP(VALUE(I84),List2!$A$1:'List2'!$B$90,2)))","v":""},null,{"$f":"IF(ISBLANK(K84),\"\",IF(VALUE(K84)>89,1,VLOOKUP(VALUE(K84),List2!$A$1:'List2'!$B$90,2)))","v":""},null,{"$f":"IF(ISBLANK(M84),\"\",IF(VALUE(M84)>89,1,VLOOKUP(VALUE(M84),List2!$A$1:'List2'!$B$90,2)))","v":""},null,{"$f":"IF(ISBLANK(O84),\"\",IF(VALUE(O84)>89,1,VLOOKUP(VALUE(O84),List2!$A$1:'List2'!$B$90,2)))","v":""},null,{"$f":"IF(ISBLANK(Q84),\"\",IF(VALUE(Q84)>89,1,VLOOKUP(VALUE(Q84),List2!$A$1:'List2'!$B$90,2)))","v":""},null,{"$f":"IF(ISBLANK(S84),\"\",IF(VALUE(S84)>89,1,VLOOKUP(VALUE(S84),List2!$A$1:'List2'!$B$90,2)))","v":""},null,{"$f":"IF(ISBLANK(U84),\"\",IF(VALUE(U84)>89,1,VLOOKUP(VALUE(U84),List2!$A$1:'List2'!$B$90,2)))","v":""},null,{"$f":"IF(ISBLANK(W84),\"\",IF(VALUE(W84)>89,1,VLOOKUP(VALUE(W84),List2!$A$1:'List2'!$B$90,2)))","v":""},null,{"$f":"IF(ISBLANK(Y84),\"\",IF(VALUE(Y84)>89,1,VLOOKUP(VALUE(Y84),List2!$A$1:'List2'!$B$90,2)))","v":""},null,{"$f":"IF(ISBLANK(AA84),\"\",IF(VALUE(AA84)>89,1,VLOOKUP(VALUE(AA84),List2!$A$1:'List2'!$B$90,2)))","v":""},null,{"$f":"IF(ISBLANK(AC84),\"\",IF(VALUE(AC84)>89,1,VLOOKUP(VALUE(AC84),List2!$A$1:'List2'!$B$90,2)))","v":""},null,{"$f":"IF(ISBLANK(AE84),\"\",IF(VALUE(AE84)>89,1,VLOOKUP(VALUE(AE84),List2!$A$1:'List2'!$B$90,2)))","v":""},null,{"$f":"IF(ISBLANK(AG84),\"\",IF(VALUE(AG84)>89,1,VLOOKUP(VALUE(AG84),List2!$A$1:'List2'!$B$90,2)))","v":""},null,{"$f":"IF(ISBLANK(AI84),\"\",IF(VALUE(AI84)>89,1,VLOOKUP(VALUE(AI84),List2!$A$1:'List2'!$B$90,2)))","v":""},null,{"$f":"IF(ISBLANK(AK84),\"\",IF(VALUE(AK84)>89,1,VLOOKUP(VALUE(AK84),List2!$A$1:'List2'!$B$90,2)))","v":""},null,{"$f":"IF(ISBLANK(AM84),\"\",IF(VALUE(AM84)>89,1,VLOOKUP(VALUE(AM84),List2!$A$1:'List2'!$B$90,2)))","v":""},null,0]
["",null,"","",null,{"$f":"IF(ISBLANK(E85),\"\",IF(VALUE(E85)>89,1,VLOOKUP(VALUE(E85),List2!$A$1:'List2'!$B$90,2)))","v":""},null,{"$f":"IF(ISBLANK(G85),\"\",IF(VALUE(G85)>89,1,VLOOKUP(VALUE(G85),List2!$A$1:'List2'!$B$90,2)))","v":""},null,{"$f":"IF(ISBLANK(I85),\"\",IF(VALUE(I85)>89,1,VLOOKUP(VALUE(I85),List2!$A$1:'List2'!$B$90,2)))","v":""},null,{"$f":"IF(ISBLANK(K85),\"\",IF(VALUE(K85)>89,1,VLOOKUP(VALUE(K85),List2!$A$1:'List2'!$B$90,2)))","v":""},null,{"$f":"IF(ISBLANK(M85),\"\",IF(VALUE(M85)>89,1,VLOOKUP(VALUE(M85),List2!$A$1:'List2'!$B$90,2)))","v":""},null,{"$f":"IF(ISBLANK(O85),\"\",IF(VALUE(O85)>89,1,VLOOKUP(VALUE(O85),List2!$A$1:'List2'!$B$90,2)))","v":""},null,{"$f":"IF(ISBLANK(Q85),\"\",IF(VALUE(Q85)>89,1,VLOOKUP(VALUE(Q85),List2!$A$1:'List2'!$B$90,2)))","v":""},null,{"$f":"IF(ISBLANK(S85),\"\",IF(VALUE(S85)>89,1,VLOOKUP(VALUE(S85),List2!$A$1:'List2'!$B$90,2)))","v":""},null,{"$f":"IF(ISBLANK(U85),\"\",IF(VALUE(U85)>89,1,VLOOKUP(VALUE(U85),List2!$A$1:'List2'!$B$90,2)))","v":""},null,{"$f":"IF(ISBLANK(W85),\"\",IF(VALUE(W85)>89,1,VLOOKUP(VALUE(W85),List2!$A$1:'List2'!$B$90,2)))","v":""},null,{"$f":"IF(ISBLANK(Y85),\"\",IF(VALUE(Y85)>89,1,VLOOKUP(VALUE(Y85),List2!$A$1:'List2'!$B$90,2)))","v":""},null,{"$f":"IF(ISBLANK(AA85),\"\",IF(VALUE(AA85)>89,1,VLOOKUP(VALUE(AA85),List2!$A$1:'List2'!$B$90,2)))","v":""},null,{"$f":"IF(ISBLANK(AC85),\"\",IF(VALUE(AC85)>89,1,VLOOKUP(VALUE(AC85),List2!$A$1:'List2'!$B$90,2)))","v":""},null,{"$f":"IF(ISBLANK(AE85),\"\",IF(VALUE(AE85)>89,1,VLOOKUP(VALUE(AE85),List2!$A$1:'List2'!$B$90,2)))","v":""},null,{"$f":"IF(ISBLANK(AG85),\"\",IF(VALUE(AG85)>89,1,VLOOKUP(VALUE(AG85),List2!$A$1:'List2'!$B$90,2)))","v":""},null,{"$f":"IF(ISBLANK(AI85),\"\",IF(VALUE(AI85)>89,1,VLOOKUP(VALUE(AI85),List2!$A$1:'List2'!$B$90,2)))","v":""},null,{"$f":"IF(ISBLANK(AK85),\"\",IF(VALUE(AK85)>89,1,VLOOKUP(VALUE(AK85),List2!$A$1:'List2'!$B$90,2)))","v":""},null,{"$f":"IF(ISBLANK(AM85),\"\",IF(VALUE(AM85)>89,1,VLOOKUP(VALUE(AM85),List2!$A$1:'List2'!$B$90,2)))","v":""},null,0]
["",null,"","",null,{"$f":"IF(ISBLANK(E86),\"\",IF(VALUE(E86)>89,1,VLOOKUP(VALUE(E86),List2!$A$1:'List2'!$B$90,2)))","v":""},null,{"$f":"IF(ISBLANK(G86),\"\",IF(VALUE(G86)>89,1,VLOOKUP(VALUE(G86),List2!$A$1:'List2'!$B$90,2)))","v":""},null,{"$f":"IF(ISBLANK(I86),\"\",IF(VALUE(I86)>89,1,VLOOKUP(VALUE(I86),List2!$A$1:'List2'!$B$90,2)))","v":""},null,{"$f":"IF(ISBLANK(K86),\"\",IF(VALUE(K86)>89,1,VLOOKUP(VALUE(K86),List2!$A$1:'List2'!$B$90,2)))","v":""},null,{"$f":"IF(ISBLANK(M86),\"\",IF(VALUE(M86)>89,1,VLOOKUP(VALUE(M86),List2!$A$1:'List2'!$B$90,2)))","v":""},null,{"$f":"IF(ISBLANK(O86),\"\",IF(VALUE(O86)>89,1,VLOOKUP(VALUE(O86),List2!$A$1:'List2'!$B$90,2)))","v":""},null,{"$f":"IF(ISBLANK(Q86),\"\",IF(VALUE(Q86)>89,1,VLOOKUP(VALUE(Q86),List2!$A$1:'List2'!$B$90,2)))","v":""},null,{"$f":"IF(ISBLANK(S86),\"\",IF(VALUE(S86)>89,1,VLOOKUP(VALUE(S86),List2!$A$1:'List2'!$B$90,2)))","v":""},null,{"$f":"IF(ISBLANK(U86),\"\",IF(VALUE(U86)>89,1,VLOOKUP(VALUE(U86),List2!$A$1:'List2'!$B$90,2)))","v":""},null,{"$f":"IF(ISBLANK(W86),\"\",IF(VALUE(W86)>89,1,VLOOKUP(VALUE(W86),List2!$A$1:'List2'!$B$90,2)))","v":""},null,{"$f":"IF(ISBLANK(Y86),\"\",IF(VALUE(Y86)>89,1,VLOOKUP(VALUE(Y86),List2!$A$1:'List2'!$B$90,2)))","v":""},null,{"$f":"IF(ISBLANK(AA86),\"\",IF(VALUE(AA86)>89,1,VLOOKUP(VALUE(AA86),List2!$A$1:'List2'!$B$90,2)))","v":""},null,{"$f":"IF(ISBLANK(AC86),\"\",IF(VALUE(AC86)>89,1,VLOOKUP(VALUE(AC86),List2!$A$1:'List2'!$B$90,2)))","v":""},null,{"$f":"IF(ISBLANK(AE86),\"\",IF(VALUE(AE86)>89,1,VLOOKUP(VALUE(AE86),List2!$A$1:'List2'!$B$90,2)))","v":""},null,{"$f":"IF(ISBLANK(AG86),\"\",IF(VALUE(AG86)>89,1,VLOOKUP(VALUE(AG86),List2!$A$1:'List2'!$B$90,2)))","v":""},null,{"$f":"IF(ISBLANK(AI86),\"\",IF(VALUE(AI86)>89,1,VLOOKUP(VALUE(AI86),List2!$A$1:'List2'!$B$90,2)))","v":""},null,{"$f":"IF(ISBLANK(AK86),\"\",IF(VALUE(AK86)>89,1,VLOOKUP(VALUE(AK86),List2!$A$1:'List2'!$B$90,2)))","v":""},null,{"$f":"IF(ISBLANK(AM86),\"\",IF(VALUE(AM86)>89,1,VLOOKUP(VALUE(AM86),List2!$A$1:'List2'!$B$90,2)))","v":""},null,0]
["",null,"","",null,{"$f":"IF(ISBLANK(E87),\"\",IF(VALUE(E87)>89,1,VLOOKUP(VALUE(E87),List2!$A$1:'List2'!$B$90,2)))","v":""},null,{"$f":"IF(ISBLANK(G87),\"\",IF(VALUE(G87)>89,1,VLOOKUP(VALUE(G87),List2!$A$1:'List2'!$B$90,2)))","v":""},null,{"$f":"IF(ISBLANK(I87),\"\",IF(VALUE(I87)>89,1,VLOOKUP(VALUE(I87),List2!$A$1:'List2'!$B$90,2)))","v":""},null,{"$f":"IF(ISBLANK(K87),\"\",IF(VALUE(K87)>89,1,VLOOKUP(VALUE(K87),List2!$A$1:'List2'!$B$90,2)))","v":""},null,{"$f":"IF(ISBLANK(M87),\"\",IF(VALUE(M87)>89,1,VLOOKUP(VALUE(M87),List2!$A$1:'List2'!$B$90,2)))","v":""},null,{"$f":"IF(ISBLANK(O87),\"\",IF(VALUE(O87)>89,1,VLOOKUP(VALUE(O87),List2!$A$1:'List2'!$B$90,2)))","v":""},null,{"$f":"IF(ISBLANK(Q87),\"\",IF(VALUE(Q87)>89,1,VLOOKUP(VALUE(Q87),List2!$A$1:'List2'!$B$90,2)))","v":""},null,{"$f":"IF(ISBLANK(S87),\"\",IF(VALUE(S87)>89,1,VLOOKUP(VALUE(S87),List2!$A$1:'List2'!$B$90,2)))","v":""},null,{"$f":"IF(ISBLANK(U87),\"\",IF(VALUE(U87)>89,1,VLOOKUP(VALUE(U87),List2!$A$1:'List2'!$B$90,2)))","v":""},null,{"$f":"IF(ISBLANK(W87),\"\",IF(VALUE(W87)>89,1,VLOOKUP(VALUE(W87),List2!$A$1:'List2'!$B$90,2)))","v":""},null,{"$f":"IF(ISBLANK(Y87),\"\",IF(VALUE(Y87)>89,1,VLOOKUP(VALUE(Y87),List2!$A$1:'List2'!$B$90,2)))","v":""},null,{"$f":"IF(ISBLANK(AA87),\"\",IF(VALUE(AA87)>89,1,VLOOKUP(VALUE(AA87),List2!$A$1:'List2'!$B$90,2)))","v":""},null,{"$f":"IF(ISBLANK(AC87),\"\",IF(VALUE(AC87)>89,1,VLOOKUP(VALUE(AC87),List2!$A$1:'List2'!$B$90,2)))","v":""},null,{"$f":"IF(ISBLANK(AE87),\"\",IF(VALUE(AE87)>89,1,VLOOKUP(VALUE(AE87),List2!$A$1:'List2'!$B$90,2)))","v":""},null,{"$f":"IF(ISBLANK(AG87),\"\",IF(VALUE(AG87)>89,1,VLOOKUP(VALUE(AG87),List2!$A$1:'List2'!$B$90,2)))","v":""},null,{"$f":"IF(ISBLANK(AI87),\"\",IF(VALUE(AI87)>89,1,VLOOKUP(VALUE(AI87),List2!$A$1:'List2'!$B$90,2)))","v":""},null,{"$f":"IF(ISBLANK(AK87),\"\",IF(VALUE(AK87)>89,1,VLOOKUP(VALUE(AK87),List2!$A$1:'List2'!$B$90,2)))","v":""},null,{"$f":"IF(ISBLANK(AM87),\"\",IF(VALUE(AM87)>89,1,VLOOKUP(VALUE(AM87),List2!$A$1:'List2'!$B$90,2)))","v":""},null,0]
["",null,"","",null,{"$f":"IF(ISBLANK(E88),\"\",IF(VALUE(E88)>89,1,VLOOKUP(VALUE(E88),List2!$A$1:'List2'!$B$90,2)))","v":""},null,{"$f":"IF(ISBLANK(G88),\"\",IF(VALUE(G88)>89,1,VLOOKUP(VALUE(G88),List2!$A$1:'List2'!$B$90,2)))","v":""},null,{"$f":"IF(ISBLANK(I88),\"\",IF(VALUE(I88)>89,1,VLOOKUP(VALUE(I88),List2!$A$1:'List2'!$B$90,2)))","v":""},null,{"$f":"IF(ISBLANK(K88),\"\",IF(VALUE(K88)>89,1,VLOOKUP(VALUE(K88),List2!$A$1:'List2'!$B$90,2)))","v":""},null,{"$f":"IF(ISBLANK(M88),\"\",IF(VALUE(M88)>89,1,VLOOKUP(VALUE(M88),List2!$A$1:'List2'!$B$90,2)))","v":""},null,{"$f":"IF(ISBLANK(O88),\"\",IF(VALUE(O88)>89,1,VLOOKUP(VALUE(O88),List2!$A$1:'List2'!$B$90,2)))","v":""},null,{"$f":"IF(ISBLANK(Q88),\"\",IF(VALUE(Q88)>89,1,VLOOKUP(VALUE(Q88),List2!$A$1:'List2'!$B$90,2)))","v":""},null,{"$f":"IF(ISBLANK(S88),\"\",IF(VALUE(S88)>89,1,VLOOKUP(VALUE(S88),List2!$A$1:'List2'!$B$90,2)))","v":""},null,{"$f":"IF(ISBLANK(U88),\"\",IF(VALUE(U88)>89,1,VLOOKUP(VALUE(U88),List2!$A$1:'List2'!$B$90,2)))","v":""},null,{"$f":"IF(ISBLANK(W88),\"\",IF(VALUE(W88)>89,1,VLOOKUP(VALUE(W88),List2!$A$1:'List2'!$B$90,2)))","v":""},null,{"$f":"IF(ISBLANK(Y88),\"\",IF(VALUE(Y88)>89,1,VLOOKUP(VALUE(Y88),List2!$A$1:'List2'!$B$90,2)))","v":""},null,{"$f":"IF(ISBLANK(AA88),\"\",IF(VALUE(AA88)>89,1,VLOOKUP(VALUE(AA88),List2!$A$1:'List2'!$B$90,2)))","v":""},null,{"$f":"IF(ISBLANK(AC88),\"\",IF(VALUE(AC88)>89,1,VLOOKUP(VALUE(AC88),List2!$A$1:'List2'!$B$90,2)))","v":""},null,{"$f":"IF(ISBLANK(AE88),\"\",IF(VALUE(AE88)>89,1,VLOOKUP(VALUE(AE88),List2!$A$1:'List2'!$B$90,2)))","v":""},null,{"$f":"IF(ISBLANK(AG88),\"\",IF(VALUE(AG88)>89,1,VLOOKUP(VALUE(AG88),List2!$A$1:'List2'!$B$90,2)))","v":""},null,{"$f":"IF(ISBLANK(AI88),\"\",IF(VALUE(AI88)>89,1,VLOOKUP(VALUE(AI88),List2!$A$1:'List2'!$B$90,2)))","v":""},null,{"$f":"IF(ISBLANK(AK88),\"\",IF(VALUE(AK88)>89,1,VLOOKUP(VALUE(AK88),List2!$A$1:'List2'!$B$90,2)))","v":""},null,{"$f":"IF(ISBLANK(AM88),\"\",IF(VALUE(AM88)>89,1,VLOOKUP(VALUE(AM88),List2!$A$1:'List2'!$B$90,2)))","v":""},null,0]
["",null,"","",null,{"$f":"IF(ISBLANK(E89),\"\",IF(VALUE(E89)>89,1,VLOOKUP(VALUE(E89),List2!$A$1:'List2'!$B$90,2)))","v":""},null,{"$f":"IF(ISBLANK(G89),\"\",IF(VALUE(G89)>89,1,VLOOKUP(VALUE(G89),List2!$A$1:'List2'!$B$90,2)))","v":""},null,{"$f":"IF(ISBLANK(I89),\"\",IF(VALUE(I89)>89,1,VLOOKUP(VALUE(I89),List2!$A$1:'List2'!$B$90,2)))","v":""},null,{"$f":"IF(ISBLANK(K89),\"\",IF(VALUE(K89)>89,1,VLOOKUP(VALUE(K89),List2!$A$1:'List2'!$B$90,2)))","v":""},null,{"$f":"IF(ISBLANK(M89),\"\",IF(VALUE(M89)>89,1,VLOOKUP(VALUE(M89),List2!$A$1:'List2'!$B$90,2)))","v":""},null,{"$f":"IF(ISBLANK(O89),\"\",IF(VALUE(O89)>89,1,VLOOKUP(VALUE(O89),List2!$A$1:'List2'!$B$90,2)))","v":""},null,{"$f":"IF(ISBLANK(Q89),\"\",IF(VALUE(Q89)>89,1,VLOOKUP(VALUE(Q89),List2!$A$1:'List2'!$B$90,2)))","v":""},null,{"$f":"IF(ISBLANK(S89),\"\",IF(VALUE(S89)>89,1,VLOOKUP(VALUE(S89),List2!$A$1:'List2'!$B$90,2)))","v":""},null,{"$f":"IF(ISBLANK(U89),\"\",IF(VALUE(U89)>89,1,VLOOKUP(VALUE(U89),List2!$A$1:'List2'!$B$90,2)))","v":""},null,{"$f":"IF(ISBLANK(W89),\"\",IF(VALUE(W89)>89,1,VLOOKUP(VALUE(W89),List2!$A$1:'List2'!$B$90,2)))","v":""},null,{"$f":"IF(ISBLANK(Y89),\"\",IF(VALUE(Y89)>89,1,VLOOKUP(VALUE(Y89),List2!$A$1:'List2'!$B$90,2)))","v":""},null,{"$f":"IF(ISBLANK(AA89),\"\",IF(VALUE(AA89)>89,1,VLOOKUP(VALUE(AA89),List2!$A$1:'List2'!$B$90,2)))","v":""},null,{"$f":"IF(ISBLANK(AC89),\"\",IF(VALUE(AC89)>89,1,VLOOKUP(VALUE(AC89),List2!$A$1:'List2'!$B$90,2)))","v":""},null,{"$f":"IF(ISBLANK(AE89),\"\",IF(VALUE(AE89)>89,1,VLOOKUP(VALUE(AE89),List2!$A$1:'List2'!$B$90,2)))","v":""},null,{"$f":"IF(ISBLANK(AG89),\"\",IF(VALUE(AG89)>89,1,VLOOKUP(VALUE(AG89),List2!$A$1:'List2'!$B$90,2)))","v":""},null,{"$f":"IF(ISBLANK(AI89),\"\",IF(VALUE(AI89)>89,1,VLOOKUP(VALUE(AI89),List2!$A$1:'List2'!$B$90,2)))","v":""},null,{"$f":"IF(ISBLANK(AK89),\"\",IF(VALUE(AK89)>89,1,VLOOKUP(VALUE(AK89),List2!$A$1:'List2'!$B$90,2)))","v":""},null,{"$f":"IF(ISBLANK(AM89),\"\",IF(VALUE(AM89)>89,1,VLOOKUP(VALUE(AM89),List2!$A$1:'List2'!$B$90,2)))","v":""},null,0]
["",null,"","",null,{"$f":"IF(ISBLANK(E90),\"\",IF(VALUE(E90)>89,1,VLOOKUP(VALUE(E90),List2!$A$1:'List2'!$B$90,2)))","v":""},null,{"$f":"IF(ISBLANK(G90),\"\",IF(VALUE(G90)>89,1,VLOOKUP(VALUE(G90),List2!$A$1:'List2'!$B$90,2)))","v":""},null,{"$f":"IF(ISBLANK(I90),\"\",IF(VALUE(I90)>89,1,VLOOKUP(VALUE(I90),List2!$A$1:'List2'!$B$90,2)))","v":""},null,{"$f":"IF(ISBLANK(K90),\"\",IF(VALUE(K90)>89,1,VLOOKUP(VALUE(K90),List2!$A$1:'List2'!$B$90,2)))","v":""},null,{"$f":"IF(ISBLANK(M90),\"\",IF(VALUE(M90)>89,1,VLOOKUP(VALUE(M90),List2!$A$1:'List2'!$B$90,2)))","v":""},null,{"$f":"IF(ISBLANK(O90),\"\",IF(VALUE(O90)>89,1,VLOOKUP(VALUE(O90),List2!$A$1:'List2'!$B$90,2)))","v":""},null,{"$f":"IF(ISBLANK(Q90),\"\",IF(VALUE(Q90)>89,1,VLOOKUP(VALUE(Q90),List2!$A$1:'List2'!$B$90,2)))","v":""},null,{"$f":"IF(ISBLANK(S90),\"\",IF(VALUE(S90)>89,1,VLOOKUP(VALUE(S90),List2!$A$1:'List2'!$B$90,2)))","v":""},null,{"$f":"IF(ISBLANK(U90),\"\",IF(VALUE(U90)>89,1,VLOOKUP(VALUE(U90),List2!$A$1:'List2'!$B$90,2)))","v":""},null,{"$f":"IF(ISBLANK(W90),\"\",IF(VALUE(W90)>89,1,VLOOKUP(VALUE(W90),List2!$A$1:'List2'!$B$90,2)))","v":""},null,{"$f":"IF(ISBLANK(Y90),\"\",IF(VALUE(Y90)>89,1,VLOOKUP(VALUE(Y90),List2!$A$1:'List2'!$B$90,2)))","v":""},null,{"$f":"IF(ISBLANK(AA90),\"\",IF(VALUE(AA90)>89,1,VLOOKUP(VALUE(AA90),List2!$A$1:'List2'!$B$90,2)))","v":""},null,{"$f":"IF(ISBLANK(AC90),\"\",IF(VALUE(AC90)>89,1,VLOOKUP(VALUE(AC90),List2!$A$1:'List2'!$B$90,2)))","v":""},null,{"$f":"IF(ISBLANK(AE90),\"\",IF(VALUE(AE90)>89,1,VLOOKUP(VALUE(AE90),List2!$A$1:'List2'!$B$90,2)))","v":""},null,{"$f":"IF(ISBLANK(AG90),\"\",IF(VALUE(AG90)>89,1,VLOOKUP(VALUE(AG90),List2!$A$1:'List2'!$B$90,2)))","v":""},null,{"$f":"IF(ISBLANK(AI90),\"\",IF(VALUE(AI90)>89,1,VLOOKUP(VALUE(AI90),List2!$A$1:'List2'!$B$90,2)))","v":""},null,{"$f":"IF(ISBLANK(AK90),\"\",IF(VALUE(AK90)>89,1,VLOOKUP(VALUE(AK90),List2!$A$1:'List2'!$B$90,2)))","v":""},null,{"$f":"IF(ISBLANK(AM90),\"\",IF(VALUE(AM90)>89,1,VLOOKUP(VALUE(AM90),List2!$A$1:'List2'!$B$90,2)))","v":""},null,0]
["",null,"","",null,{"$f":"IF(ISBLANK(E91),\"\",IF(VALUE(E91)>89,1,VLOOKUP(VALUE(E91),List2!$A$1:'List2'!$B$90,2)))","v":""},null,{"$f":"IF(ISBLANK(G91),\"\",IF(VALUE(G91)>89,1,VLOOKUP(VALUE(G91),List2!$A$1:'List2'!$B$90,2)))","v":""},null,{"$f":"IF(ISBLANK(I91),\"\",IF(VALUE(I91)>89,1,VLOOKUP(VALUE(I91),List2!$A$1:'List2'!$B$90,2)))","v":""},null,{"$f":"IF(ISBLANK(K91),\"\",IF(VALUE(K91)>89,1,VLOOKUP(VALUE(K91),List2!$A$1:'List2'!$B$90,2)))","v":""},null,{"$f":"IF(ISBLANK(M91),\"\",IF(VALUE(M91)>89,1,VLOOKUP(VALUE(M91),List2!$A$1:'List2'!$B$90,2)))","v":""},null,{"$f":"IF(ISBLANK(O91),\"\",IF(VALUE(O91)>89,1,VLOOKUP(VALUE(O91),List2!$A$1:'List2'!$B$90,2)))","v":""},null,{"$f":"IF(ISBLANK(Q91),\"\",IF(VALUE(Q91)>89,1,VLOOKUP(VALUE(Q91),List2!$A$1:'List2'!$B$90,2)))","v":""},null,{"$f":"IF(ISBLANK(S91),\"\",IF(VALUE(S91)>89,1,VLOOKUP(VALUE(S91),List2!$A$1:'List2'!$B$90,2)))","v":""},null,{"$f":"IF(ISBLANK(U91),\"\",IF(VALUE(U91)>89,1,VLOOKUP(VALUE(U91),List2!$A$1:'List2'!$B$90,2)))","v":""},null,{"$f":"IF(ISBLANK(W91),\"\",IF(VALUE(W91)>89,1,VLOOKUP(VALUE(W91),List2!$A$1:'List2'!$B$90,2)))","v":""},null,{"$f":"IF(ISBLANK(Y91),\"\",IF(VALUE(Y91)>89,1,VLOOKUP(VALUE(Y91),List2!$A$1:'List2'!$B$90,2)))","v":""},null,{"$f":"IF(ISBLANK(AA91),\"\",IF(VALUE(AA91)>89,1,VLOOKUP(VALUE(AA91),List2!$A$1:'List2'!$B$90,2)))","v":""},null,{"$f":"IF(ISBLANK(AC91),\"\",IF(VALUE(AC91)>89,1,VLOOKUP(VALUE(AC91),List2!$A$1:'List2'!$B$90,2)))","v":""},null,{"$f":"IF(ISBLANK(AE91),\"\",IF(VALUE(AE91)>89,1,VLOOKUP(VALUE(AE91),List2!$A$1:'List2'!$B$90,2)))","v":""},null,{"$f":"IF(ISBLANK(AG91),\"\",IF(VALUE(AG91)>89,1,VLOOKUP(VALUE(AG91),List2!$A$1:'List2'!$B$90,2)))","v":""},null,{"$f":"IF(ISBLANK(AI91),\"\",IF(VALUE(AI91)>89,1,VLOOKUP(VALUE(AI91),List2!$A$1:'List2'!$B$90,2)))","v":""},null,{"$f":"IF(ISBLANK(AK91),\"\",IF(VALUE(AK91)>89,1,VLOOKUP(VALUE(AK91),List2!$A$1:'List2'!$B$90,2)))","v":""},null,{"$f":"IF(ISBLANK(AM91),\"\",IF(VALUE(AM91)>89,1,VLOOKUP(VALUE(AM91),List2!$A$1:'List2'!$B$90,2)))","v":""},null,0]
["",null,"","",null,{"$f":"IF(ISBLANK(E92),\"\",IF(VALUE(E92)>89,1,VLOOKUP(VALUE(E92),List2!$A$1:'List2'!$B$90,2)))","v":""},null,{"$f":"IF(ISBLANK(G92),\"\",IF(VALUE(G92)>89,1,VLOOKUP(VALUE(G92),List2!$A$1:'List2'!$B$90,2)))","v":""},null,{"$f":"IF(ISBLANK(I92),\"\",IF(VALUE(I92)>89,1,VLOOKUP(VALUE(I92),List2!$A$1:'List2'!$B$90,2)))","v":""},null,{"$f":"IF(ISBLANK(K92),\"\",IF(VALUE(K92)>89,1,VLOOKUP(VALUE(K92),List2!$A$1:'List2'!$B$90,2)))","v":""},null,{"$f":"IF(ISBLANK(M92),\"\",IF(VALUE(M92)>89,1,VLOOKUP(VALUE(M92),List2!$A$1:'List2'!$B$90,2)))","v":""},null,{"$f":"IF(ISBLANK(O92),\"\",IF(VALUE(O92)>89,1,VLOOKUP(VALUE(O92),List2!$A$1:'List2'!$B$90,2)))","v":""},null,{"$f":"IF(ISBLANK(Q92),\"\",IF(VALUE(Q92)>89,1,VLOOKUP(VALUE(Q92),List2!$A$1:'List2'!$B$90,2)))","v":""},null,{"$f":"IF(ISBLANK(S92),\"\",IF(VALUE(S92)>89,1,VLOOKUP(VALUE(S92),List2!$A$1:'List2'!$B$90,2)))","v":""},null,{"$f":"IF(ISBLANK(U92),\"\",IF(VALUE(U92)>89,1,VLOOKUP(VALUE(U92),List2!$A$1:'List2'!$B$90,2)))","v":""},null,{"$f":"IF(ISBLANK(W92),\"\",IF(VALUE(W92)>89,1,VLOOKUP(VALUE(W92),List2!$A$1:'List2'!$B$90,2)))","v":""},null,{"$f":"IF(ISBLANK(Y92),\"\",IF(VALUE(Y92)>89,1,VLOOKUP(VALUE(Y92),List2!$A$1:'List2'!$B$90,2)))","v":""},null,{"$f":"IF(ISBLANK(AA92),\"\",IF(VALUE(AA92)>89,1,VLOOKUP(VALUE(AA92),List2!$A$1:'List2'!$B$90,2)))","v":""},null,{"$f":"IF(ISBLANK(AC92),\"\",IF(VALUE(AC92)>89,1,VLOOKUP(VALUE(AC92),List2!$A$1:'List2'!$B$90,2)))","v":""},null,{"$f":"IF(ISBLANK(AE92),\"\",IF(VALUE(AE92)>89,1,VLOOKUP(VALUE(AE92),List2!$A$1:'List2'!$B$90,2)))","v":""},null,{"$f":"IF(ISBLANK(AG92),\"\",IF(VALUE(AG92)>89,1,VLOOKUP(VALUE(AG92),List2!$A$1:'List2'!$B$90,2)))","v":""},null,{"$f":"IF(ISBLANK(AI92),\"\",IF(VALUE(AI92)>89,1,VLOOKUP(VALUE(AI92),List2!$A$1:'List2'!$B$90,2)))","v":""},null,{"$f":"IF(ISBLANK(AK92),\"\",IF(VALUE(AK92)>89,1,VLOOKUP(VALUE(AK92),List2!$A$1:'List2'!$B$90,2)))","v":""},null,{"$f":"IF(ISBLANK(AM92),\"\",IF(VALUE(AM92)>89,1,VLOOKUP(VALUE(AM92),List2!$A$1:'List2'!$B$90,2)))","v":""},null,0]
["",null,"","",null,{"$f":"IF(ISBLANK(E93),\"\",IF(VALUE(E93)>89,1,VLOOKUP(VALUE(E93),List2!$A$1:'List2'!$B$90,2)))","v":""},null,{"$f":"IF(ISBLANK(G93),\"\",IF(VALUE(G93)>89,1,VLOOKUP(VALUE(G93),List2!$A$1:'List2'!$B$90,2)))","v":""},null,{"$f":"IF(ISBLANK(I93),\"\",IF(VALUE(I93)>89,1,VLOOKUP(VALUE(I93),List2!$A$1:'List2'!$B$90,2)))","v":""},null,{"$f":"IF(ISBLANK(K93),\"\",IF(VALUE(K93)>89,1,VLOOKUP(VALUE(K93),List2!$A$1:'List2'!$B$90,2)))","v":""},null,{"$f":"IF(ISBLANK(M93),\"\",IF(VALUE(M93)>89,1,VLOOKUP(VALUE(M93),List2!$A$1:'List2'!$B$90,2)))","v":""},null,{"$f":"IF(ISBLANK(O93),\"\",IF(VALUE(O93)>89,1,VLOOKUP(VALUE(O93),List2!$A$1:'List2'!$B$90,2)))","v":""},null,{"$f":"IF(ISBLANK(Q93),\"\",IF(VALUE(Q93)>89,1,VLOOKUP(VALUE(Q93),List2!$A$1:'List2'!$B$90,2)))","v":""},null,{"$f":"IF(ISBLANK(S93),\"\",IF(VALUE(S93)>89,1,VLOOKUP(VALUE(S93),List2!$A$1:'List2'!$B$90,2)))","v":""},null,{"$f":"IF(ISBLANK(U93),\"\",IF(VALUE(U93)>89,1,VLOOKUP(VALUE(U93),List2!$A$1:'List2'!$B$90,2)))","v":""},null,{"$f":"IF(ISBLANK(W93),\"\",IF(VALUE(W93)>89,1,VLOOKUP(VALUE(W93),List2!$A$1:'List2'!$B$90,2)))","v":""},null,{"$f":"IF(ISBLANK(Y93),\"\",IF(VALUE(Y93)>89,1,VLOOKUP(VALUE(Y93),List2!$A$1:'List2'!$B$90,2)))","v":""},null,{"$f":"IF(ISBLANK(AA93),\"\",IF(VALUE(AA93)>89,1,VLOOKUP(VALUE(AA93),List2!$A$1:'List2'!$B$90,2)))","v":""},null,{"$f":"IF(ISBLANK(AC93),\"\",IF(VALUE(AC93)>89,1,VLOOKUP(VALUE(AC93),List2!$A$1:'List2'!$B$90,2)))","v":""},null,{"$f":"IF(ISBLANK(AE93),\"\",IF(VALUE(AE93)>89,1,VLOOKUP(VALUE(AE93),List2!$A$1:'List2'!$B$90,2)))","v":""},null,{"$f":"IF(ISBLANK(AG93),\"\",IF(VALUE(AG93)>89,1,VLOOKUP(VALUE(AG93),List2!$A$1:'List2'!$B$90,2)))","v":""},null,{"$f":"IF(ISBLANK(AI93),\"\",IF(VALUE(AI93)>89,1,VLOOKUP(VALUE(AI93),List2!$A$1:'List2'!$B$90,2)))","v":""},null,{"$f":"IF(ISBLANK(AK93),\"\",IF(VALUE(AK93)>89,1,VLOOKUP(VALUE(AK93),List2!$A$1:'List2'!$B$90,2)))","v":""},null,{"$f":"IF(ISBLANK(AM93),\"\",IF(VALUE(AM93)>89,1,VLOOKUP(VALUE(AM93),List2!$A$1:'List2'!$B$90,2)))","v":""},null,0]
["",null,"","",null,{"$f":"IF(ISBLANK(E94),\"\",IF(VALUE(E94)>89,1,VLOOKUP(VALUE(E94),List2!$A$1:'List2'!$B$90,2)))","v":""},null,{"$f":"IF(ISBLANK(G94),\"\",IF(VALUE(G94)>89,1,VLOOKUP(VALUE(G94),List2!$A$1:'List2'!$B$90,2)))","v":""},null,{"$f":"IF(ISBLANK(I94),\"\",IF(VALUE(I94)>89,1,VLOOKUP(VALUE(I94),List2!$A$1:'List2'!$B$90,2)))","v":""},null,{"$f":"IF(ISBLANK(K94),\"\",IF(VALUE(K94)>89,1,VLOOKUP(VALUE(K94),List2!$A$1:'List2'!$B$90,2)))","v":""},null,{"$f":"IF(ISBLANK(M94),\"\",IF(VALUE(M94)>89,1,VLOOKUP(VALUE(M94),List2!$A$1:'List2'!$B$90,2)))","v":""},null,{"$f":"IF(ISBLANK(O94),\"\",IF(VALUE(O94)>89,1,VLOOKUP(VALUE(O94),List2!$A$1:'List2'!$B$90,2)))","v":""},null,{"$f":"IF(ISBLANK(Q94),\"\",IF(VALUE(Q94)>89,1,VLOOKUP(VALUE(Q94),List2!$A$1:'List2'!$B$90,2)))","v":""},null,{"$f":"IF(ISBLANK(S94),\"\",IF(VALUE(S94)>89,1,VLOOKUP(VALUE(S94),List2!$A$1:'List2'!$B$90,2)))","v":""},null,{"$f":"IF(ISBLANK(U94),\"\",IF(VALUE(U94)>89,1,VLOOKUP(VALUE(U94),List2!$A$1:'List2'!$B$90,2)))","v":""},null,{"$f":"IF(ISBLANK(W94),\"\",IF(VALUE(W94)>89,1,VLOOKUP(VALUE(W94),List2!$A$1:'List2'!$B$90,2)))","v":""},null,{"$f":"IF(ISBLANK(Y94),\"\",IF(VALUE(Y94)>89,1,VLOOKUP(VALUE(Y94),List2!$A$1:'List2'!$B$90,2)))","v":""},null,{"$f":"IF(ISBLANK(AA94),\"\",IF(VALUE(AA94)>89,1,VLOOKUP(VALUE(AA94),List2!$A$1:'List2'!$B$90,2)))","v":""},null,{"$f":"IF(ISBLANK(AC94),\"\",IF(VALUE(AC94)>89,1,VLOOKUP(VALUE(AC94),List2!$A$1:'List2'!$B$90,2)))","v":""},null,{"$f":"IF(ISBLANK(AE94),\"\",IF(VALUE(AE94)>89,1,VLOOKUP(VALUE(AE94),List2!$A$1:'List2'!$B$90,2)))","v":""},null,{"$f":"IF(ISBLANK(AG94),\"\",IF(VALUE(AG94)>89,1,VLOOKUP(VALUE(AG94),List2!$A$1:'List2'!$B$90,2)))","v":""},null,{"$f":"IF(ISBLANK(AI94),\"\",IF(VALUE(AI94)>89,1,VLOOKUP(VALUE(AI94),List2!$A$1:'List2'!$B$90,2)))","v":""},null,{"$f":"IF(ISBLANK(AK94),\"\",IF(VALUE(AK94)>89,1,VLOOKUP(VALUE(AK94),List2!$A$1:'List2'!$B$90,2)))","v":""},null,{"$f":"IF(ISBLANK(AM94),\"\",IF(VALUE(AM94)>89,1,VLOOKUP(VALUE(AM94),List2!$A$1:'List2'!$B$90,2)))","v":""},null,0]
["",null,"","",null,{"$f":"IF(ISBLANK(E95),\"\",IF(VALUE(E95)>89,1,VLOOKUP(VALUE(E95),List2!$A$1:'List2'!$B$90,2)))","v":""},null,{"$f":"IF(ISBLANK(G95),\"\",IF(VALUE(G95)>89,1,VLOOKUP(VALUE(G95),List2!$A$1:'List2'!$B$90,2)))","v":""},null,{"$f":"IF(ISBLANK(I95),\"\",IF(VALUE(I95)>89,1,VLOOKUP(VALUE(I95),List2!$A$1:'List2'!$B$90,2)))","v":""},null,{"$f":"IF(ISBLANK(K95),\"\",IF(VALUE(K95)>89,1,VLOOKUP(VALUE(K95),List2!$A$1:'List2'!$B$90,2)))","v":""},null,{"$f":"IF(ISBLANK(M95),\"\",IF(VALUE(M95)>89,1,VLOOKUP(VALUE(M95),List2!$A$1:'List2'!$B$90,2)))","v":""},null,{"$f":"IF(ISBLANK(O95),\"\",IF(VALUE(O95)>89,1,VLOOKUP(VALUE(O95),List2!$A$1:'List2'!$B$90,2)))","v":""},null,{"$f":"IF(ISBLANK(Q95),\"\",IF(VALUE(Q95)>89,1,VLOOKUP(VALUE(Q95),List2!$A$1:'List2'!$B$90,2)))","v":""},null,{"$f":"IF(ISBLANK(S95),\"\",IF(VALUE(S95)>89,1,VLOOKUP(VALUE(S95),List2!$A$1:'List2'!$B$90,2)))","v":""},null,{"$f":"IF(ISBLANK(U95),\"\",IF(VALUE(U95)>89,1,VLOOKUP(VALUE(U95),List2!$A$1:'List2'!$B$90,2)))","v":""},null,{"$f":"IF(ISBLANK(W95),\"\",IF(VALUE(W95)>89,1,VLOOKUP(VALUE(W95),List2!$A$1:'List2'!$B$90,2)))","v":""},null,{"$f":"IF(ISBLANK(Y95),\"\",IF(VALUE(Y95)>89,1,VLOOKUP(VALUE(Y95),List2!$A$1:'List2'!$B$90,2)))","v":""},null,{"$f":"IF(ISBLANK(AA95),\"\",IF(VALUE(AA95)>89,1,VLOOKUP(VALUE(AA95),List2!$A$1:'List2'!$B$90,2)))","v":""},null,{"$f":"IF(ISBLANK(AC95),\"\",IF(VALUE(AC95)>89,1,VLOOKUP(VALUE(AC95),List2!$A$1:'List2'!$B$90,2)))","v":""},null,{"$f":"IF(ISBLANK(AE95),\"\",IF(VALUE(AE95)>89,1,VLOOKUP(VALUE(AE95),List2!$A$1:'List2'!$B$90,2)))","v":""},null,{"$f":"IF(ISBLANK(AG95),\"\",IF(VALUE(AG95)>89,1,VLOOKUP(VALUE(AG95),List2!$A$1:'List2'!$B$90,2)))","v":""},null,{"$f":"IF(ISBLANK(AI95),\"\",IF(VALUE(AI95)>89,1,VLOOKUP(VALUE(AI95),List2!$A$1:'List2'!$B$90,2)))","v":""},null,{"$f":"IF(ISBLANK(AK95),\"\",IF(VALUE(AK95)>89,1,VLOOKUP(VALUE(AK95),List2!$A$1:'List2'!$B$90,2)))","v":""},null,{"$f":"IF(ISBLANK(AM95),\"\",IF(VALUE(AM95)>89,1,VLOOKUP(VALUE(AM95),List2!$A$1:'List2'!$B$90,2)))","v":""},null,0]
["",null,"","",null,{"$f":"IF(ISBLANK(E96),\"\",IF(VALUE(E96)>89,1,VLOOKUP(VALUE(E96),List2!$A$1:'List2'!$B$90,2)))","v":""},null,{"$f":"IF(ISBLANK(G96),\"\",IF(VALUE(G96)>89,1,VLOOKUP(VALUE(G96),List2!$A$1:'List2'!$B$90,2)))","v":""},null,{"$f":"IF(ISBLANK(I96),\"\",IF(VALUE(I96)>89,1,VLOOKUP(VALUE(I96),List2!$A$1:'List2'!$B$90,2)))","v":""},null,{"$f":"IF(ISBLANK(K96),\"\",IF(VALUE(K96)>89,1,VLOOKUP(VALUE(K96),List2!$A$1:'List2'!$B$90,2)))","v":""},null,{"$f":"IF(ISBLANK(M96),\"\",IF(VALUE(M96)>89,1,VLOOKUP(VALUE(M96),List2!$A$1:'List2'!$B$90,2)))","v":""},null,{"$f":"IF(ISBLANK(O96),\"\",IF(VALUE(O96)>89,1,VLOOKUP(VALUE(O96),List2!$A$1:'List2'!$B$90,2)))","v":""},null,{"$f":"IF(ISBLANK(Q96),\"\",IF(VALUE(Q96)>89,1,VLOOKUP(VALUE(Q96),List2!$A$1:'List2'!$B$90,2)))","v":""},null,{"$f":"IF(ISBLANK(S96),\"\",IF(VALUE(S96)>89,1,VLOOKUP(VALUE(S96),List2!$A$1:'List2'!$B$90,2)))","v":""},null,{"$f":"IF(ISBLANK(U96),\"\",IF(VALUE(U96)>89,1,VLOOKUP(VALUE(U96),List2!$A$1:'List2'!$B$90,2)))","v":""},null,{"$f":"IF(ISBLANK(W96),\"\",IF(VALUE(W96)>89,1,VLOOKUP(VALUE(W96),List2!$A$1:'List2'!$B$90,2)))","v":""},null,{"$f":"IF(ISBLANK(Y96),\"\",IF(VALUE(Y96)>89,1,VLOOKUP(VALUE(Y96),List2!$A$1:'List2'!$B$90,2)))","v":""},null,{"$f":"IF(ISBLANK(AA96),\"\",IF(VALUE(AA96)>89,1,VLOOKUP(VALUE(AA96),List2!$A$1:'List2'!$B$90,2)))","v":""},null,{"$f":"IF(ISBLANK(AC96),\"\",IF(VALUE(AC96)>89,1,VLOOKUP(VALUE(AC96),List2!$A$1:'List2'!$B$90,2)))","v":""},null,{"$f":"IF(ISBLANK(AE96),\"\",IF(VALUE(AE96)>89,1,VLOOKUP(VALUE(AE96),List2!$A$1:'List2'!$B$90,2)))","v":""},null,{"$f":"IF(ISBLANK(AG96),\"\",IF(VALUE(AG96)>89,1,VLOOKUP(VALUE(AG96),List2!$A$1:'List2'!$B$90,2)))","v":""},null,{"$f":"IF(ISBLANK(AI96),\"\",IF(VALUE(AI96)>89,1,VLOOKUP(VALUE(AI96),List2!$A$1:'List2'!$B$90,2)))","v":""},null,{"$f":"IF(ISBLANK(AK96),\"\",IF(VALUE(AK96)>89,1,VLOOKUP(VALUE(AK96),List2!$A$1:'List2'!$B$90,2)))","v":""},null,{"$f":"IF(ISBLANK(AM96),\"\",IF(VALUE(AM96)>89,1,VLOOKUP(VALUE(AM96),List2!$A$1:'List2'!$B$90,2)))","v":""},null,0]
["",null,"","",null,{"$f":"IF(ISBLANK(E97),\"\",IF(VALUE(E97)>89,1,VLOOKUP(VALUE(E97),List2!$A$1:'List2'!$B$90,2)))","v":""},null,{"$f":"IF(ISBLANK(G97),\"\",IF(VALUE(G97)>89,1,VLOOKUP(VALUE(G97),List2!$A$1:'List2'!$B$90,2)))","v":""},null,{"$f":"IF(ISBLANK(I97),\"\",IF(VALUE(I97)>89,1,VLOOKUP(VALUE(I97),List2!$A$1:'List2'!$B$90,2)))","v":""},null,{"$f":"IF(ISBLANK(K97),\"\",IF(VALUE(K97)>89,1,VLOOKUP(VALUE(K97),List2!$A$1:'List2'!$B$90,2)))","v":""},null,{"$f":"IF(ISBLANK(M97),\"\",IF(VALUE(M97)>89,1,VLOOKUP(VALUE(M97),List2!$A$1:'List2'!$B$90,2)))","v":""},null,{"$f":"IF(ISBLANK(O97),\"\",IF(VALUE(O97)>89,1,VLOOKUP(VALUE(O97),List2!$A$1:'List2'!$B$90,2)))","v":""},null,{"$f":"IF(ISBLANK(Q97),\"\",IF(VALUE(Q97)>89,1,VLOOKUP(VALUE(Q97),List2!$A$1:'List2'!$B$90,2)))","v":""},null,{"$f":"IF(ISBLANK(S97),\"\",IF(VALUE(S97)>89,1,VLOOKUP(VALUE(S97),List2!$A$1:'List2'!$B$90,2)))","v":""},null,{"$f":"IF(ISBLANK(U97),\"\",IF(VALUE(U97)>89,1,VLOOKUP(VALUE(U97),List2!$A$1:'List2'!$B$90,2)))","v":""},null,{"$f":"IF(ISBLANK(W97),\"\",IF(VALUE(W97)>89,1,VLOOKUP(VALUE(W97),List2!$A$1:'List2'!$B$90,2)))","v":""},null,{"$f":"IF(ISBLANK(Y97),\"\",IF(VALUE(Y97)>89,1,VLOOKUP(VALUE(Y97),List2!$A$1:'List2'!$B$90,2)))","v":""},null,{"$f":"IF(ISBLANK(AA97),\"\",IF(VALUE(AA97)>89,1,VLOOKUP(VALUE(AA97),List2!$A$1:'List2'!$B$90,2)))","v":""},null,{"$f":"IF(ISBLANK(AC97),\"\",IF(VALUE(AC97)>89,1,VLOOKUP(VALUE(AC97),List2!$A$1:'List2'!$B$90,2)))","v":""},null,{"$f":"IF(ISBLANK(AE97),\"\",IF(VALUE(AE97)>89,1,VLOOKUP(VALUE(AE97),List2!$A$1:'List2'!$B$90,2)))","v":""},null,{"$f":"IF(ISBLANK(AG97),\"\",IF(VALUE(AG97)>89,1,VLOOKUP(VALUE(AG97),List2!$A$1:'List2'!$B$90,2)))","v":""},null,{"$f":"IF(ISBLANK(AI97),\"\",IF(VALUE(AI97)>89,1,VLOOKUP(VALUE(AI97),List2!$A$1:'List2'!$B$90,2)))","v":""},null,{"$f":"IF(ISBLANK(AK97),\"\",IF(VALUE(AK97)>89,1,VLOOKUP(VALUE(AK97),List2!$A$1:'List2'!$B$90,2)))","v":""},null,{"$f":"IF(ISBLANK(AM97),\"\",IF(VALUE(AM97)>89,1,VLOOKUP(VALUE(AM97),List2!$A$1:'List2'!$B$90,2)))","v":""},null,0]
["",null,"","",null,{"$f":"IF(ISBLANK(E98),\"\",IF(VALUE(E98)>89,1,VLOOKUP(VALUE(E98),List2!$A$1:'List2'!$B$90,2)))","v":""},null,{"$f":"IF(ISBLANK(G98),\"\",IF(VALUE(G98)>89,1,VLOOKUP(VALUE(G98),List2!$A$1:'List2'!$B$90,2)))","v":""},null,{"$f":"IF(ISBLANK(I98),\"\",IF(VALUE(I98)>89,1,VLOOKUP(VALUE(I98),List2!$A$1:'List2'!$B$90,2)))","v":""},null,{"$f":"IF(ISBLANK(K98),\"\",IF(VALUE(K98)>89,1,VLOOKUP(VALUE(K98),List2!$A$1:'List2'!$B$90,2)))","v":""},null,{"$f":"IF(ISBLANK(M98),\"\",IF(VALUE(M98)>89,1,VLOOKUP(VALUE(M98),List2!$A$1:'List2'!$B$90,2)))","v":""},null,{"$f":"IF(ISBLANK(O98),\"\",IF(VALUE(O98)>89,1,VLOOKUP(VALUE(O98),List2!$A$1:'List2'!$B$90,2)))","v":""},null,{"$f":"IF(ISBLANK(Q98),\"\",IF(VALUE(Q98)>89,1,VLOOKUP(VALUE(Q98),List2!$A$1:'List2'!$B$90,2)))","v":""},null,{"$f":"IF(ISBLANK(S98),\"\",IF(VALUE(S98)>89,1,VLOOKUP(VALUE(S98),List2!$A$1:'List2'!$B$90,2)))","v":""},null,{"$f":"IF(ISBLANK(U98),\"\",IF(VALUE(U98)>89,1,VLOOKUP(VALUE(U98),List2!$A$1:'List2'!$B$90,2)))","v":""},null,{"$f":"IF(ISBLANK(W98),\"\",IF(VALUE(W98)>89,1,VLOOKUP(VALUE(W98),List2!$A$1:'List2'!$B$90,2)))","v":""},null,{"$f":"IF(ISBLANK(Y98),\"\",IF(VALUE(Y98)>89,1,VLOOKUP(VALUE(Y98),List2!$A$1:'List2'!$B$90,2)))","v":""},null,{"$f":"IF(ISBLANK(AA98),\"\",IF(VALUE(AA98)>89,1,VLOOKUP(VALUE(AA98),List2!$A$1:'List2'!$B$90,2)))","v":""},null,{"$f":"IF(ISBLANK(AC98),\"\",IF(VALUE(AC98)>89,1,VLOOKUP(VALUE(AC98),List2!$A$1:'List2'!$B$90,2)))","v":""},null,{"$f":"IF(ISBLANK(AE98),\"\",IF(VALUE(AE98)>89,1,VLOOKUP(VALUE(AE98),List2!$A$1:'List2'!$B$90,2)))","v":""},null,{"$f":"IF(ISBLANK(AG98),\"\",IF(VALUE(AG98)>89,1,VLOOKUP(VALUE(AG98),List2!$A$1:'List2'!$B$90,2)))","v":""},null,{"$f":"IF(ISBLANK(AI98),\"\",IF(VALUE(AI98)>89,1,VLOOKUP(VALUE(AI98),List2!$A$1:'List2'!$B$90,2)))","v":""},null,{"$f":"IF(ISBLANK(AK98),\"\",IF(VALUE(AK98)>89,1,VLOOKUP(VALUE(AK98),List2!$A$1:'List2'!$B$90,2)))","v":""},null,{"$f":"IF(ISBLANK(AM98),\"\",IF(VALUE(AM98)>89,1,VLOOKUP(VALUE(AM98),List2!$A$1:'List2'!$B$90,2)))","v":""},null,0]
["",null,"","",null,{"$f":"IF(ISBLANK(E99),\"\",IF(VALUE(E99)>89,1,VLOOKUP(VALUE(E99),List2!$A$1:'List2'!$B$90,2)))","v":""},null,{"$f":"IF(ISBLANK(G99),\"\",IF(VALUE(G99)>89,1,VLOOKUP(VALUE(G99),List2!$A$1:'List2'!$B$90,2)))","v":""},null,{"$f":"IF(ISBLANK(I99),\"\",IF(VALUE(I99)>89,1,VLOOKUP(VALUE(I99),List2!$A$1:'List2'!$B$90,2)))","v":""},null,{"$f":"IF(ISBLANK(K99),\"\",IF(VALUE(K99)>89,1,VLOOKUP(VALUE(K99),List2!$A$1:'List2'!$B$90,2)))","v":""},null,{"$f":"IF(ISBLANK(M99),\"\",IF(VALUE(M99)>89,1,VLOOKUP(VALUE(M99),List2!$A$1:'List2'!$B$90,2)))","v":""},null,{"$f":"IF(ISBLANK(O99),\"\",IF(VALUE(O99)>89,1,VLOOKUP(VALUE(O99),List2!$A$1:'List2'!$B$90,2)))","v":""},null,{"$f":"IF(ISBLANK(Q99),\"\",IF(VALUE(Q99)>89,1,VLOOKUP(VALUE(Q99),List2!$A$1:'List2'!$B$90,2)))","v":""},null,{"$f":"IF(ISBLANK(S99),\"\",IF(VALUE(S99)>89,1,VLOOKUP(VALUE(S99),List2!$A$1:'List2'!$B$90,2)))","v":""},null,{"$f":"IF(ISBLANK(U99),\"\",IF(VALUE(U99)>89,1,VLOOKUP(VALUE(U99),List2!$A$1:'List2'!$B$90,2)))","v":""},null,{"$f":"IF(ISBLANK(W99),\"\",IF(VALUE(W99)>89,1,VLOOKUP(VALUE(W99),List2!$A$1:'List2'!$B$90,2)))","v":""},null,{"$f":"IF(ISBLANK(Y99),\"\",IF(VALUE(Y99)>89,1,VLOOKUP(VALUE(Y99),List2!$A$1:'List2'!$B$90,2)))","v":""},null,{"$f":"IF(ISBLANK(AA99),\"\",IF(VALUE(AA99)>89,1,VLOOKUP(VALUE(AA99),List2!$A$1:'List2'!$B$90,2)))","v":""},null,{"$f":"IF(ISBLANK(AC99),\"\",IF(VALUE(AC99)>89,1,VLOOKUP(VALUE(AC99),List2!$A$1:'List2'!$B$90,2)))","v":""},null,{"$f":"IF(ISBLANK(AE99),\"\",IF(VALUE(AE99)>89,1,VLOOKUP(VALUE(AE99),List2!$A$1:'List2'!$B$90,2)))","v":""},null,{"$f":"IF(ISBLANK(AG99),\"\",IF(VALUE(AG99)>89,1,VLOOKUP(VALUE(AG99),List2!$A$1:'List2'!$B$90,2)))","v":""},null,{"$f":"IF(ISBLANK(AI99),\"\",IF(VALUE(AI99)>89,1,VLOOKUP(VALUE(AI99),List2!$A$1:'List2'!$B$90,2)))","v":""},null,{"$f":"IF(ISBLANK(AK99),\"\",IF(VALUE(AK99)>89,1,VLOOKUP(VALUE(AK99),List2!$A$1:'List2'!$B$90,2)))","v":""},null,{"$f":"IF(ISBLANK(AM99),\"\",IF(VALUE(AM99)>89,1,VLOOKUP(VALUE(AM99),List2!$A$1:'List2'!$B$90,2)))","v":""},null,0]
["",null,"","",null,{"$f":"IF(ISBLANK(E100),\"\",IF(VALUE(E100)>89,1,VLOOKUP(VALUE(E100),List2!$A$1:'List2'!$B$90,2)))","v":""},null,{"$f":"IF(ISBLANK(G100),\"\",IF(VALUE(G100)>89,1,VLOOKUP(VALUE(G100),List2!$A$1:'List2'!$B$90,2)))","v":""},null,{"$f":"IF(ISBLANK(I100),\"\",IF(VALUE(I100)>89,1,VLOOKUP(VALUE(I100),List2!$A$1:'List2'!$B$90,2)))","v":""},null,{"$f":"IF(ISBLANK(K100),\"\",IF(VALUE(K100)>89,1,VLOOKUP(VALUE(K100),List2!$A$1:'List2'!$B$90,2)))","v":""},null,{"$f":"IF(ISBLANK(M100),\"\",IF(VALUE(M100)>89,1,VLOOKUP(VALUE(M100),List2!$A$1:'List2'!$B$90,2)))","v":""},null,{"$f":"IF(ISBLANK(O100),\"\",IF(VALUE(O100)>89,1,VLOOKUP(VALUE(O100),List2!$A$1:'List2'!$B$90,2)))","v":""},null,{"$f":"IF(ISBLANK(Q100),\"\",IF(VALUE(Q100)>89,1,VLOOKUP(VALUE(Q100),List2!$A$1:'List2'!$B$90,2)))","v":""},null,{"$f":"IF(ISBLANK(S100),\"\",IF(VALUE(S100)>89,1,VLOOKUP(VALUE(S100),List2!$A$1:'List2'!$B$90,2)))","v":""},null,{"$f":"IF(ISBLANK(U100),\"\",IF(VALUE(U100)>89,1,VLOOKUP(VALUE(U100),List2!$A$1:'List2'!$B$90,2)))","v":""},null,{"$f":"IF(ISBLANK(W100),\"\",IF(VALUE(W100)>89,1,VLOOKUP(VALUE(W100),List2!$A$1:'List2'!$B$90,2)))","v":""},null,{"$f":"IF(ISBLANK(Y100),\"\",IF(VALUE(Y100)>89,1,VLOOKUP(VALUE(Y100),List2!$A$1:'List2'!$B$90,2)))","v":""},null,{"$f":"IF(ISBLANK(AA100),\"\",IF(VALUE(AA100)>89,1,VLOOKUP(VALUE(AA100),List2!$A$1:'List2'!$B$90,2)))","v":""},null,{"$f":"IF(ISBLANK(AC100),\"\",IF(VALUE(AC100)>89,1,VLOOKUP(VALUE(AC100),List2!$A$1:'List2'!$B$90,2)))","v":""},null,{"$f":"IF(ISBLANK(AE100),\"\",IF(VALUE(AE100)>89,1,VLOOKUP(VALUE(AE100),List2!$A$1:'List2'!$B$90,2)))","v":""},null,{"$f":"IF(ISBLANK(AG100),\"\",IF(VALUE(AG100)>89,1,VLOOKUP(VALUE(AG100),List2!$A$1:'List2'!$B$90,2)))","v":""},null,{"$f":"IF(ISBLANK(AI100),\"\",IF(VALUE(AI100)>89,1,VLOOKUP(VALUE(AI100),List2!$A$1:'List2'!$B$90,2)))","v":""},null,{"$f":"IF(ISBLANK(AK100),\"\",IF(VALUE(AK100)>89,1,VLOOKUP(VALUE(AK100),List2!$A$1:'List2'!$B$90,2)))","v":""},null,{"$f":"IF(ISBLANK(AM100),\"\",IF(VALUE(AM100)>89,1,VLOOKUP(VALUE(AM100),List2!$A$1:'List2'!$B$90,2)))","v":""},null,0]
["",null,"","",null,{"$f":"IF(ISBLANK(E101),\"\",IF(VALUE(E101)>89,1,VLOOKUP(VALUE(E101),List2!$A$1:'List2'!$B$90,2)))","v":""},null,{"$f":"IF(ISBLANK(G101),\"\",IF(VALUE(G101)>89,1,VLOOKUP(VALUE(G101),List2!$A$1:'List2'!$B$90,2)))","v":""},null,{"$f":"IF(ISBLANK(I101),\"\",IF(VALUE(I101)>89,1,VLOOKUP(VALUE(I101),List2!$A$1:'List2'!$B$90,2)))","v":""},null,{"$f":"IF(ISBLANK(K101),\"\",IF(VALUE(K101)>89,1,VLOOKUP(VALUE(K101),List2!$A$1:'List2'!$B$90,2)))","v":""},null,{"$f":"IF(ISBLANK(M101),\"\",IF(VALUE(M101)>89,1,VLOOKUP(VALUE(M101),List2!$A$1:'List2'!$B$90,2)))","v":""},null,{"$f":"IF(ISBLANK(O101),\"\",IF(VALUE(O101)>89,1,VLOOKUP(VALUE(O101),List2!$A$1:'List2'!$B$90,2)))","v":""},null,{"$f":"IF(ISBLANK(Q101),\"\",IF(VALUE(Q101)>89,1,VLOOKUP(VALUE(Q101),List2!$A$1:'List2'!$B$90,2)))","v":""},null,{"$f":"IF(ISBLANK(S101),\"\",IF(VALUE(S101)>89,1,VLOOKUP(VALUE(S101),List2!$A$1:'List2'!$B$90,2)))","v":""},null,{"$f":"IF(ISBLANK(U101),\"\",IF(VALUE(U101)>89,1,VLOOKUP(VALUE(U101),List2!$A$1:'List2'!$B$90,2)))","v":""},null,{"$f":"IF(ISBLANK(W101),\"\",IF(VALUE(W101)>89,1,VLOOKUP(VALUE(W101),List2!$A$1:'List2'!$B$90,2)))","v":""},null,{"$f":"IF(ISBLANK(Y101),\"\",IF(VALUE(Y101)>89,1,VLOOKUP(VALUE(Y101),List2!$A$1:'List2'!$B$90,2)))","v":""},null,{"$f":"IF(ISBLANK(AA101),\"\",IF(VALUE(AA101)>89,1,VLOOKUP(VALUE(AA101),List2!$A$1:'List2'!$B$90,2)))","v":""},null,{"$f":"IF(ISBLANK(AC101),\"\",IF(VALUE(AC101)>89,1,VLOOKUP(VALUE(AC101),List2!$A$1:'List2'!$B$90,2)))","v":""},null,{"$f":"IF(ISBLANK(AE101),\"\",IF(VALUE(AE101)>89,1,VLOOKUP(VALUE(AE101),List2!$A$1:'List2'!$B$90,2)))","v":""},null,{"$f":"IF(ISBLANK(AG101),\"\",IF(VALUE(AG101)>89,1,VLOOKUP(VALUE(AG101),List2!$A$1:'List2'!$B$90,2)))","v":""},null,{"$f":"IF(ISBLANK(AI101),\"\",IF(VALUE(AI101)>89,1,VLOOKUP(VALUE(AI101),List2!$A$1:'List2'!$B$90,2)))","v":""},null,{"$f":"IF(ISBLANK(AK101),\"\",IF(VALUE(AK101)>89,1,VLOOKUP(VALUE(AK101),List2!$A$1:'List2'!$B$90,2)))","v":""},null,{"$f":"IF(ISBLANK(AM101),\"\",IF(VALUE(AM101)>89,1,VLOOKUP(VALUE(AM101),List2!$A$1:'List2'!$B$90,2)))","v":""},null,0]

{"sheet":"List2","index":1,"n_rows":90,"n_cols":2,"rows_kept":90,"cut":false,"hidden":false,"merged":[]}
[1,200]
[2,180]
[3,170]
[4,162]
[5,156]
[6,152]
[7,148]
[8,144]
[9,140]
[10,136]
[11,133]
[12,130]
[13,127]
[14,124]
[15,121]
[16,118]
[17,115]
[18,112]
[19,109]
[20,106]
[21,103]
[22,100]
[23,97]
[24,94]
[25,91]
[26,89]
[27,87]
[28,85]
[29,83]
[30,81]
[31,79]
[32,77]
[33,75]
[34,73]
[35,71]
[36,69]
[37,67]
[38,65]
[39,63]
[40,61]
[41,59]
[42,57]
[43,55]
[44,53]
[45,51]
[46,49]
[47,47]
[48,45]
[49,43]
[50,41]
[51,40]
[52,39]
[53,38]
[54,37]
[55,36]
[56,35]
[57,34]
[58,33]
[59,32]
[60,31]
[61,30]
[62,29]
[63,28]
[64,27]
[65,26]
[66,25]
[67,24]
[68,23]
[69,22]
[70,21]
[71,20]
[72,19]
[73,18]
[74,17]
[75,16]
[76,15]
[77,14]
[78,13]
[79,12]
[80,11]
[81,10]
[82,9]
[83,8]
[84,7]
[85,6]
[86,5]
[87,4]
[88,3]
[89,2]
[90,1]

{"sheet":"List3","index":2,"n_rows":0,"n_cols":0,"rows_kept":0,"cut":false,"hidden":false,"merged":[]}